BEGIN:VCALENDAR
VERSION:2.0
PRODID:-//MeSIP - ECPv6.15.13//NONSGML v1.0//EN
CALSCALE:GREGORIAN
METHOD:PUBLISH
X-ORIGINAL-URL:https://info.mesip.pl
X-WR-CALDESC:Wydarzenia dla MeSIP
REFRESH-INTERVAL;VALUE=DURATION:PT1H
X-Robots-Tag:noindex
X-PUBLISHED-TTL:PT1H
BEGIN:VTIMEZONE
TZID:Europe/Helsinki
BEGIN:DAYLIGHT
TZOFFSETFROM:+0200
TZOFFSETTO:+0300
TZNAME:EEST
DTSTART:20230326T010000
END:DAYLIGHT
BEGIN:STANDARD
TZOFFSETFROM:+0300
TZOFFSETTO:+0200
TZNAME:EET
DTSTART:20231029T010000
END:STANDARD
BEGIN:DAYLIGHT
TZOFFSETFROM:+0200
TZOFFSETTO:+0300
TZNAME:EEST
DTSTART:20240331T010000
END:DAYLIGHT
BEGIN:STANDARD
TZOFFSETFROM:+0300
TZOFFSETTO:+0200
TZNAME:EET
DTSTART:20241027T010000
END:STANDARD
BEGIN:DAYLIGHT
TZOFFSETFROM:+0200
TZOFFSETTO:+0300
TZNAME:EEST
DTSTART:20250330T010000
END:DAYLIGHT
BEGIN:STANDARD
TZOFFSETFROM:+0300
TZOFFSETTO:+0200
TZNAME:EET
DTSTART:20251026T010000
END:STANDARD
END:VTIMEZONE
BEGIN:VEVENT
DTSTART;TZID=Europe/Helsinki:20240419T100000
DTEND;TZID=Europe/Helsinki:20240831T100000
DTSTAMP:20260423T200840
CREATED:20240618T050232Z
LAST-MODIFIED:20251112T210410Z
UID:50183-1713520800-1725098400@info.mesip.pl
SUMMARY:Wystawa o czasach PRL
DESCRIPTION:
URL:https://info.mesip.pl/event/wystawa-o-czasach-prl/
LOCATION:ul. Słupska 62\, ul. Słupska 62   \, Poznań\, Poland
CATEGORIES:Kultura i sztuka
END:VEVENT
BEGIN:VEVENT
DTSTART;VALUE=DATE:20240622
DTEND;VALUE=DATE:20240723
DTSTAMP:20260423T200840
CREATED:20240621T050236Z
LAST-MODIFIED:20251112T210422Z
UID:51212-1719014400-1721692740@info.mesip.pl
SUMMARY:Wakacje 2024 w Gminie Tarnowo Podgórne
DESCRIPTION:Wakacje 2024 w Gminie Tarnowo Podgórne
URL:https://info.mesip.pl/event/wakacje-2024-w-gminie-tarnowo-podgorne/
LOCATION:ul. Ogrodowa 2\, ul. Ogrodowa 2   \, Jankowice\, Poland
CATEGORIES:Kultura i sztuka
END:VEVENT
BEGIN:VEVENT
DTSTART;TZID=Europe/Helsinki:20240629T000000
DTEND;TZID=Europe/Helsinki:20240728T000000
DTSTAMP:20260423T200840
CREATED:20240702T050355Z
LAST-MODIFIED:20251112T210802Z
UID:56883-1719619200-1722124800@info.mesip.pl
SUMMARY:Wystawa prac Arletty Radke
DESCRIPTION:
URL:https://info.mesip.pl/event/wystawa-prac-arletty-radke/
LOCATION:ul. Bramkowa 6\, ul. Bramkowa 6   \, 62-020 Swarzędz\, Poland
CATEGORIES:Kultura i sztuka
END:VEVENT
BEGIN:VEVENT
DTSTART;TZID=Europe/Helsinki:20240701T080000
DTEND;TZID=Europe/Helsinki:20240712T140000
DTSTAMP:20260423T200840
CREATED:20240622T050313Z
LAST-MODIFIED:20251112T210640Z
UID:51809-1719820800-1720792800@info.mesip.pl
SUMMARY:Sportowy początek lata
DESCRIPTION:Sportowy początek lata z Domem Kultury w Stęszewie
URL:https://info.mesip.pl/event/sportowy-poczatek-lata/
LOCATION:ul. Poznańska 22A\, ul. Poznańska 22A   \, Stęszew\, Poland
CATEGORIES:Dla dzieci
END:VEVENT
BEGIN:VEVENT
DTSTART;TZID=Europe/Helsinki:20240701T160000
DTEND;TZID=Europe/Helsinki:20240712T180000
DTSTAMP:20260423T200840
CREATED:20240706T050643Z
LAST-MODIFIED:20251112T210916Z
UID:59203-1719849600-1720807200@info.mesip.pl
SUMMARY:Wakacje na Orliku
DESCRIPTION:
URL:https://info.mesip.pl/event/wakacje-na-orliku/
LOCATION:ul. Podleśna\, ul. Podleśna   \, 62-051 Wiry\, Poland
CATEGORIES:Sport
END:VEVENT
BEGIN:VEVENT
DTSTART;VALUE=DATE:20240704
DTEND;VALUE=DATE:20240705
DTSTAMP:20260423T200840
CREATED:20240703T050414Z
LAST-MODIFIED:20251112T210845Z
UID:57465-1720051200-1720137540@info.mesip.pl
SUMMARY:Pokazy maszyn w Nagradowicach
DESCRIPTION:
URL:https://info.mesip.pl/event/pokazy-maszyn-w-nagradowicach/
LOCATION:   \, Poland
CATEGORIES:Ekologia
END:VEVENT
BEGIN:VEVENT
DTSTART;TZID=Europe/Helsinki:20240705T200000
DTEND;TZID=Europe/Helsinki:20240705T200000
DTSTAMP:20260423T200840
CREATED:20240622T050315Z
LAST-MODIFIED:20251112T210645Z
UID:51815-1720209600-1720209600@info.mesip.pl
SUMMARY:Koncert Letni w Rokietnicy
DESCRIPTION:Koncert Letni – Michał Szpak
URL:https://info.mesip.pl/event/koncert-letni-w-rokietnicy/
LOCATION:Polana Rumpuciowa Rokietnica\, Polana Rumpuciowa Rokietnica   \, Rokietnica\, Poland
CATEGORIES:Kultura i sztuka
END:VEVENT
BEGIN:VEVENT
DTSTART;TZID=Europe/Helsinki:20240706T110000
DTEND;TZID=Europe/Helsinki:20240706T110000
DTSTAMP:20260423T200840
CREATED:20240706T050644Z
LAST-MODIFIED:20251112T210916Z
UID:59206-1720263600-1720263600@info.mesip.pl
SUMMARY:Letnie Bajkowe Soboty
DESCRIPTION:
URL:https://info.mesip.pl/event/letnie-bajkowe-soboty/
LOCATION:ul. Kościelna 37\, ul. Kościelna 37   \, 62-052 Komorniki\, Poland
CATEGORIES:Dla dzieci
END:VEVENT
BEGIN:VEVENT
DTSTART;TZID=Europe/Helsinki:20240706T120000
DTEND;TZID=Europe/Helsinki:20240707T200000
DTSTAMP:20260423T200840
CREATED:20240622T050316Z
LAST-MODIFIED:20251112T210647Z
UID:51819-1720267200-1720382400@info.mesip.pl
SUMMARY:Festiwal Food Trucków
DESCRIPTION:Festiwal Food Trucków
URL:https://info.mesip.pl/event/festiwal-food-truckow/
LOCATION:Polana Rumpuciowa Rokietnica\, Polana Rumpuciowa Rokietnica   \, Rokietnica\, Poland
CATEGORIES:Społeczne
END:VEVENT
BEGIN:VEVENT
DTSTART;TZID=Europe/Helsinki:20240706T190000
DTEND;TZID=Europe/Helsinki:20240706T190000
DTSTAMP:20260423T200840
CREATED:20240621T050252Z
LAST-MODIFIED:20251112T210513Z
UID:51293-1720292400-1720292400@info.mesip.pl
SUMMARY:Buenos Aires - Paris _ New York
DESCRIPTION:
URL:https://info.mesip.pl/event/buenos-aires-paris-_-new-york/
LOCATION:Plac Parkowy 1\, Plac Parkowy 1   \, Skrzynki\, gm. Stęszew\, Poland
CATEGORIES:Kultura i sztuka
END:VEVENT
BEGIN:VEVENT
DTSTART;TZID=Europe/Helsinki:20240707T100000
DTEND;TZID=Europe/Helsinki:20240707T140000
DTSTAMP:20260423T200840
CREATED:20240706T050644Z
LAST-MODIFIED:20251112T210917Z
UID:59209-1720346400-1720360800@info.mesip.pl
SUMMARY:Inauguracja questu „Wśród parkowej przyrody i polodowcowej przygody”
DESCRIPTION:
URL:https://info.mesip.pl/event/inauguracja-questu-wsrod-parkowej-przyrody-i-polodowcowej-przygody/
LOCATION:ul. Skrzynecka\, ul. Skrzynecka   \, Osowa Góra\, Poland
CATEGORIES:Turystyka i rekreacja
END:VEVENT
BEGIN:VEVENT
DTSTART;TZID=Europe/Helsinki:20240707T100000
DTEND;TZID=Europe/Helsinki:20240707T160000
DTSTAMP:20260423T200840
CREATED:20240704T050414Z
LAST-MODIFIED:20251112T210858Z
UID:58053-1720346400-1720368000@info.mesip.pl
SUMMARY:Swarzędzkie Ciuchowisko
DESCRIPTION:
URL:https://info.mesip.pl/event/swarzedzkie-ciuchowisko/
LOCATION:ul. Kosynierów 1\, ul. Kosynierów 1   \, Swarzędz\, Poland
CATEGORIES:Społeczne
END:VEVENT
BEGIN:VEVENT
DTSTART;TZID=Europe/Helsinki:20240707T110000
DTEND;TZID=Europe/Helsinki:20240707T170000
DTSTAMP:20260423T200840
CREATED:20240703T050416Z
LAST-MODIFIED:20251112T210847Z
UID:57474-1720350000-1720371600@info.mesip.pl
SUMMARY:Z wiejskiego stołu
DESCRIPTION:
URL:https://info.mesip.pl/event/z-wiejskiego-stolu/
LOCATION:ul. Dworcowa 5\, ul. Dworcowa 5   \, Szreniawa\, Poland
CATEGORIES:Kultura i sztuka
END:VEVENT
BEGIN:VEVENT
DTSTART;TZID=Europe/Helsinki:20240707T120000
DTEND;TZID=Europe/Helsinki:20240707T190000
DTSTAMP:20260423T200840
CREATED:20240621T050253Z
LAST-MODIFIED:20251112T210518Z
UID:51296-1720353600-1720378800@info.mesip.pl
SUMMARY:Dzień Otwartych Skrzynek
DESCRIPTION:
URL:https://info.mesip.pl/event/dzien-otwartych-skrzynek/
LOCATION:Plac Parkowy 1\, Plac Parkowy 1   \, Skrzynki\, gm. Stęszew\, Poland
CATEGORIES:Kultura i sztuka
END:VEVENT
BEGIN:VEVENT
DTSTART;TZID=Europe/Helsinki:20240707T130000
DTEND;TZID=Europe/Helsinki:20240707T130000
DTSTAMP:20260423T200840
CREATED:20240622T050317Z
LAST-MODIFIED:20251112T210648Z
UID:51825-1720357200-1720357200@info.mesip.pl
SUMMARY:Lusowskie Spotkania Muzyczne: Muzyka srebrnego ekranu
DESCRIPTION:Lusowskie Spotkania Muzyczne: Muzyka srebrnego ekranu
URL:https://info.mesip.pl/event/lusowskie-spotkania-muzyczne-muzyka-srebrnego-ekranu/
LOCATION:ul. Poznanska 2\, ul. Poznanska 2   \, Lusowo\, gmina Tarnowo Podgórne\, Poland
CATEGORIES:Kultura i sztuka
END:VEVENT
BEGIN:VEVENT
DTSTART;TZID=Europe/Helsinki:20240707T180000
DTEND;TZID=Europe/Helsinki:20240707T180000
DTSTAMP:20260423T200840
CREATED:20240628T050350Z
LAST-MODIFIED:20251112T210738Z
UID:54772-1720375200-1720375200@info.mesip.pl
SUMMARY:Letni Festiwal - Soyka
DESCRIPTION:
URL:https://info.mesip.pl/event/letni-festiwal-soyka/
LOCATION:Prowent\, Prowent   \, Kórnik\, Poland
CATEGORIES:Kultura i sztuka
END:VEVENT
BEGIN:VEVENT
DTSTART;TZID=Europe/Helsinki:20240708T100000
DTEND;TZID=Europe/Helsinki:20240712T140000
DTSTAMP:20260423T200840
CREATED:20240628T050348Z
LAST-MODIFIED:20251112T210740Z
UID:54761-1720432800-1720792800@info.mesip.pl
SUMMARY:Wakacyjne Warsztaty Artystyczne w Kórniku
DESCRIPTION:Wakacyjne Warsztaty Artystyczne w KOK 2024
URL:https://info.mesip.pl/event/wakacyjne-warsztaty-artystyczne-w-korniku/
LOCATION:ul. Prowent 6\, ul. Prowent 6   \, Kórnik\, Poland
CATEGORIES:Kultura i sztuka
END:VEVENT
BEGIN:VEVENT
DTSTART;TZID=Europe/Helsinki:20240710T100000
DTEND;TZID=Europe/Helsinki:20240710T130000
DTSTAMP:20260423T200840
CREATED:20240704T050415Z
LAST-MODIFIED:20251112T210901Z
UID:58056-1720605600-1720616400@info.mesip.pl
SUMMARY:Warsztaty plastyczne dla dzieci
DESCRIPTION:
URL:https://info.mesip.pl/event/warsztaty-plastyczne-dla-dzieci/
LOCATION:ul. Ogrodowa 2\, ul. Ogrodowa 2   \, Jankowice\, Poland
CATEGORIES:Dla dzieci
END:VEVENT
BEGIN:VEVENT
DTSTART;TZID=Europe/Helsinki:20240712T120000
DTEND;TZID=Europe/Helsinki:20240714T120000
DTSTAMP:20260423T200841
CREATED:20240706T050645Z
LAST-MODIFIED:20251112T210917Z
UID:59212-1720785600-1720958400@info.mesip.pl
SUMMARY:Na Cysterskim Szlaku
DESCRIPTION:
URL:https://info.mesip.pl/event/na-cysterskim-szlaku/
LOCATION:ul. Dworcowa 16\, ul. Dworcowa 16   \, 73-240 Bierzwnik\, Poland
CATEGORIES:Kultura i sztuka
END:VEVENT
BEGIN:VEVENT
DTSTART;TZID=Europe/Helsinki:20240712T190000
DTEND;TZID=Europe/Helsinki:20240712T190000
DTSTAMP:20260423T200841
CREATED:20240703T050417Z
LAST-MODIFIED:20251112T210849Z
UID:57479-1720810800-1720810800@info.mesip.pl
SUMMARY:Taneczny Piątek
DESCRIPTION:
URL:https://info.mesip.pl/event/taneczny-piatek/
LOCATION:ul. Graniczna\, ul. Graniczna    \, Bolechowo-Osiedle\, Poland
CATEGORIES:Rozrywka
END:VEVENT
BEGIN:VEVENT
DTSTART;VALUE=DATE:20240713
DTEND;VALUE=DATE:20240714
DTSTAMP:20260423T200841
CREATED:20240607T050243Z
LAST-MODIFIED:20251112T210409Z
UID:46493-1720828800-1720915140@info.mesip.pl
SUMMARY:Festiwal BLusowo
DESCRIPTION:Festiwal BLusowo
URL:https://info.mesip.pl/event/festiwal-blusowo/
LOCATION:ul. Poznańska\, ul. Poznańska   \, Lusowo\, gmina Tarnowo Podgórne\, Poland
CATEGORIES:Kultura i sztuka
END:VEVENT
BEGIN:VEVENT
DTSTART;TZID=Europe/Helsinki:20240713T180000
DTEND;TZID=Europe/Helsinki:20240713T180000
DTSTAMP:20260423T200841
CREATED:20240706T050646Z
LAST-MODIFIED:20251112T210918Z
UID:59215-1720893600-1720893600@info.mesip.pl
SUMMARY:Muzyczna NOC ŚWIĘTOJAŃSKA
DESCRIPTION:Muzyczna NOC ŚWIĘTOJAŃSKA
URL:https://info.mesip.pl/event/muzyczna-noc-swietojanska/
LOCATION:ul. Klasztorna 12\, ul. Klasztorna 12   \, 62-010 Pobiedziska\, Poland
CATEGORIES:Kultura i sztuka
END:VEVENT
BEGIN:VEVENT
DTSTART;TZID=Europe/Helsinki:20240714T090000
DTEND;TZID=Europe/Helsinki:20240714T140000
DTSTAMP:20260423T200841
CREATED:20240713T050446Z
LAST-MODIFIED:20251112T210934Z
UID:63317-1720947600-1720965600@info.mesip.pl
SUMMARY:Eko Wyprzedaż Garażowa
DESCRIPTION:Gminna Eko Wyprzedaż Garażowa
URL:https://info.mesip.pl/event/eko-wyprzedaz-garazowa/
LOCATION:ul. Zamkowa 32\, ul. Zamkowa 32   \, 62-020 Swarzędz\, Poland
CATEGORIES:Ekologia
END:VEVENT
BEGIN:VEVENT
DTSTART;TZID=Europe/Helsinki:20240714T123000
DTEND;TZID=Europe/Helsinki:20240714T153000
DTSTAMP:20260423T200841
CREATED:20240704T050417Z
LAST-MODIFIED:20251112T210909Z
UID:58060-1720960200-1720971000@info.mesip.pl
SUMMARY:Sience show w Jankowicach
DESCRIPTION:
URL:https://info.mesip.pl/event/sience-show-w-jankowicach/
LOCATION:ul. Ogrodowa 2\, ul. Ogrodowa 2   \, Jankowice\, Poland
CATEGORIES:Edukacja
END:VEVENT
BEGIN:VEVENT
DTSTART;TZID=Europe/Helsinki:20240714T160000
DTEND;TZID=Europe/Helsinki:20240714T160000
DTSTAMP:20260423T200841
CREATED:20240710T050433Z
LAST-MODIFIED:20251112T210924Z
UID:61524-1720972800-1720972800@info.mesip.pl
SUMMARY:Koncert Sweet Band w Skrzynkach
DESCRIPTION:
URL:https://info.mesip.pl/event/koncert-sweet-band-w-skrzynkach/
LOCATION:Plac Parkowy 1\, Plac Parkowy 1   \, Skrzynki\, gm. Stęszew\, Poland
CATEGORIES:Kultura i sztuka
END:VEVENT
BEGIN:VEVENT
DTSTART;TZID=Europe/Helsinki:20240714T190000
DTEND;TZID=Europe/Helsinki:20240714T190000
DTSTAMP:20260423T200841
CREATED:20240706T050646Z
LAST-MODIFIED:20251112T210918Z
UID:59218-1720983600-1720983600@info.mesip.pl
SUMMARY:Recital Gitarowy Andrzej Grygier
DESCRIPTION:
URL:https://info.mesip.pl/event/recital-gitarowy-andrzej-grygier/
LOCATION:ul. Dworcowa 4\, ul. Dworcowa 4   \, 62-010 Pobiedziska\, Poland
CATEGORIES:Kultura i sztuka
END:VEVENT
BEGIN:VEVENT
DTSTART;TZID=Europe/Helsinki:20240715T000000
DTEND;TZID=Europe/Helsinki:20240719T000000
DTSTAMP:20260423T200841
CREATED:20240622T050310Z
LAST-MODIFIED:20251112T210654Z
UID:51794-1721001600-1721347200@info.mesip.pl
SUMMARY:Letnie półkolonie w Luboniu
DESCRIPTION:Letnie półkolonie
URL:https://info.mesip.pl/event/letnie-polkolonie-w-luboniu/
LOCATION:ul. Jana III Sobieskiego 97\, ul. Jana III Sobieskiego 97   \, Luboń\, Poland
CATEGORIES:Dla dzieci
END:VEVENT
BEGIN:VEVENT
DTSTART;TZID=Europe/Helsinki:20240716T000000
DTEND;TZID=Europe/Helsinki:20241020T000000
DTSTAMP:20260423T200841
CREATED:20240711T050443Z
LAST-MODIFIED:20251112T210929Z
UID:62132-1721088000-1729382400@info.mesip.pl
SUMMARY:Wystawa czasowa: "Gatunki inwazyjne w faunie Polski"
DESCRIPTION:
URL:https://info.mesip.pl/event/wystawa-czasowa-gatunki-inwazyjne-w-faunie-polski/
LOCATION:ul. Akacjowa 12\, ul. Akacjowa 12   \, 62-006 Uzarzewo\, Poland
CATEGORIES:Edukacja
END:VEVENT
BEGIN:VEVENT
DTSTART;TZID=Europe/Helsinki:20240717T100000
DTEND;TZID=Europe/Helsinki:20240717T100000
DTSTAMP:20260423T200841
CREATED:20240710T050434Z
LAST-MODIFIED:20251112T210925Z
UID:61527-1721210400-1721210400@info.mesip.pl
SUMMARY:Bieg Kolorów
DESCRIPTION:
URL:https://info.mesip.pl/event/bieg-kolorow/
LOCATION:ul. Szkolna 9\, ul. Szkolna 9   \, 62-025 Siekierki Wielkie\, Poland
CATEGORIES:Dla dzieci
END:VEVENT
BEGIN:VEVENT
DTSTART;TZID=Europe/Helsinki:20240717T110000
DTEND;TZID=Europe/Helsinki:20240717T130000
DTSTAMP:20260423T200841
CREATED:20240702T050357Z
LAST-MODIFIED:20251112T210813Z
UID:56894-1721214000-1721221200@info.mesip.pl
SUMMARY:Letnia Dyskoteka dla Seniorów
DESCRIPTION:Centrum Usług Społecznych serdecznie zaprasza swarzędzkich seniorów na Letnią dyskotekę\, która odbędzie się 17 lipca w godz.: 11:00 – 13:00 pod namiotem przy pływalni “Wodny Raj”\, ul. Kosynierów 1 w Swarzędzu.\nWstęp wolny. Zapraszamy!
URL:https://info.mesip.pl/event/letnia-dyskoteka-dla-seniorow/
LOCATION:ul. Kosynirów 1\, ul. Kosynirów 1   \, 62-020 Swarzędz\, Poland
CATEGORIES:Dla seniora
END:VEVENT
END:VCALENDAR