BEGIN:VCALENDAR
VERSION:2.0
PRODID:-//MeSIP - ECPv6.15.13//NONSGML v1.0//EN
CALSCALE:GREGORIAN
METHOD:PUBLISH
X-WR-CALNAME:MeSIP
X-ORIGINAL-URL:https://info.mesip.pl
X-WR-CALDESC:Wydarzenia dla MeSIP
REFRESH-INTERVAL;VALUE=DURATION:PT1H
X-Robots-Tag:noindex
X-PUBLISHED-TTL:PT1H
BEGIN:VTIMEZONE
TZID:Europe/Helsinki
BEGIN:DAYLIGHT
TZOFFSETFROM:+0200
TZOFFSETTO:+0300
TZNAME:EEST
DTSTART:20220327T010000
END:DAYLIGHT
BEGIN:STANDARD
TZOFFSETFROM:+0300
TZOFFSETTO:+0200
TZNAME:EET
DTSTART:20221030T010000
END:STANDARD
BEGIN:DAYLIGHT
TZOFFSETFROM:+0200
TZOFFSETTO:+0300
TZNAME:EEST
DTSTART:20230326T010000
END:DAYLIGHT
BEGIN:STANDARD
TZOFFSETFROM:+0300
TZOFFSETTO:+0200
TZNAME:EET
DTSTART:20231029T010000
END:STANDARD
BEGIN:DAYLIGHT
TZOFFSETFROM:+0200
TZOFFSETTO:+0300
TZNAME:EEST
DTSTART:20240331T010000
END:DAYLIGHT
BEGIN:STANDARD
TZOFFSETFROM:+0300
TZOFFSETTO:+0200
TZNAME:EET
DTSTART:20241027T010000
END:STANDARD
BEGIN:DAYLIGHT
TZOFFSETFROM:+0200
TZOFFSETTO:+0300
TZNAME:EEST
DTSTART:20250330T010000
END:DAYLIGHT
BEGIN:STANDARD
TZOFFSETFROM:+0300
TZOFFSETTO:+0200
TZNAME:EET
DTSTART:20251026T010000
END:STANDARD
END:VTIMEZONE
BEGIN:VEVENT
DTSTART;VALUE=DATE:20231028
DTEND;VALUE=DATE:20240101
DTSTAMP:20260424T051512
CREATED:20240112T072618Z
LAST-MODIFIED:20240502T050016Z
UID:19081-1698451200-1704067140@info.mesip.pl
SUMMARY:Rogalin - wystawa
DESCRIPTION:
URL:https://info.mesip.pl/event/rogalin-wystawa/
LOCATION:Plac Parkowy 1\, Plac Parkowy 1   \, Skrzynki\, gm. Stęszew\, Poland
CATEGORIES:Kultura i sztuka
END:VEVENT
BEGIN:VEVENT
DTSTART;TZID=Europe/Helsinki:20231107T101500
DTEND;TZID=Europe/Helsinki:20240430T101500
DTSTAMP:20260424T051512
CREATED:20240112T072618Z
LAST-MODIFIED:20251222T222304Z
UID:19084-1699352100-1714472100@info.mesip.pl
SUMMARY:Wystawa - Nigdy Wojny
DESCRIPTION:Muzeum Martyrologiczne w Żabikowie zaprasza na nową wystawę oraz wydarzenia towarzyszące
URL:https://info.mesip.pl/event/wystawa-nigdy-wojny/
LOCATION:ul. Niezłomnych 2\, ul. Niezłomnych 2   \, Luboń\, Poland
CATEGORIES:Społeczne
END:VEVENT
BEGIN:VEVENT
DTSTART;VALUE=DATE:20231118
DTEND;VALUE=DATE:20231223
DTSTAMP:20260424T051512
CREATED:20240112T072646Z
LAST-MODIFIED:20240502T050020Z
UID:19103-1700265600-1703289540@info.mesip.pl
SUMMARY:Jarmark Świąteczny
DESCRIPTION:
URL:https://info.mesip.pl/event/jarmark-swiateczny/
LOCATION:ul. Głogowska 14\, ul. Głogowska 14   \, Poznań\, Poland
CATEGORIES:Rozrywka
END:VEVENT
BEGIN:VEVENT
DTSTART;TZID=Europe/Helsinki:20231127T090000
DTEND;TZID=Europe/Helsinki:20240131T150000
DTSTAMP:20260424T051512
CREATED:20240112T141439Z
LAST-MODIFIED:20251222T222305Z
UID:19600-1701075600-1706713200@info.mesip.pl
SUMMARY:Wystawa z okazji 105 Rocznicy Wybuchu Powstania Wielkopolskiego
DESCRIPTION:Wystawa z okazji 105 Rocznicy Wybuchu Powstania Wielkopolskiego
URL:https://info.mesip.pl/event/wystawa-z-okazji-105-rocznicy-wybuchu-powstania-wielkopolskiego/
LOCATION:Ratusz w Bninie\, Ratusz w Bninie   \, Kórnik\, Poland
CATEGORIES:Kultura i sztuka
END:VEVENT
BEGIN:VEVENT
DTSTART;TZID=Europe/Helsinki:20231202T000000
DTEND;TZID=Europe/Helsinki:20231203T000000
DTSTAMP:20260424T051512
CREATED:20240112T141441Z
LAST-MODIFIED:20240502T050042Z
UID:19606-1701475200-1701561600@info.mesip.pl
SUMMARY:Konkurs Ceramiki i Rzeźby
DESCRIPTION:
URL:https://info.mesip.pl/event/konkurs-ceramiki-i-rzezby/
LOCATION:Rynek 21\, Rynek 21   \, Swarzędz\, Poland
CATEGORIES:Kultura i sztuka
END:VEVENT
BEGIN:VEVENT
DTSTART;TZID=Europe/Helsinki:20231202T093000
DTEND;TZID=Europe/Helsinki:20231202T093000
DTSTAMP:20260424T051512
CREATED:20240112T141441Z
LAST-MODIFIED:20240502T050042Z
UID:19609-1701509400-1701509400@info.mesip.pl
SUMMARY:Turniej w Halowej Piłce Nożnej
DESCRIPTION:Turniej o Puchar Burmistrza Gminy Stęszew w Halowej Piłce Nożnej
URL:https://info.mesip.pl/event/turniej-w-halowej-pilce-noznej/
LOCATION:ul. Poznańska 22A\, ul. Poznańska 22A   \, Stęszew\, Poland
CATEGORIES:Sport
END:VEVENT
BEGIN:VEVENT
DTSTART;TZID=Europe/Helsinki:20231202T100000
DTEND;TZID=Europe/Helsinki:20231202T130000
DTSTAMP:20260424T051512
CREATED:20240112T141522Z
LAST-MODIFIED:20240502T050125Z
UID:19706-1701511200-1701522000@info.mesip.pl
SUMMARY:Kiermasz Świąteczny
DESCRIPTION:
URL:https://info.mesip.pl/event/kiermasz-swiateczny/
LOCATION:ul. Mściszewska 10\, ul. Mściszewska 10   \, Murowana Goślina\, Poland
CATEGORIES:Kultura i sztuka
END:VEVENT
BEGIN:VEVENT
DTSTART;TZID=Europe/Helsinki:20231202T110000
DTEND;TZID=Europe/Helsinki:20231202T110000
DTSTAMP:20260424T051512
CREATED:20240112T141639Z
LAST-MODIFIED:20240502T050121Z
UID:19801-1701514800-1701514800@info.mesip.pl
SUMMARY:Hobby Horse Cup
DESCRIPTION:Wielki finał Hobby Horse Cup
URL:https://info.mesip.pl/event/hobby-horse-cup/
LOCATION:ul. Nowa 15\, ul. Nowa 15   \, 62-080 Tarnowo Podgórne\, Poland
CATEGORIES:Sport
END:VEVENT
BEGIN:VEVENT
DTSTART;TZID=Europe/Helsinki:20231202T150000
DTEND;TZID=Europe/Helsinki:20231202T150000
DTSTAMP:20260424T051512
CREATED:20240112T141523Z
LAST-MODIFIED:20240502T050101Z
UID:19709-1701529200-1701529200@info.mesip.pl
SUMMARY:Mikołajki na Rynku w Puszczykowie
DESCRIPTION:
URL:https://info.mesip.pl/event/mikolajki-na-rynku-w-puszczykowie/
LOCATION:Rynek w Puszczykowie\, Rynek w Puszczykowie   \, Puszczykowo\, Poland
CATEGORIES:Społeczne
END:VEVENT
BEGIN:VEVENT
DTSTART;TZID=Europe/Helsinki:20231202T153000
DTEND;TZID=Europe/Helsinki:20231202T180000
DTSTAMP:20260424T051512
CREATED:20240112T141523Z
LAST-MODIFIED:20240502T050102Z
UID:19715-1701531000-1701540000@info.mesip.pl
SUMMARY:III Konwój Świętego Mikołaja w Czerlejnie
DESCRIPTION:
URL:https://info.mesip.pl/event/iii-konwoj-swietego-mikolaja-w-czerlejnie/
LOCATION:ul. Szkolna 5\, ul. Szkolna 5   \, 62-025 Czerlejno\, Poland
CATEGORIES:Społeczne
END:VEVENT
BEGIN:VEVENT
DTSTART;TZID=Europe/Helsinki:20231202T153000
DTEND;TZID=Europe/Helsinki:20231202T190000
DTSTAMP:20260424T051513
CREATED:20240112T141523Z
LAST-MODIFIED:20240502T050102Z
UID:19712-1701531000-1701543600@info.mesip.pl
SUMMARY:AKWENowa Magia Świąt – jarmark świąteczny
DESCRIPTION:AKWENowa Magia Świąt – jarmark świąteczny
URL:https://info.mesip.pl/event/akwenowa-magia-swiat-jarmark-swiateczny/
LOCATION:ul.  Piłsudskiego 3\, ul.  Piłsudskiego 3   \, Koziegłowy\, Poland
CATEGORIES:Społeczne
END:VEVENT
BEGIN:VEVENT
DTSTART;TZID=Europe/Helsinki:20231202T160000
DTEND;TZID=Europe/Helsinki:20231202T200000
DTSTAMP:20260424T051513
CREATED:20240112T141653Z
LAST-MODIFIED:20240502T050122Z
UID:19804-1701532800-1701547200@info.mesip.pl
SUMMARY:Taneczne Mikołajki w Suchym Lesie
DESCRIPTION:Taneczne Mikołajki w Suchym Lesie
URL:https://info.mesip.pl/event/taneczne-mikolajki-w-suchym-lesie/
LOCATION:ul. Szkolna 16\, ul. Szkolna 16   \, Suchy Las\, Poland
CATEGORIES:Sport
END:VEVENT
BEGIN:VEVENT
DTSTART;TZID=Europe/Helsinki:20231202T170000
DTEND;TZID=Europe/Helsinki:20231202T170000
DTSTAMP:20260424T051513
CREATED:20240112T141525Z
LAST-MODIFIED:20240502T050103Z
UID:19718-1701536400-1701536400@info.mesip.pl
SUMMARY:Dziadek do orzechów
DESCRIPTION:
URL:https://info.mesip.pl/event/dziadek-do-orzechow/
LOCATION:ul. Kostrzyńska 21\, ul. Kostrzyńska 21   \, Pobiedziska\, Poland
CATEGORIES:Kultura i sztuka
END:VEVENT
BEGIN:VEVENT
DTSTART;TZID=Europe/Helsinki:20231202T180000
DTEND;TZID=Europe/Helsinki:20231202T180000
DTSTAMP:20260424T051513
CREATED:20240112T141441Z
LAST-MODIFIED:20240502T050043Z
UID:19612-1701540000-1701540000@info.mesip.pl
SUMMARY:Koncert Gitarą\, nożem i widelcem...
DESCRIPTION:
URL:https://info.mesip.pl/event/koncert-gitara-nozem-i-widelcem/
LOCATION:Plac Parkowy 1\, Plac Parkowy 1   \, Skrzynki\, gm. Stęszew\, Poland
CATEGORIES:Kultura i sztuka
END:VEVENT
BEGIN:VEVENT
DTSTART;TZID=Europe/Helsinki:20231202T180000
DTEND;TZID=Europe/Helsinki:20231202T180000
DTSTAMP:20260424T051513
CREATED:20240112T141441Z
LAST-MODIFIED:20240502T050043Z
UID:19615-1701540000-1701540000@info.mesip.pl
SUMMARY:Koncert Gwiazdkowy z Anią Wyszkoni
DESCRIPTION:Koncert Gwiazdkowy z Anią Wyszkoni
URL:https://info.mesip.pl/event/koncert-gwiazdkowy-z-ania-wyszkoni/
LOCATION:ul. Polna\, ul. Polna   \, Dopiewo\, Poland
CATEGORIES:Rozrywka
END:VEVENT
BEGIN:VEVENT
DTSTART;TZID=Europe/Helsinki:20231202T180000
DTEND;TZID=Europe/Helsinki:20231202T180000
DTSTAMP:20260424T051513
CREATED:20240112T141442Z
LAST-MODIFIED:20240502T050043Z
UID:19618-1701540000-1701540000@info.mesip.pl
SUMMARY:Koncert Świąteczny - Pastorałka od Serca do Ucha
DESCRIPTION:
URL:https://info.mesip.pl/event/koncert-swiateczny-pastoralka-od-serca-do-ucha/
LOCATION:ul. Kołłątaja 1\, ul. Kołłątaja 1   \, Luboń\, Poland
CATEGORIES:Kultura i sztuka
END:VEVENT
BEGIN:VEVENT
DTSTART;TZID=Europe/Helsinki:20231203T100000
DTEND;TZID=Europe/Helsinki:20231203T100000
DTSTAMP:20260424T051513
CREATED:20240112T141443Z
LAST-MODIFIED:20240502T050043Z
UID:19621-1701597600-1701597600@info.mesip.pl
SUMMARY:3 Bieg Mikołajkowy
DESCRIPTION:3 Bieg Mikołajkowy
URL:https://info.mesip.pl/event/3-bieg-mikolajkowy/
LOCATION:ul. Fabryczna\, ul. Fabryczna   \, Pobiedziska\, Poland
CATEGORIES:Sport
END:VEVENT
BEGIN:VEVENT
DTSTART;TZID=Europe/Helsinki:20231203T110000
DTEND;TZID=Europe/Helsinki:20231203T160000
DTSTAMP:20260424T051513
CREATED:20240112T141443Z
LAST-MODIFIED:20240502T050044Z
UID:19624-1701601200-1701619200@info.mesip.pl
SUMMARY:Kiermasz Świąteczny w Stęszewie
DESCRIPTION:Kiermasz Świąteczny w Stęszewie
URL:https://info.mesip.pl/event/kiermasz-swiateczny-w-steszewie/
LOCATION:Rynek\, Rynek   \, Stęszew\, Poland
CATEGORIES:Rozrywka
END:VEVENT
BEGIN:VEVENT
DTSTART;TZID=Europe/Helsinki:20231203T130000
DTEND;TZID=Europe/Helsinki:20231203T130000
DTSTAMP:20260424T051513
CREATED:20240112T141444Z
LAST-MODIFIED:20240502T050045Z
UID:19627-1701608400-1701608400@info.mesip.pl
SUMMARY:Manufaktura skarpet
DESCRIPTION:
URL:https://info.mesip.pl/event/manufaktura-skarpet/
LOCATION:ul. Ogrodowa 2\, ul. Ogrodowa 2   \, Jankowice\, Poland
CATEGORIES:Edukacja
END:VEVENT
BEGIN:VEVENT
DTSTART;TZID=Europe/Helsinki:20231203T140000
DTEND;TZID=Europe/Helsinki:20231203T140000
DTSTAMP:20260424T051513
CREATED:20240112T141708Z
LAST-MODIFIED:20240502T050125Z
UID:19824-1701612000-1701612000@info.mesip.pl
SUMMARY:Mikołajkowy Turniej Strzelecki
DESCRIPTION:
URL:https://info.mesip.pl/event/mikolajkowy-turniej-strzelecki/
LOCATION:Dom nad Stawem w Tulcach\, Dom nad Stawem w Tulcach   \, Tulce\, Poland
CATEGORIES:Sport
END:VEVENT
BEGIN:VEVENT
DTSTART;TZID=Europe/Helsinki:20231203T140000
DTEND;TZID=Europe/Helsinki:20231203T190000
DTSTAMP:20260424T051513
CREATED:20240112T141638Z
LAST-MODIFIED:20240502T050119Z
UID:19797-1701612000-1701630000@info.mesip.pl
SUMMARY:Wawel Truck w Komornikach
DESCRIPTION:
URL:https://info.mesip.pl/event/wawel-truck-w-komornikach/
LOCATION:Kościelna 37\, Kościelna 37   \, Komorniki\, Poland
CATEGORIES:Dla dzieci
END:VEVENT
BEGIN:VEVENT
DTSTART;TZID=Europe/Helsinki:20231203T153000
DTEND;TZID=Europe/Helsinki:20231203T200000
DTSTAMP:20260424T051513
CREATED:20240112T141525Z
LAST-MODIFIED:20240502T050103Z
UID:19721-1701617400-1701633600@info.mesip.pl
SUMMARY:III Czerwonacko-Skocko-Swarzędzki Nocny Rajd Rowerowy
DESCRIPTION:TRASY RAJDU:\n1. SKOCKA\, ok. 30 km* start godz. 15:30 – Targowisko ul. Kościelna w Skokach\,\n2. CZERWONACKA\, ok. 15 km*\, start godz. 16:30 – Plac Przemysława w Owińskach\,\n3. SWARZĘDZKA\, ok. 30 km*\, start godz. 15:30 – Parking przy kościele w Wierzenicy\,\n4. TAJEMNICZA – dowolna z dojazdem na metę na godz. 18:00\,\n* – dystans tras rowerowych 1-3 liczony jest w jedną stronę!\nPowrót we własnym zakresie\n(możliwy powrót pociągiem Kolei Wielkopolskich ze stacji Owińska – 2 km od mety rajdu – Owińska 18:53/19.54 – Skoki 19:24/20:30
URL:https://info.mesip.pl/event/iii-czerwonacko-skocko-swarzedzki-nocny-rajd-rowerowy/
LOCATION:Owińska\, Owińska   \, 62-005 Owińska\, Poland
CATEGORIES:Turystyka i rekreacja
END:VEVENT
BEGIN:VEVENT
DTSTART;TZID=Europe/Helsinki:20231203T160000
DTEND;TZID=Europe/Helsinki:20231203T160000
DTSTAMP:20260424T051513
CREATED:20240112T141638Z
LAST-MODIFIED:20251222T222308Z
UID:19794-1701619200-1701619200@info.mesip.pl
SUMMARY:Wóz Świętego Mikołaja
DESCRIPTION:Wóz św. Mikołaja znów odwiedzi gminę Czerwonak!
URL:https://info.mesip.pl/event/woz-swietego-mikolaja/
LOCATION:   \, Poland
CATEGORIES:Rozrywka
END:VEVENT
BEGIN:VEVENT
DTSTART;TZID=Europe/Helsinki:20231203T163000
DTEND;TZID=Europe/Helsinki:20231203T163000
DTSTAMP:20260424T051513
CREATED:20240112T141525Z
LAST-MODIFIED:20240502T050105Z
UID:19724-1701621000-1701621000@info.mesip.pl
SUMMARY:Kórnicki Mikołaj
DESCRIPTION:
URL:https://info.mesip.pl/event/kornicki-mikolaj/
LOCATION:Plac Niepodległości\, Plac Niepodległości   \, Kórnik\, Poland
CATEGORIES:Sport
END:VEVENT
BEGIN:VEVENT
DTSTART;TZID=Europe/Helsinki:20231203T163000
DTEND;TZID=Europe/Helsinki:20231203T163000
DTSTAMP:20260424T051513
CREATED:20240112T141722Z
LAST-MODIFIED:20240502T050125Z
UID:19827-1701621000-1701621000@info.mesip.pl
SUMMARY:Kórnicki Mikołaj 2023
DESCRIPTION:
URL:https://info.mesip.pl/event/kornicki-mikolaj-2023/
LOCATION:Plac Niepodległości\, Plac Niepodległości   \, Kórnik\, Poland
CATEGORIES:Sport
END:VEVENT
BEGIN:VEVENT
DTSTART;TZID=Europe/Helsinki:20231203T180000
DTEND;TZID=Europe/Helsinki:20231203T180000
DTSTAMP:20260424T051513
CREATED:20240112T141653Z
LAST-MODIFIED:20240502T050122Z
UID:19810-1701626400-1701626400@info.mesip.pl
SUMMARY:„Razem z muzyką”
DESCRIPTION:Zapraszamy na koncert „Razem z muzyką”
URL:https://info.mesip.pl/event/razem-z-muzyka/
LOCATION:Wieniawskiego 1\, Wieniawskiego 1   \, Poznań\, Poland
CATEGORIES:Kultura i sztuka
END:VEVENT
BEGIN:VEVENT
DTSTART;TZID=Europe/Helsinki:20231204T153000
DTEND;TZID=Europe/Helsinki:20231204T153000
DTSTAMP:20260424T051513
CREATED:20240112T141722Z
LAST-MODIFIED:20240502T050126Z
UID:19830-1701703800-1701703800@info.mesip.pl
SUMMARY:Spotkanie z sędzią Anną Marią Wesołowską
DESCRIPTION:Spotkanie z sędzią Anną Marią Wesołowską
URL:https://info.mesip.pl/event/spotkanie-z-sedzia-anna-maria-wesolowska/
LOCATION:ul. Gen. Tadeusza Kutrzeby 3\, ul. Gen. Tadeusza Kutrzeby 3   \, Murowana Goślina\, Poland
CATEGORIES:Społeczne
END:VEVENT
BEGIN:VEVENT
DTSTART;TZID=Europe/Helsinki:20231204T153000
DTEND;TZID=Europe/Helsinki:20231204T183000
DTSTAMP:20260424T051513
CREATED:20240112T141526Z
LAST-MODIFIED:20240502T050105Z
UID:19727-1701703800-1701714600@info.mesip.pl
SUMMARY:Mikołajkowe animacje w Dąbrówce
DESCRIPTION:Mikołajkowe animacje dla dzieci
URL:https://info.mesip.pl/event/mikolajkowe-animacje-w-dabrowce/
LOCATION:ul. Malinowa 41\, ul. Malinowa 41   \, Dąbrówka\, Poland
CATEGORIES:Kultura i sztuka
END:VEVENT
BEGIN:VEVENT
DTSTART;TZID=Europe/Helsinki:20231204T180000
DTEND;TZID=Europe/Helsinki:20231204T193000
DTSTAMP:20260424T051513
CREATED:20240112T141526Z
LAST-MODIFIED:20240502T050107Z
UID:19730-1701712800-1701718200@info.mesip.pl
SUMMARY:Dziadek do Orzechów - Królewski Balet Klasyczny
DESCRIPTION:Dziadek do Orzechów – Królewski Balet Klasyczny
URL:https://info.mesip.pl/event/dziadek-do-orzechow-krolewski-balet-klasyczny/
LOCATION:ul. Ogrodowa 13a\, ul. Ogrodowa 13a   \, Przeźmierowo\, Poland
CATEGORIES:Kultura i sztuka
END:VEVENT
BEGIN:VEVENT
DTSTART;TZID=Europe/Helsinki:20231205T000000
DTEND;TZID=Europe/Helsinki:20231205T000000
DTSTAMP:20260424T051513
CREATED:20230618T140939Z
LAST-MODIFIED:20240502T050045Z
UID:7327-1701734400-1701734400@info.mesip.pl
SUMMARY:Bolechowo na Sportowo
DESCRIPTION:Bolechowo na Sportowo czyli Aktywny Czerwonak Nocą #41
URL:https://info.mesip.pl/event/bolechowo-na-sportowo/
LOCATION:Bolechowo\, Bolechowo   \, Bolechowo\, Poland
CATEGORIES:Turystyka i rekreacja
END:VEVENT
END:VCALENDAR