BEGIN:VCALENDAR
VERSION:2.0
PRODID:-//MeSIP - ECPv6.15.13//NONSGML v1.0//EN
CALSCALE:GREGORIAN
METHOD:PUBLISH
X-ORIGINAL-URL:https://info.mesip.pl
X-WR-CALDESC:Wydarzenia dla MeSIP
REFRESH-INTERVAL;VALUE=DURATION:PT1H
X-Robots-Tag:noindex
X-PUBLISHED-TTL:PT1H
BEGIN:VTIMEZONE
TZID:Europe/Helsinki
BEGIN:DAYLIGHT
TZOFFSETFROM:+0200
TZOFFSETTO:+0300
TZNAME:EEST
DTSTART:20230326T010000
END:DAYLIGHT
BEGIN:STANDARD
TZOFFSETFROM:+0300
TZOFFSETTO:+0200
TZNAME:EET
DTSTART:20231029T010000
END:STANDARD
BEGIN:DAYLIGHT
TZOFFSETFROM:+0200
TZOFFSETTO:+0300
TZNAME:EEST
DTSTART:20240331T010000
END:DAYLIGHT
BEGIN:STANDARD
TZOFFSETFROM:+0300
TZOFFSETTO:+0200
TZNAME:EET
DTSTART:20241027T010000
END:STANDARD
BEGIN:DAYLIGHT
TZOFFSETFROM:+0200
TZOFFSETTO:+0300
TZNAME:EEST
DTSTART:20250330T010000
END:DAYLIGHT
BEGIN:STANDARD
TZOFFSETFROM:+0300
TZOFFSETTO:+0200
TZNAME:EET
DTSTART:20251026T010000
END:STANDARD
END:VTIMEZONE
BEGIN:VEVENT
DTSTART;TZID=Europe/Helsinki:20240716T000000
DTEND;TZID=Europe/Helsinki:20241020T000000
DTSTAMP:20260420T222214
CREATED:20240711T050443Z
LAST-MODIFIED:20251112T210929Z
UID:62132-1721088000-1729382400@info.mesip.pl
SUMMARY:Wystawa czasowa: "Gatunki inwazyjne w faunie Polski"
DESCRIPTION:
URL:https://info.mesip.pl/event/wystawa-czasowa-gatunki-inwazyjne-w-faunie-polski/
LOCATION:ul. Akacjowa 12\, ul. Akacjowa 12   \, 62-006 Uzarzewo\, Poland
CATEGORIES:Edukacja
END:VEVENT
BEGIN:VEVENT
DTSTART;TZID=Europe/Helsinki:20240912T100000
DTEND;TZID=Europe/Helsinki:20240912T130000
DTSTAMP:20260420T222214
CREATED:20240905T050720Z
LAST-MODIFIED:20251112T211245Z
UID:97691-1726135200-1726146000@info.mesip.pl
SUMMARY:Europejskie Dni Dziedzictwa
DESCRIPTION:
URL:https://info.mesip.pl/event/europejskie-dni-dziedzictwa/
LOCATION:Plac Parkowy 1\, Plac Parkowy 1   \, Skrzynki\, gm. Stęszew\, Poland
CATEGORIES:Warsztaty
END:VEVENT
BEGIN:VEVENT
DTSTART;TZID=Europe/Helsinki:20240913T190000
DTEND;TZID=Europe/Helsinki:20240913T190000
DTSTAMP:20260420T222214
CREATED:20240809T050616Z
LAST-MODIFIED:20251112T211123Z
UID:79898-1726254000-1726254000@info.mesip.pl
SUMMARY:Grzegorz Tomczak w Dworze Skrzynki
DESCRIPTION:
URL:https://info.mesip.pl/event/grzegorz-tomczak-w-dworze-skrzynki/
LOCATION:Plac Parkowy 1\, Plac Parkowy 1   \, Skrzynki\, gm. Stęszew\, Poland
CATEGORIES:Kultura i sztuka
END:VEVENT
BEGIN:VEVENT
DTSTART;TZID=Europe/Helsinki:20240914T000000
DTEND;TZID=Europe/Helsinki:20240914T000000
DTSTAMP:20260420T222214
CREATED:20240906T050723Z
LAST-MODIFIED:20251112T211245Z
UID:98412-1726272000-1726272000@info.mesip.pl
SUMMARY:Wystawa Piękne Oblicze Raka
DESCRIPTION:
URL:https://info.mesip.pl/event/wystawa-piekne-oblicze-raka/
LOCATION:Dziewicza Góra 4\, Dziewicza Góra 4   \, Czerwonak\, Poland
CATEGORIES:wystawa
END:VEVENT
BEGIN:VEVENT
DTSTART;TZID=Europe/Helsinki:20240914T100000
DTEND;TZID=Europe/Helsinki:20240914T140000
DTSTAMP:20260420T222214
CREATED:20240810T050621Z
LAST-MODIFIED:20251112T211132Z
UID:80584-1726308000-1726322400@info.mesip.pl
SUMMARY:Biała Sobota w Puszczykowie
DESCRIPTION:
URL:https://info.mesip.pl/event/biala-sobota-w-puszczykowie/
LOCATION:ul. Józefa Ignacego Kraszewskiego 11\, ul. Józefa Ignacego Kraszewskiego 11   \, Puszczykowo\, Poland
CATEGORIES:Zdrowie
END:VEVENT
BEGIN:VEVENT
DTSTART;TZID=Europe/Helsinki:20240915T103000
DTEND;TZID=Europe/Helsinki:20240915T103000
DTSTAMP:20260420T222214
CREATED:20240822T050703Z
LAST-MODIFIED:20251112T211141Z
UID:88544-1726396200-1726396200@info.mesip.pl
SUMMARY:Dożynki Gminne i XIII Wielka Otuska
DESCRIPTION:
URL:https://info.mesip.pl/event/dozynki-gminne-i-xiii-wielka-otuska/
LOCATION:Mury 30\, Mury 30   \, Buk\, Poland
CATEGORIES:Kultura i sztuka
END:VEVENT
BEGIN:VEVENT
DTSTART;TZID=Europe/Helsinki:20240915T120000
DTEND;TZID=Europe/Helsinki:20240915T180000
DTSTAMP:20260420T222214
CREATED:20240904T050713Z
LAST-MODIFIED:20251112T211240Z
UID:96971-1726401600-1726423200@info.mesip.pl
SUMMARY:Festyn w Skrzynkach
DESCRIPTION:
URL:https://info.mesip.pl/event/festyn-w-skrzynkach/
LOCATION:Plac Parkowy 1\, Plac Parkowy 1   \, Skrzynki\, gm. Stęszew\, Poland
CATEGORIES:Piknik
END:VEVENT
BEGIN:VEVENT
DTSTART;TZID=Europe/Helsinki:20240915T120000
DTEND;TZID=Europe/Helsinki:20240915T190000
DTSTAMP:20260420T222214
CREATED:20240822T050705Z
LAST-MODIFIED:20251112T211145Z
UID:88547-1726401600-1726426800@info.mesip.pl
SUMMARY:Skrzynki Pełne Smaków
DESCRIPTION:
URL:https://info.mesip.pl/event/skrzynki-pelne-smakow/
LOCATION:Plac Parkowy 1\, Plac Parkowy 1   \, Skrzynki\, gm. Stęszew\, Poland
CATEGORIES:Piknik
END:VEVENT
BEGIN:VEVENT
DTSTART;TZID=Europe/Helsinki:20240915T130000
DTEND;TZID=Europe/Helsinki:20240915T130000
DTSTAMP:20260420T222214
CREATED:20240829T060710Z
LAST-MODIFIED:20251112T211224Z
UID:93368-1726405200-1726405200@info.mesip.pl
SUMMARY:AtmoSFERA Poezji z Ewą Ziętek
DESCRIPTION:
URL:https://info.mesip.pl/event/atmosfera-poezji-z-ewa-zietek/
LOCATION:ul. Ogrodowa 2\, ul. Ogrodowa 2   \, Jankowice\, Poland
CATEGORIES:Kultura i sztuka
END:VEVENT
BEGIN:VEVENT
DTSTART;TZID=Europe/Helsinki:20240917T180000
DTEND;TZID=Europe/Helsinki:20240917T180000
DTSTAMP:20260420T222214
CREATED:20240911T050740Z
LAST-MODIFIED:20251112T211249Z
UID:102018-1726596000-1726596000@info.mesip.pl
SUMMARY:Koncert w Jankowicach
DESCRIPTION:
URL:https://info.mesip.pl/event/koncert-w-jankowicach/
LOCATION:ul. Ogrodowa 2\, ul. Ogrodowa 2   \, Jankowice\, Poland
CATEGORIES:Kultura i sztuka
END:VEVENT
BEGIN:VEVENT
DTSTART;TZID=Europe/Helsinki:20240920T000000
DTEND;TZID=Europe/Helsinki:20240922T000000
DTSTAMP:20260420T222214
CREATED:20240829T060709Z
LAST-MODIFIED:20251112T211225Z
UID:93365-1726790400-1726963200@info.mesip.pl
SUMMARY:II edycja Poznań Basketball Games
DESCRIPTION:
URL:https://info.mesip.pl/event/ii-edycja-poznan-basketball-games/
LOCATION:ul. Piotrowo 4\, ul. Piotrowo 4   \, 61-138 Poznań\, Poland
CATEGORIES:Sport
END:VEVENT
BEGIN:VEVENT
DTSTART;VALUE=DATE:20240920
DTEND;VALUE=DATE:20240923
DTSTAMP:20260420T222214
CREATED:20240827T050724Z
LAST-MODIFIED:20251112T211203Z
UID:91951-1726790400-1727049540@info.mesip.pl
SUMMARY:Retro Motor Show
DESCRIPTION:
URL:https://info.mesip.pl/event/retro-motor-show/
LOCATION:MTP Poznań\, MTP Poznań   \, Poznań\, Poland
CATEGORIES:Sport
END:VEVENT
BEGIN:VEVENT
DTSTART;TZID=Europe/Helsinki:20240921T080000
DTEND;TZID=Europe/Helsinki:20240921T080000
DTSTAMP:20260420T222214
CREATED:20240921T050837Z
LAST-MODIFIED:20251112T211323Z
UID:109355-1726905600-1726905600@info.mesip.pl
SUMMARY:Europejski Tydzień Mobilności w Czerwonaku
DESCRIPTION:
URL:https://info.mesip.pl/event/europejski-tydzien-mobilnosci-w-czerwonaku/
LOCATION:ul. Plażowa 1\, ul. Plażowa 1   \, Owińska\, Poland
CATEGORIES:Turystyka i rekreacja
END:VEVENT
BEGIN:VEVENT
DTSTART;TZID=Europe/Helsinki:20240921T090000
DTEND;TZID=Europe/Helsinki:20240921T170000
DTSTAMP:20260420T222214
CREATED:20240824T050713Z
LAST-MODIFIED:20251112T211200Z
UID:89909-1726909200-1726938000@info.mesip.pl
SUMMARY:Festiwal\, konferencja i warsztaty
DESCRIPTION:
URL:https://info.mesip.pl/event/festiwal-konferencja-i-warsztaty/
LOCATION:ul. Golęcińska 9\, ul. Golęcińska 9   \, Poznań\, Poland
CATEGORIES:Kultura i sztuka
END:VEVENT
BEGIN:VEVENT
DTSTART;TZID=Europe/Helsinki:20240921T093000
DTEND;TZID=Europe/Helsinki:20240921T093000
DTSTAMP:20260420T222214
CREATED:20240807T050614Z
LAST-MODIFIED:20251112T211116Z
UID:78596-1726911000-1726911000@info.mesip.pl
SUMMARY:Turniej Piłkarski im. Marcina Matysiaka
DESCRIPTION:
URL:https://info.mesip.pl/event/turniej-pilkarski-im-marcina-matysiaka/
LOCATION:ul. Poznańska 26\, ul. Poznańska 26   \, Napachanie\, Poland
CATEGORIES:Sport
END:VEVENT
BEGIN:VEVENT
DTSTART;TZID=Europe/Helsinki:20240921T100000
DTEND;TZID=Europe/Helsinki:20240921T100000
DTSTAMP:20260420T222214
CREATED:20240913T050755Z
LAST-MODIFIED:20251112T211259Z
UID:103476-1726912800-1726912800@info.mesip.pl
SUMMARY:Warsztaty "Z mapą w lesie"
DESCRIPTION:
URL:https://info.mesip.pl/event/warsztaty-z-mapa-w-lesie/
LOCATION:ul. Mieczewska 36\, ul. Mieczewska 36   \, Kamionki\, Poland
CATEGORIES:Dla dzieci
END:VEVENT
BEGIN:VEVENT
DTSTART;TZID=Europe/Helsinki:20240921T100000
DTEND;TZID=Europe/Helsinki:20240921T100000
DTSTAMP:20260420T222214
CREATED:20240919T050823Z
LAST-MODIFIED:20251112T211300Z
UID:107839-1726912800-1726912800@info.mesip.pl
SUMMARY:Przegląd Piosenki Religijnej Anielskie Śpiewogranie
DESCRIPTION:
URL:https://info.mesip.pl/event/przeglad-piosenki-religijnej-anielskie-spiewogranie/
LOCATION:os. Kościuszkowców 3\, os. Kościuszkowców 3   \, Swarzędz\, Poland
CATEGORIES:Dla dzieci
END:VEVENT
BEGIN:VEVENT
DTSTART;TZID=Europe/Helsinki:20240921T100000
DTEND;TZID=Europe/Helsinki:20240921T140000
DTSTAMP:20260420T222214
CREATED:20240829T060711Z
LAST-MODIFIED:20251112T211225Z
UID:93375-1726912800-1726927200@info.mesip.pl
SUMMARY:Festyn Ekologiczny
DESCRIPTION:IX Festyn Ekologiczny
URL:https://info.mesip.pl/event/festyn-ekologiczny/
LOCATION:Plac Niepodległości\, Plac Niepodległości   \, Kórnik\, Poland
CATEGORIES:Piknik
END:VEVENT
BEGIN:VEVENT
DTSTART;TZID=Europe/Helsinki:20240921T100000
DTEND;TZID=Europe/Helsinki:20240921T150000
DTSTAMP:20260420T222214
CREATED:20240921T050838Z
LAST-MODIFIED:20251112T211324Z
UID:109361-1726912800-1726930800@info.mesip.pl
SUMMARY:Piknik Ekologiczny w Pobiedziskach
DESCRIPTION:Jubileuszowy XV Ogólnopolski Edukacyjny Piknik Ekologiczny
URL:https://info.mesip.pl/event/piknik-ekologiczny-w-pobiedziskach/
LOCATION:ul. Gajowa 22\, ul. Gajowa 22   \, 62-010 Pobiedziska\, Poland
CATEGORIES:Ekologia
END:VEVENT
BEGIN:VEVENT
DTSTART;TZID=Europe/Helsinki:20240921T120000
DTEND;TZID=Europe/Helsinki:20240921T120000
DTSTAMP:20260420T222214
CREATED:20240921T050838Z
LAST-MODIFIED:20251112T211325Z
UID:109364-1726920000-1726920000@info.mesip.pl
SUMMARY:Szlakiem Kobiet - gra miejska
DESCRIPTION:
URL:https://info.mesip.pl/event/szlakiem-kobiet-gra-miejska/
LOCATION:Juliusza Słowackiego 1\, Juliusza Słowackiego 1   \, Puszczykowo\, Poland
CATEGORIES:Edukacja
END:VEVENT
BEGIN:VEVENT
DTSTART;TZID=Europe/Helsinki:20240921T140000
DTEND;TZID=Europe/Helsinki:20240921T170000
DTSTAMP:20260420T222214
CREATED:20240920T050836Z
LAST-MODIFIED:20251112T211314Z
UID:108590-1726927200-1726938000@info.mesip.pl
SUMMARY:Sobota w Szreniawie
DESCRIPTION:
URL:https://info.mesip.pl/event/sobota-w-szreniawie/
LOCATION:ul. Dworcowa 5\, ul. Dworcowa 5   \, Szreniawa\, Poland
CATEGORIES:Ekologia
END:VEVENT
BEGIN:VEVENT
DTSTART;TZID=Europe/Helsinki:20240921T160000
DTEND;TZID=Europe/Helsinki:20240921T160000
DTSTAMP:20260420T222214
CREATED:20240921T050838Z
LAST-MODIFIED:20251112T211325Z
UID:109367-1726934400-1726934400@info.mesip.pl
SUMMARY:Festyn dla Zoe w Gowarzewie
DESCRIPTION:
URL:https://info.mesip.pl/event/festyn-dla-zoe-w-gowarzewie/
LOCATION:ul. Rabowicka 2\, ul. Rabowicka 2   \, 63-004 Gowarzewo\, Poland
CATEGORIES:Brak kategorii
END:VEVENT
BEGIN:VEVENT
DTSTART;TZID=Europe/Helsinki:20240921T170000
DTEND;TZID=Europe/Helsinki:20240921T170000
DTSTAMP:20260420T222214
CREATED:20240921T050839Z
LAST-MODIFIED:20251112T211325Z
UID:109370-1726938000-1726938000@info.mesip.pl
SUMMARY:Koncert Wujka Ogórka
DESCRIPTION:Koncert Wujka Ogórka
URL:https://info.mesip.pl/event/koncert-wujka-ogorka/
LOCATION:Skórzewo\, Skórzewo   \, 60-185 Skórzewo\, Poland
CATEGORIES:Kultura i sztuka
END:VEVENT
BEGIN:VEVENT
DTSTART;TZID=Europe/Helsinki:20240921T170000
DTEND;TZID=Europe/Helsinki:20240921T170000
DTSTAMP:20260420T222214
CREATED:20240921T050839Z
LAST-MODIFIED:20251112T211326Z
UID:109373-1726938000-1726938000@info.mesip.pl
SUMMARY:Wykład o historii zakonu i klasztoru cysterek z Owińsk
DESCRIPTION:Wykład o historii zakonu i klasztoru cysterek z Owińsk
URL:https://info.mesip.pl/event/wyklad-o-historii-zakonu-i-klasztoru-cysterek-z-owinsk/
LOCATION:ul. Północna 58\, ul. Północna 58   \, Promnice\, Poland
CATEGORIES:Kultura i sztuka
END:VEVENT
BEGIN:VEVENT
DTSTART;TZID=Europe/Helsinki:20240921T180000
DTEND;TZID=Europe/Helsinki:20240921T180000
DTSTAMP:20260420T222214
CREATED:20240605T050228Z
LAST-MODIFIED:20251112T211328Z
UID:45759-1726941600-1726941600@info.mesip.pl
SUMMARY:"Wanda. Humoreska przekorna" spektakl teatralny
DESCRIPTION:“Wanda. Humoreska przekorna” spektakl teatralny
URL:https://info.mesip.pl/event/wanda-humoreska-przekorna-spektakl-teatralny/
LOCATION:ul. Mściszewska 10\, ul. Mściszewska 10   \, Murowana Goślina\, Poland
CATEGORIES:Kultura i sztuka
END:VEVENT
BEGIN:VEVENT
DTSTART;TZID=Europe/Helsinki:20240921T180000
DTEND;TZID=Europe/Helsinki:20240921T180000
DTSTAMP:20260420T222214
CREATED:20240921T050842Z
LAST-MODIFIED:20251112T211328Z
UID:109377-1726941600-1726941600@info.mesip.pl
SUMMARY:Salon Poezji w Zamku Kórnickim
DESCRIPTION:Salon Poezji w Zamku Kórnickim
URL:https://info.mesip.pl/event/salon-poezji-w-zamku-kornickim/
LOCATION:ul. Zamkowa 5\, ul. Zamkowa 5   \, Kórnik\, Poland
CATEGORIES:Kultura i sztuka
END:VEVENT
BEGIN:VEVENT
DTSTART;VALUE=DATE:20240922
DTEND;VALUE=DATE:20240923
DTSTAMP:20260420T222214
CREATED:20240404T140117Z
LAST-MODIFIED:20251112T210159Z
UID:25013-1726963200-1727049540@info.mesip.pl
SUMMARY:Król Parku 2024
DESCRIPTION:Król Parku 2024
URL:https://info.mesip.pl/event/krol-parku-2024/
LOCATION:Mosina\, Mosina   \, Mosina\, Poland
CATEGORIES:Sport
END:VEVENT
BEGIN:VEVENT
DTSTART;TZID=Europe/Helsinki:20240922T000000
DTEND;TZID=Europe/Helsinki:20240927T000000
DTSTAMP:20260420T222214
CREATED:20240814T050642Z
LAST-MODIFIED:20251112T211133Z
UID:83231-1726963200-1727395200@info.mesip.pl
SUMMARY:Festiwal Filmów Odpowiedzialnych
DESCRIPTION:
URL:https://info.mesip.pl/event/festiwal-filmow-odpowiedzialnych/
LOCATION:ul. Jana Henryka Dąbrowskiego 38\, ul. Jana Henryka Dąbrowskiego 38   \, Poznań\, Poland
CATEGORIES:Kultura i sztuka
END:VEVENT
BEGIN:VEVENT
DTSTART;TZID=Europe/Helsinki:20240922T120000
DTEND;TZID=Europe/Helsinki:20240922T120000
DTSTAMP:20260420T222214
CREATED:20240912T050745Z
LAST-MODIFIED:20251112T211254Z
UID:102746-1727006400-1727006400@info.mesip.pl
SUMMARY:Festyn rodzinny „Skrzynki Pełne Smaku”
DESCRIPTION:
URL:https://info.mesip.pl/event/festyn-rodzinny-skrzynki-pelne-smaku/
LOCATION:Plac Parkowy 1\, Plac Parkowy 1   \, Skrzynki\, gm. Stęszew\, Poland
CATEGORIES:Dla dzieci
END:VEVENT
BEGIN:VEVENT
DTSTART;TZID=Europe/Helsinki:20240922T120000
DTEND;TZID=Europe/Helsinki:20240922T120000
DTSTAMP:20260420T222214
CREATED:20240921T050844Z
LAST-MODIFIED:20251112T211331Z
UID:109387-1727006400-1727006400@info.mesip.pl
SUMMARY:Sucholeska zaDyshka
DESCRIPTION:II Sucholeska zaDyshka
URL:https://info.mesip.pl/event/sucholeska-zadyshka/
LOCATION:ul. Szkolna 20\, ul. Szkolna 20   \, Suchy Las\, Poland
CATEGORIES:Sport
END:VEVENT
END:VCALENDAR