BEGIN:VCALENDAR
VERSION:2.0
PRODID:-//MeSIP - ECPv6.15.13//NONSGML v1.0//EN
CALSCALE:GREGORIAN
METHOD:PUBLISH
X-ORIGINAL-URL:https://info.mesip.pl
X-WR-CALDESC:Wydarzenia dla MeSIP
REFRESH-INTERVAL;VALUE=DURATION:PT1H
X-Robots-Tag:noindex
X-PUBLISHED-TTL:PT1H
BEGIN:VTIMEZONE
TZID:Europe/Helsinki
BEGIN:DAYLIGHT
TZOFFSETFROM:+0200
TZOFFSETTO:+0300
TZNAME:EEST
DTSTART:20230326T010000
END:DAYLIGHT
BEGIN:STANDARD
TZOFFSETFROM:+0300
TZOFFSETTO:+0200
TZNAME:EET
DTSTART:20231029T010000
END:STANDARD
BEGIN:DAYLIGHT
TZOFFSETFROM:+0200
TZOFFSETTO:+0300
TZNAME:EEST
DTSTART:20240331T010000
END:DAYLIGHT
BEGIN:STANDARD
TZOFFSETFROM:+0300
TZOFFSETTO:+0200
TZNAME:EET
DTSTART:20241027T010000
END:STANDARD
BEGIN:DAYLIGHT
TZOFFSETFROM:+0200
TZOFFSETTO:+0300
TZNAME:EEST
DTSTART:20250330T010000
END:DAYLIGHT
BEGIN:STANDARD
TZOFFSETFROM:+0300
TZOFFSETTO:+0200
TZNAME:EET
DTSTART:20251026T010000
END:STANDARD
END:VTIMEZONE
BEGIN:VEVENT
DTSTART;TZID=Europe/Helsinki:20240419T100000
DTEND;TZID=Europe/Helsinki:20240831T100000
DTSTAMP:20260423T201507
CREATED:20240618T050232Z
LAST-MODIFIED:20251112T210410Z
UID:50183-1713520800-1725098400@info.mesip.pl
SUMMARY:Wystawa o czasach PRL
DESCRIPTION:
URL:https://info.mesip.pl/event/wystawa-o-czasach-prl/
LOCATION:ul. Słupska 62\, ul. Słupska 62   \, Poznań\, Poland
CATEGORIES:Kultura i sztuka
END:VEVENT
BEGIN:VEVENT
DTSTART;TZID=Europe/Helsinki:20240716T000000
DTEND;TZID=Europe/Helsinki:20241020T000000
DTSTAMP:20260423T201507
CREATED:20240711T050443Z
LAST-MODIFIED:20251112T210929Z
UID:62132-1721088000-1729382400@info.mesip.pl
SUMMARY:Wystawa czasowa: "Gatunki inwazyjne w faunie Polski"
DESCRIPTION:
URL:https://info.mesip.pl/event/wystawa-czasowa-gatunki-inwazyjne-w-faunie-polski/
LOCATION:ul. Akacjowa 12\, ul. Akacjowa 12   \, 62-006 Uzarzewo\, Poland
CATEGORIES:Edukacja
END:VEVENT
BEGIN:VEVENT
DTSTART;TZID=Europe/Helsinki:20240722T180000
DTEND;TZID=Europe/Helsinki:20240802T180000
DTSTAMP:20260423T201507
CREATED:20240731T050542Z
LAST-MODIFIED:20251112T211017Z
UID:74144-1721671200-1722621600@info.mesip.pl
SUMMARY:Plener sztuki w Dworze Skrzynki
DESCRIPTION:
URL:https://info.mesip.pl/event/plener-sztuki-w-dworze-skrzynki/
LOCATION:Plac Parkowy 1\, Plac Parkowy 1   \, Skrzynki\, gm. Stęszew\, Poland
CATEGORIES:Kultura i sztuka
END:VEVENT
BEGIN:VEVENT
DTSTART;TZID=Europe/Helsinki:20240730T173000
DTEND;TZID=Europe/Helsinki:20240730T190000
DTSTAMP:20260423T201507
CREATED:20240703T050415Z
LAST-MODIFIED:20251112T210854Z
UID:57468-1722360600-1722366000@info.mesip.pl
SUMMARY:Wakacje na Zdrojach
DESCRIPTION:
URL:https://info.mesip.pl/event/wakacje-na-zdrojach/
LOCATION:ul. Zdroje\, ul. Zdroje   \, Czerwonak\, Poland
CATEGORIES:Dla dzieci
END:VEVENT
BEGIN:VEVENT
DTSTART;TZID=Europe/Helsinki:20240801T000000
DTEND;TZID=Europe/Helsinki:20240831T000000
DTSTAMP:20260423T201507
CREATED:20240702T050400Z
LAST-MODIFIED:20251112T210824Z
UID:56903-1722470400-1725062400@info.mesip.pl
SUMMARY:Wystawa figurek "Warhammer"
DESCRIPTION:Swarzędzkie Centrum Historii i Sztuki zaprasza na wystawę figurek “Warhammera” z kolekcji Jeremiego Murka\, którą będzie można oglądać w muzeum przy ul. Bramkowej 6 przez cały sierpień (1-31.08).\nSerdecznie zapraszamy!
URL:https://info.mesip.pl/event/wystawa-figurek-warhammer/
LOCATION:ul. Bramkowa 6\, ul. Bramkowa 6   \, 62-020 Swarzędz\, Poland
CATEGORIES:Kultura i sztuka
END:VEVENT
BEGIN:VEVENT
DTSTART;TZID=Europe/Helsinki:20240802T210000
DTEND;TZID=Europe/Helsinki:20240803T210000
DTSTAMP:20260423T201507
CREATED:20240727T050519Z
LAST-MODIFIED:20251112T211000Z
UID:71697-1722632400-1722718800@info.mesip.pl
SUMMARY:Noc ciemNa
DESCRIPTION:
URL:https://info.mesip.pl/event/noc-ciemna/
LOCATION:Dziewicza Góra 4\, Dziewicza Góra 4   \, Czerwonak\, Poland
CATEGORIES:Turystyka i rekreacja
END:VEVENT
BEGIN:VEVENT
DTSTART;TZID=Europe/Helsinki:20240803T100000
DTEND;TZID=Europe/Helsinki:20240803T100000
DTSTAMP:20260423T201507
CREATED:20240628T050349Z
LAST-MODIFIED:20251112T210745Z
UID:54769-1722679200-1722679200@info.mesip.pl
SUMMARY:Puszczańskie Spacery z Przewodnikiem
DESCRIPTION:Puszczańskie Spacery z Przewodnikiem
URL:https://info.mesip.pl/event/puszczanskie-spacery-z-przewodnikiem/
LOCATION:Czerwonak Osiedle\, Czerwonak Osiedle   \, 62-004 Czerwonak\, Poland
CATEGORIES:Turystyka i rekreacja
END:VEVENT
BEGIN:VEVENT
DTSTART;TZID=Europe/Helsinki:20240803T100000
DTEND;TZID=Europe/Helsinki:20240804T180000
DTSTAMP:20260423T201507
CREATED:20240803T050552Z
LAST-MODIFIED:20251112T211028Z
UID:76004-1722679200-1722794400@info.mesip.pl
SUMMARY:Graffiti Jam - warsztaty
DESCRIPTION:
URL:https://info.mesip.pl/event/graffiti-jam-warsztaty/
LOCATION:ul. Fabryczna 19\, ul. Fabryczna 19   \, 62-010 Pobiedziska\, Poland
CATEGORIES:Warsztaty
END:VEVENT
BEGIN:VEVENT
DTSTART;TZID=Europe/Helsinki:20240803T190000
DTEND;TZID=Europe/Helsinki:20240803T190000
DTSTAMP:20260423T201507
CREATED:20240730T050538Z
LAST-MODIFIED:20251112T211011Z
UID:73524-1722711600-1722711600@info.mesip.pl
SUMMARY:Koncert zespołu Strefa Zero w Dworze Skrzynki
DESCRIPTION:Koncert zespołu STREFA ZERO I PIOSENKI MAANAMU
URL:https://info.mesip.pl/event/koncert-zespolu-strefa-zero-w-dworze-skrzynki/
LOCATION:Plac Parkowy 1\, Plac Parkowy 1   \, Skrzynki\, gm. Stęszew\, Poland
CATEGORIES:Rozrywka
END:VEVENT
BEGIN:VEVENT
DTSTART;TZID=Europe/Helsinki:20240803T200000
DTEND;TZID=Europe/Helsinki:20240803T200000
DTSTAMP:20260423T201507
CREATED:20240731T050542Z
LAST-MODIFIED:20251112T211017Z
UID:74147-1722715200-1722715200@info.mesip.pl
SUMMARY:Musica Sacra\, Musica Profana
DESCRIPTION:
URL:https://info.mesip.pl/event/musica-sacra-musica-profana/
LOCATION:Długa Goślina 24\, Długa Goślina 24   \, Długa Goślina\, Poland
CATEGORIES:Kultura i sztuka
END:VEVENT
BEGIN:VEVENT
DTSTART;TZID=Europe/Helsinki:20240803T213000
DTEND;TZID=Europe/Helsinki:20240803T213000
DTSTAMP:20260423T201507
CREATED:20240622T050316Z
LAST-MODIFIED:20251112T211029Z
UID:51822-1722720600-1722720600@info.mesip.pl
SUMMARY:Kino plenerowe w Rokietnicy
DESCRIPTION:
URL:https://info.mesip.pl/event/kino-plenerowe-w-rokietnicy/
LOCATION:Polana Rumpuciowa Rokietnica\, Polana Rumpuciowa Rokietnica   \, Rokietnica\, Poland
CATEGORIES:Rozrywka
END:VEVENT
BEGIN:VEVENT
DTSTART;TZID=Europe/Helsinki:20240804T110000
DTEND;TZID=Europe/Helsinki:20240804T170000
DTSTAMP:20260423T201507
CREATED:20240713T050448Z
LAST-MODIFIED:20251112T210938Z
UID:63323-1722769200-1722790800@info.mesip.pl
SUMMARY:Miodowe lato w Swarzędzu
DESCRIPTION:“Miodowe lato w skansenie” – festyn pszczelarski
URL:https://info.mesip.pl/event/miodowe-lato-w-swarzedzu/
LOCATION:ul. Poznańska 35\, ul. Poznańska 35   \, Swarzędz\, Poland
CATEGORIES:Ekologia
END:VEVENT
BEGIN:VEVENT
DTSTART;TZID=Europe/Helsinki:20240804T150000
DTEND;TZID=Europe/Helsinki:20240804T150000
DTSTAMP:20260423T201507
CREATED:20240801T050539Z
LAST-MODIFIED:20251112T211018Z
UID:74763-1722783600-1722783600@info.mesip.pl
SUMMARY:Piknik Trzech Pokoleń
DESCRIPTION:
URL:https://info.mesip.pl/event/piknik-trzech-pokolen/
LOCATION:ul. Kosynierów 1\, ul. Kosynierów 1   \, Swarzędz\, Poland
CATEGORIES:Rozrywka
END:VEVENT
BEGIN:VEVENT
DTSTART;TZID=Europe/Helsinki:20240804T150000
DTEND;TZID=Europe/Helsinki:20240804T150000
DTSTAMP:20260423T201507
CREATED:20240803T050554Z
LAST-MODIFIED:20251112T211032Z
UID:76008-1722783600-1722783600@info.mesip.pl
SUMMARY:Czyja to walizka? - spektakl.
DESCRIPTION:
URL:https://info.mesip.pl/event/czyja-to-walizka-spektakl/
LOCATION:ul. Ogrodowa 2\, ul. Ogrodowa 2   \, Jankowice\, Poland
CATEGORIES:Dla dzieci
END:VEVENT
BEGIN:VEVENT
DTSTART;TZID=Europe/Helsinki:20240804T150000
DTEND;TZID=Europe/Helsinki:20240825T180000
DTSTAMP:20260423T201507
CREATED:20240727T050520Z
LAST-MODIFIED:20251112T211001Z
UID:71703-1722783600-1724608800@info.mesip.pl
SUMMARY:Zabytek otwarty
DESCRIPTION:
URL:https://info.mesip.pl/event/zabytek-otwarty/
LOCATION:Mury 30\, Mury 30   \, Buk\, Poland
CATEGORIES:Edukacja
END:VEVENT
BEGIN:VEVENT
DTSTART;TZID=Europe/Helsinki:20240805T000000
DTEND;TZID=Europe/Helsinki:20240809T000000
DTSTAMP:20260423T201507
CREATED:20240622T050320Z
LAST-MODIFIED:20251112T210706Z
UID:51833-1722816000-1723161600@info.mesip.pl
SUMMARY:Półkolonie Letnie 2024
DESCRIPTION:Półkolonie Letnie 2024
URL:https://info.mesip.pl/event/polkolonie-letnie-2024/
LOCATION:ul. Kiszkowska 7\, ul. Kiszkowska 7   \, Pobiedziska\, Poland
CATEGORIES:Dla dzieci
END:VEVENT
BEGIN:VEVENT
DTSTART;TZID=Europe/Helsinki:20240805T000000
DTEND;TZID=Europe/Helsinki:20240809T000000
DTSTAMP:20260423T201507
CREATED:20240622T050323Z
LAST-MODIFIED:20251112T210707Z
UID:51846-1722816000-1723161600@info.mesip.pl
SUMMARY:Wakacje w Stęszewie
DESCRIPTION:Wakacje z Domem Kultury
URL:https://info.mesip.pl/event/wakacje-w-steszewie/
LOCATION:ul. Poznańska 22A\, ul. Poznańska 22A   \, Stęszew\, Poland
CATEGORIES:Dla dzieci
END:VEVENT
BEGIN:VEVENT
DTSTART;TZID=Europe/Helsinki:20240805T110000
DTEND;TZID=Europe/Helsinki:20240809T130000
DTSTAMP:20260423T201507
CREATED:20240803T050554Z
LAST-MODIFIED:20251112T211032Z
UID:76011-1722855600-1723208400@info.mesip.pl
SUMMARY:Wakacje w bibliotece
DESCRIPTION:Wakacje w bibliotece
URL:https://info.mesip.pl/event/wakacje-w-bibliotece/
LOCATION:ul. Dworcowa 4\, ul. Dworcowa 4   \, 62-010 Pobiedziska\, Poland
CATEGORIES:Dla dzieci
END:VEVENT
BEGIN:VEVENT
DTSTART;TZID=Europe/Helsinki:20240805T120000
DTEND;TZID=Europe/Helsinki:20240809T133000
DTSTAMP:20260423T201507
CREATED:20240622T050320Z
LAST-MODIFIED:20251112T210711Z
UID:51836-1722859200-1723210200@info.mesip.pl
SUMMARY:Letnie zajęcia szachowe w Ośrodku Kultury
DESCRIPTION:Letnie zajęcia szachowe w Ośrodku Kultury
URL:https://info.mesip.pl/event/letnie-zajecia-szachowe-w-osrodku-kultury/
LOCATION:ul. Jana III Sobieskiego 97\, ul. Jana III Sobieskiego 97   \, Luboń\, Poland
CATEGORIES:Sport
END:VEVENT
BEGIN:VEVENT
DTSTART;TZID=Europe/Helsinki:20240807T100000
DTEND;TZID=Europe/Helsinki:20240807T100000
DTSTAMP:20260423T201507
CREATED:20240803T050555Z
LAST-MODIFIED:20251112T211036Z
UID:76014-1723024800-1723024800@info.mesip.pl
SUMMARY:ARTystyczni: Guzikowe obrazy
DESCRIPTION:
URL:https://info.mesip.pl/event/artystyczni-guzikowe-obrazy/
LOCATION:ul. Ogrodowa 2\, ul. Ogrodowa 2   \, Jankowice\, Poland
CATEGORIES:Dla dzieci
END:VEVENT
BEGIN:VEVENT
DTSTART;TZID=Europe/Helsinki:20240809T170000
DTEND;TZID=Europe/Helsinki:20240809T170000
DTSTAMP:20260423T201507
CREATED:20240809T050614Z
LAST-MODIFIED:20251112T211118Z
UID:79886-1723222800-1723222800@info.mesip.pl
SUMMARY:Kino Letnie w Niepruszewie
DESCRIPTION:
URL:https://info.mesip.pl/event/kino-letnie-w-niepruszewie/
LOCATION:ul. Starowiejska 19\, ul. Starowiejska 19   \,  64-320 Niepruszewo\, Poland
CATEGORIES:Kultura i sztuka
END:VEVENT
BEGIN:VEVENT
DTSTART;TZID=Europe/Helsinki:20240809T190000
DTEND;TZID=Europe/Helsinki:20240818T190000
DTSTAMP:20260423T201507
CREATED:20240719T050458Z
LAST-MODIFIED:20251112T210949Z
UID:66896-1723230000-1724007600@info.mesip.pl
SUMMARY:XVII Festiwal Sztuki Ludowej
DESCRIPTION:
URL:https://info.mesip.pl/event/xvii-festiwal-sztuki-ludowej/
LOCATION:ul. Dworcowa 5\, ul. Dworcowa 5   \, Szreniawa\, Poland
CATEGORIES:Kultura i sztuka
END:VEVENT
BEGIN:VEVENT
DTSTART;TZID=Europe/Helsinki:20240810T093000
DTEND;TZID=Europe/Helsinki:20240810T093000
DTSTAMP:20260423T201507
CREATED:20240809T050614Z
LAST-MODIFIED:20251112T211118Z
UID:79889-1723282200-1723282200@info.mesip.pl
SUMMARY:Wpław przez Kiekrz
DESCRIPTION:
URL:https://info.mesip.pl/event/wplaw-przez-kiekrz/
LOCATION:ulica ks. Edwarda Nawrota 14\, ulica ks. Edwarda Nawrota 14   \, 60-480 Poznań\, Poland
CATEGORIES:Sport
END:VEVENT
BEGIN:VEVENT
DTSTART;TZID=Europe/Helsinki:20240810T163000
DTEND;TZID=Europe/Helsinki:20240810T163000
DTSTAMP:20260423T201507
CREATED:20240730T050539Z
LAST-MODIFIED:20251112T211012Z
UID:73527-1723307400-1723307400@info.mesip.pl
SUMMARY:Światowy Przegląd Folkloru INTEGRACJE 2024.
DESCRIPTION:
URL:https://info.mesip.pl/event/swiatowy-przeglad-folkloru-integracje-2024/
LOCATION:ul. Kosynierów 1\, ul. Kosynierów 1   \, Swarzędz\, Poland
CATEGORIES:Kultura i sztuka
END:VEVENT
BEGIN:VEVENT
DTSTART;TZID=Europe/Helsinki:20240810T190000
DTEND;TZID=Europe/Helsinki:20240810T190000
DTSTAMP:20260423T201507
CREATED:20240801T050540Z
LAST-MODIFIED:20251112T211023Z
UID:74766-1723316400-1723316400@info.mesip.pl
SUMMARY:Koncert
DESCRIPTION:
URL:https://info.mesip.pl/event/koncert/
LOCATION:Plac Parkowy 1\, Plac Parkowy 1   \, Skrzynki\, gm. Stęszew\, Poland
CATEGORIES:Kultura i sztuka
END:VEVENT
BEGIN:VEVENT
DTSTART;TZID=Europe/Helsinki:20240810T201500
DTEND;TZID=Europe/Helsinki:20240810T201500
DTSTAMP:20260423T201507
CREATED:20240806T050606Z
LAST-MODIFIED:20251112T211102Z
UID:77928-1723320900-1723320900@info.mesip.pl
SUMMARY:Kino plenerowe w Mosinie
DESCRIPTION:
URL:https://info.mesip.pl/event/kino-plenerowe-w-mosinie-2/
LOCATION:Rynek Mosina\, Rynek Mosina   \, 62-050 Mosina\, Poland
CATEGORIES:Kultura i sztuka
END:VEVENT
BEGIN:VEVENT
DTSTART;TZID=Europe/Helsinki:20240811T090000
DTEND;TZID=Europe/Helsinki:20240811T140000
DTSTAMP:20260423T201507
CREATED:20240810T050615Z
LAST-MODIFIED:20251112T211124Z
UID:80548-1723366800-1723384800@info.mesip.pl
SUMMARY:Pchli targ i rękodzieło
DESCRIPTION:Pchli targ i rękodzieło
URL:https://info.mesip.pl/event/pchli-targ-i-rekodzielo-2/
LOCATION:ul. Piasta\, ul. Piasta   \, 62-025 Kostrzyn Wlkp.\, Poland
CATEGORIES:Społeczne
END:VEVENT
BEGIN:VEVENT
DTSTART;TZID=Europe/Helsinki:20240811T140000
DTEND;TZID=Europe/Helsinki:20240811T140000
DTSTAMP:20260423T201507
CREATED:20240807T050613Z
LAST-MODIFIED:20251112T211116Z
UID:78593-1723384800-1723384800@info.mesip.pl
SUMMARY:Zespoły Folklorystyczne w Dworze Skrzynki
DESCRIPTION:
URL:https://info.mesip.pl/event/zespoly-folklorystyczne-w-dworze-skrzynki/
LOCATION:Plac Parkowy 1\, Plac Parkowy 1   \, Skrzynki\, gm. Stęszew\, Poland
CATEGORIES:Kultura i sztuka
END:VEVENT
BEGIN:VEVENT
DTSTART;TZID=Europe/Helsinki:20240811T150000
DTEND;TZID=Europe/Helsinki:20240811T150000
DTSTAMP:20260423T201507
CREATED:20240803T050557Z
LAST-MODIFIED:20251112T211039Z
UID:76017-1723388400-1723388400@info.mesip.pl
SUMMARY:Wernisaż malarstwa i spotkanie autorskie w Jankowicach
DESCRIPTION:
URL:https://info.mesip.pl/event/wernisaz-malarstwa-i-spotkanie-autorskie-w-jankowicach/
LOCATION:ul. Ogrodowa 2\, ul. Ogrodowa 2   \, Jankowice\, Poland
CATEGORIES:Kultura i sztuka
END:VEVENT
BEGIN:VEVENT
DTSTART;TZID=Europe/Helsinki:20240812T073000
DTEND;TZID=Europe/Helsinki:20240816T153000
DTSTAMP:20260423T201507
CREATED:20240622T050310Z
LAST-MODIFIED:20251112T210714Z
UID:51797-1723447800-1723822200@info.mesip.pl
SUMMARY:Wakacje w OAZA KIDS
DESCRIPTION:
URL:https://info.mesip.pl/event/wakacje-w-oaza-kids/
LOCATION:ul. Krasickiego 1\, ul. Krasickiego 1   \, Kórnik\, Poland
CATEGORIES:Dla dzieci
END:VEVENT
END:VCALENDAR