BEGIN:VCALENDAR
VERSION:2.0
PRODID:-//MeSIP - ECPv6.15.13//NONSGML v1.0//EN
CALSCALE:GREGORIAN
METHOD:PUBLISH
X-ORIGINAL-URL:https://info.mesip.pl
X-WR-CALDESC:Wydarzenia dla MeSIP
REFRESH-INTERVAL;VALUE=DURATION:PT1H
X-Robots-Tag:noindex
X-PUBLISHED-TTL:PT1H
BEGIN:VTIMEZONE
TZID:Europe/Helsinki
BEGIN:DAYLIGHT
TZOFFSETFROM:+0200
TZOFFSETTO:+0300
TZNAME:EEST
DTSTART:20230326T010000
END:DAYLIGHT
BEGIN:STANDARD
TZOFFSETFROM:+0300
TZOFFSETTO:+0200
TZNAME:EET
DTSTART:20231029T010000
END:STANDARD
BEGIN:DAYLIGHT
TZOFFSETFROM:+0200
TZOFFSETTO:+0300
TZNAME:EEST
DTSTART:20240331T010000
END:DAYLIGHT
BEGIN:STANDARD
TZOFFSETFROM:+0300
TZOFFSETTO:+0200
TZNAME:EET
DTSTART:20241027T010000
END:STANDARD
BEGIN:DAYLIGHT
TZOFFSETFROM:+0200
TZOFFSETTO:+0300
TZNAME:EEST
DTSTART:20250330T010000
END:DAYLIGHT
BEGIN:STANDARD
TZOFFSETFROM:+0300
TZOFFSETTO:+0200
TZNAME:EET
DTSTART:20251026T010000
END:STANDARD
END:VTIMEZONE
BEGIN:VEVENT
DTSTART;TZID=Europe/Helsinki:20240304T000000
DTEND;TZID=Europe/Helsinki:20240630T000000
DTSTAMP:20260424T010534
CREATED:20240325T115243Z
LAST-MODIFIED:20251222T222606Z
UID:22067-1709510400-1719705600@info.mesip.pl
SUMMARY:Zajęcia na sportowo
DESCRIPTION:
URL:https://info.mesip.pl/event/zajecia-na-sportowo/
LOCATION:Centrum Tenisowe Sobota\, Centrum Tenisowe Sobota   \, Sobota\, Poland
CATEGORIES:Sport
END:VEVENT
BEGIN:VEVENT
DTSTART;TZID=Europe/Helsinki:20240419T100000
DTEND;TZID=Europe/Helsinki:20240831T100000
DTSTAMP:20260424T010534
CREATED:20240618T050232Z
LAST-MODIFIED:20251112T210410Z
UID:50183-1713520800-1725098400@info.mesip.pl
SUMMARY:Wystawa o czasach PRL
DESCRIPTION:
URL:https://info.mesip.pl/event/wystawa-o-czasach-prl/
LOCATION:ul. Słupska 62\, ul. Słupska 62   \, Poznań\, Poland
CATEGORIES:Kultura i sztuka
END:VEVENT
BEGIN:VEVENT
DTSTART;VALUE=DATE:20240527
DTEND;VALUE=DATE:20240528
DTSTAMP:20260424T010534
CREATED:20240525T050215Z
LAST-MODIFIED:20251112T210308Z
UID:42551-1716768000-1716854340@info.mesip.pl
SUMMARY:Dzień Samorządu Terytorialnego
DESCRIPTION:
URL:https://info.mesip.pl/event/dzien-samorzadu-terytorialnego/
LOCATION:Jackowskiego 18\, Jackowskiego 18   \, Poznań\, Poland
CATEGORIES:Uroczystości
END:VEVENT
BEGIN:VEVENT
DTSTART;TZID=Europe/Helsinki:20240528T090000
DTEND;TZID=Europe/Helsinki:20240531T090000
DTSTAMP:20260424T010534
CREATED:20240521T112441Z
LAST-MODIFIED:20251112T210236Z
UID:41426-1716886800-1717146000@info.mesip.pl
SUMMARY:Kulinarny Dzień Dziecka w Uzarzewie
DESCRIPTION:
URL:https://info.mesip.pl/event/kulinarny-dzien-dziecka-w-uzarzewie/
LOCATION:akacjowa 12\, akacjowa 12   \, Uzarzewo\, Poland
CATEGORIES:Dla dzieci
END:VEVENT
BEGIN:VEVENT
DTSTART;VALUE=DATE:20240530
DTEND;VALUE=DATE:20240603
DTSTAMP:20260424T010534
CREATED:20240521T112432Z
LAST-MODIFIED:20251112T210223Z
UID:41361-1717027200-1717372740@info.mesip.pl
SUMMARY:Cały Poznań Ukulele
DESCRIPTION:
URL:https://info.mesip.pl/event/caly-poznan-ukulele/
LOCATION:ul. Nowowiejskiego 13/15\, ul. Nowowiejskiego 13/15   \, Poznań\, Poland
CATEGORIES:Dla dzieci
END:VEVENT
BEGIN:VEVENT
DTSTART;TZID=Europe/Helsinki:20240531T180000
DTEND;TZID=Europe/Helsinki:20240531T180000
DTSTAMP:20260424T010534
CREATED:20240524T050201Z
LAST-MODIFIED:20251112T210304Z
UID:42252-1717178400-1717178400@info.mesip.pl
SUMMARY:Magiczna ulica Piotra Szumnego na Dzień Dziecka
DESCRIPTION:
URL:https://info.mesip.pl/event/magiczna-ulica-piotra-szumnego-na-dzien-dziecka/
LOCATION:ul. Poznańska 10\, ul. Poznańska 10   \, Kleszczewo\, Poland
CATEGORIES:Rozrywka
END:VEVENT
BEGIN:VEVENT
DTSTART;VALUE=DATE:20240601
DTEND;VALUE=DATE:20240603
DTSTAMP:20260424T010534
CREATED:20240524T050202Z
LAST-MODIFIED:20251112T210304Z
UID:42255-1717200000-1717372740@info.mesip.pl
SUMMARY:Dni Gminy z Dniem Dziecka w Dopiewie
DESCRIPTION:
URL:https://info.mesip.pl/event/dni-gminy-z-dniem-dziecka-w-dopiewie/
LOCATION:ul. Łąkowa\, ul. Łąkowa   \, Dopiewo\, Poland
CATEGORIES:Rozrywka
END:VEVENT
BEGIN:VEVENT
DTSTART;VALUE=DATE:20240601
DTEND;VALUE=DATE:20240603
DTSTAMP:20260424T010534
CREATED:20240529T050214Z
LAST-MODIFIED:20251112T210316Z
UID:43702-1717200000-1717372740@info.mesip.pl
SUMMARY:Dzień Dziecka z Tarpanem
DESCRIPTION:
URL:https://info.mesip.pl/event/dzien-dziecka-z-tarpanem/
LOCATION:ul. Dworcowa 5\, ul. Dworcowa 5   \, Szreniawa\, Poland
CATEGORIES:Rozrywka
END:VEVENT
BEGIN:VEVENT
DTSTART;TZID=Europe/Helsinki:20240601T100000
DTEND;TZID=Europe/Helsinki:20240601T100000
DTSTAMP:20260424T010534
CREATED:20240510T050133Z
LAST-MODIFIED:20251112T210218Z
UID:40685-1717236000-1717236000@info.mesip.pl
SUMMARY:Tulecki Rajd Rowerowy
DESCRIPTION:
URL:https://info.mesip.pl/event/tulecki-rajd-rowerowy/
LOCATION:ul. Poznańska\, ul. Poznańska   \, Tulce\, gmina Kleszczewo\, Poland
CATEGORIES:Turystyka i rekreacja
END:VEVENT
BEGIN:VEVENT
DTSTART;TZID=Europe/Helsinki:20240601T100000
DTEND;TZID=Europe/Helsinki:20240601T100000
DTSTAMP:20260424T010534
CREATED:20240521T112442Z
LAST-MODIFIED:20251112T210237Z
UID:41429-1717236000-1717236000@info.mesip.pl
SUMMARY:Gminny Dzień Dziecka w Stęszewie
DESCRIPTION:
URL:https://info.mesip.pl/event/gminny-dzien-dziecka-w-steszewie/
LOCATION:ul. Poznańska 22A\, ul. Poznańska 22A   \, Stęszew\, Poland
CATEGORIES:Dla dzieci
END:VEVENT
BEGIN:VEVENT
DTSTART;TZID=Europe/Helsinki:20240601T160000
DTEND;TZID=Europe/Helsinki:20240601T160000
DTSTAMP:20260424T010534
CREATED:20240524T050202Z
LAST-MODIFIED:20251112T210305Z
UID:42258-1717257600-1717257600@info.mesip.pl
SUMMARY:Festyn na Dzień Dziecka
DESCRIPTION:Festyn na Dzień Dziecka
URL:https://info.mesip.pl/event/festyn-na-dzien-dziecka/
LOCATION:ul. Działkowa 23\, ul. Działkowa 23   \, 62-090 Rokietnica\, Poland
CATEGORIES:Rozrywka
END:VEVENT
BEGIN:VEVENT
DTSTART;TZID=Europe/Helsinki:20240601T183000
DTEND;TZID=Europe/Helsinki:20240601T183000
DTSTAMP:20260424T010534
CREATED:20240521T112442Z
LAST-MODIFIED:20251112T210242Z
UID:41432-1717266600-1717266600@info.mesip.pl
SUMMARY:Bossa Nova
DESCRIPTION:
URL:https://info.mesip.pl/event/bossa-nova/
LOCATION:Plac Parkowy 1\, Plac Parkowy 1   \, Skrzynki\, gm. Stęszew\, Poland
CATEGORIES:Kultura i sztuka
END:VEVENT
BEGIN:VEVENT
DTSTART;VALUE=DATE:20240602
DTEND;VALUE=DATE:20240603
DTSTAMP:20260424T010534
CREATED:20240601T050216Z
LAST-MODIFIED:20251112T210321Z
UID:44566-1717286400-1717372740@info.mesip.pl
SUMMARY:Dzień Twarogu w Skrzynkach
DESCRIPTION:
URL:https://info.mesip.pl/event/dzien-twarogu-w-skrzynkach/
LOCATION:Plac Parkowy 1\, Plac Parkowy 1   \, Skrzynki\, gm. Stęszew\, Poland
CATEGORIES:Zdrowie
END:VEVENT
BEGIN:VEVENT
DTSTART;TZID=Europe/Helsinki:20240602T100000
DTEND;TZID=Europe/Helsinki:20240602T100000
DTSTAMP:20260424T010534
CREATED:20240522T050152Z
LAST-MODIFIED:20251112T210244Z
UID:41694-1717322400-1717322400@info.mesip.pl
SUMMARY:Bieg 10km Szpot Swarzędz
DESCRIPTION:
URL:https://info.mesip.pl/event/bieg-10km-szpot-swarzedz/
LOCATION:Rynek\, Rynek    \, Swarzędz\, Poland
CATEGORIES:Sport
END:VEVENT
BEGIN:VEVENT
DTSTART;TZID=Europe/Helsinki:20240603T110000
DTEND;TZID=Europe/Helsinki:20240603T110000
DTSTAMP:20260424T010534
CREATED:20240521T112443Z
LAST-MODIFIED:20251112T210243Z
UID:41435-1717412400-1717412400@info.mesip.pl
SUMMARY:Odkryj Swój Talent!
DESCRIPTION:ODKRYJ SWÓJ TALENT!
URL:https://info.mesip.pl/event/odkryj-swoj-talent/
LOCATION:ul. Kostrzyńska 21\, ul. Kostrzyńska 21   \, 62-010 Pobiedziska\, Poland
CATEGORIES:Kultura i sztuka
END:VEVENT
BEGIN:VEVENT
DTSTART;TZID=Europe/Helsinki:20240603T110000
DTEND;TZID=Europe/Helsinki:20240603T110000
DTSTAMP:20260424T010534
CREATED:20240524T050202Z
LAST-MODIFIED:20251112T210306Z
UID:42261-1717412400-1717412400@info.mesip.pl
SUMMARY:Przegląd Młodych Talentów Scenicznych
DESCRIPTION:Przegląd Młodych Talentów Scenicznych
URL:https://info.mesip.pl/event/przeglad-mlodych-talentow-scenicznych/
LOCATION:ul. Kostrzyńska 21\, ul. Kostrzyńska 21   \, Pobiedziska\, Poland
CATEGORIES:Kultura i sztuka
END:VEVENT
BEGIN:VEVENT
DTSTART;TZID=Europe/Helsinki:20240603T173000
DTEND;TZID=Europe/Helsinki:20240603T190000
DTSTAMP:20260424T010534
CREATED:20240524T050203Z
LAST-MODIFIED:20251112T210306Z
UID:42264-1717435800-1717441200@info.mesip.pl
SUMMARY:Warsztaty rolkarskie
DESCRIPTION:
URL:https://info.mesip.pl/event/warsztaty-rolkarskie/
LOCATION:Ośrodek Sportu i Rekreacji w Pobiedziskach\, Ośrodek Sportu i Rekreacji w Pobiedziskach   \, Pobiedziska\, Poland
CATEGORIES:Sport
END:VEVENT
BEGIN:VEVENT
DTSTART;TZID=Europe/Helsinki:20240605T170000
DTEND;TZID=Europe/Helsinki:20240605T170000
DTSTAMP:20260424T010534
CREATED:20240605T050222Z
LAST-MODIFIED:20251112T210322Z
UID:45717-1717606800-1717606800@info.mesip.pl
SUMMARY:Turniej Warcabowy dla dzieci
DESCRIPTION:
URL:https://info.mesip.pl/event/turniej-warcabowy-dla-dzieci-2/
LOCATION:ul. Krasickiego 1\, ul. Krasickiego 1   \, Kórnik\, Poland
CATEGORIES:Sport
END:VEVENT
BEGIN:VEVENT
DTSTART;TZID=Europe/Helsinki:20240607T000000
DTEND;TZID=Europe/Helsinki:20240609T000000
DTSTAMP:20260424T010534
CREATED:20240404T140105Z
LAST-MODIFIED:20251112T210124Z
UID:24953-1717718400-1717891200@info.mesip.pl
SUMMARY:Dni Gminy Tarnowo Podgórne
DESCRIPTION:
URL:https://info.mesip.pl/event/dni-gminy-tarnowo-podgorne/
LOCATION:ul. Szkolna\, ul. Szkolna   \, Tarnowo Podgórne\, Poland
CATEGORIES:Społeczne
END:VEVENT
BEGIN:VEVENT
DTSTART;VALUE=DATE:20240607
DTEND;VALUE=DATE:20240610
DTSTAMP:20260424T010534
CREATED:20240605T050223Z
LAST-MODIFIED:20251112T210322Z
UID:45720-1717718400-1717977540@info.mesip.pl
SUMMARY:Dni Gminy Buk
DESCRIPTION:
URL:https://info.mesip.pl/event/dni-gminy-buk/
LOCATION:ul. Sportowa 14\, ul. Sportowa 14   \, Buk\, Poland
CATEGORIES:Rozrywka
END:VEVENT
BEGIN:VEVENT
DTSTART;TZID=Europe/Helsinki:20240607T093000
DTEND;TZID=Europe/Helsinki:20240607T133000
DTSTAMP:20260424T010534
CREATED:20240605T050223Z
LAST-MODIFIED:20251112T210322Z
UID:45723-1717752600-1717767000@info.mesip.pl
SUMMARY:Festyn Dzieci-Dzieciom
DESCRIPTION:
URL:https://info.mesip.pl/event/festyn-dzieci-dzieciom/
LOCATION:   \, Poland
CATEGORIES:Społeczne
END:VEVENT
BEGIN:VEVENT
DTSTART;TZID=Europe/Helsinki:20240607T150000
DTEND;TZID=Europe/Helsinki:20240609T150000
DTSTAMP:20260424T010534
CREATED:20240606T050228Z
LAST-MODIFIED:20251112T210336Z
UID:46098-1717772400-1717945200@info.mesip.pl
SUMMARY:Festiwal Smaków Food Trucków
DESCRIPTION:Festiwal Smaków Food Trucków
URL:https://info.mesip.pl/event/festiwal-smakow-food-truckow/
LOCATION:ul. Szkolna\, ul. Szkolna   \, Tarnowo Podgórne\, Poland
CATEGORIES:Zdrowie
END:VEVENT
BEGIN:VEVENT
DTSTART;VALUE=DATE:20240608
DTEND;VALUE=DATE:20240610
DTSTAMP:20260424T010534
CREATED:20240605T050223Z
LAST-MODIFIED:20251112T210323Z
UID:45726-1717804800-1717977540@info.mesip.pl
SUMMARY:Kórnickie Spotkania z Białą Damą 2024
DESCRIPTION:Kórnickie Spotkania z Białą Damą 2024
URL:https://info.mesip.pl/event/kornickie-spotkania-z-biala-dama-2024/
LOCATION:ul. Prowent\, ul. Prowent   \, Kórnik\, Poland
CATEGORIES:Kultura i sztuka
END:VEVENT
BEGIN:VEVENT
DTSTART;TZID=Europe/Helsinki:20240608T100000
DTEND;TZID=Europe/Helsinki:20240608T130000
DTSTAMP:20260424T010534
CREATED:20240605T050224Z
LAST-MODIFIED:20251112T210323Z
UID:45729-1717840800-1717851600@info.mesip.pl
SUMMARY:Dzień Zdrowia
DESCRIPTION:Dzień Zdrowia w gminie Czerwonak
URL:https://info.mesip.pl/event/dzien-zdrowia/
LOCATION:ul. Poznańska 17\, ul. Poznańska 17   \, Koziegłowy\, Poland
CATEGORIES:Zdrowie
END:VEVENT
BEGIN:VEVENT
DTSTART;TZID=Europe/Helsinki:20240608T100000
DTEND;TZID=Europe/Helsinki:20240608T170000
DTSTAMP:20260424T010534
CREATED:20240529T050214Z
LAST-MODIFIED:20251112T210316Z
UID:43705-1717840800-1717866000@info.mesip.pl
SUMMARY:Amatorski Turniej Tenisa Stołowego
DESCRIPTION:
URL:https://info.mesip.pl/event/amatorski-turniej-tenisa-stolowego/
LOCATION:Grunwaldzka 565\, Grunwaldzka 565   \, Plewiska\, Poland
CATEGORIES:Sport
END:VEVENT
BEGIN:VEVENT
DTSTART;TZID=Europe/Helsinki:20240608T100000
DTEND;TZID=Europe/Helsinki:20240608T170000
DTSTAMP:20260424T010534
CREATED:20240605T050224Z
LAST-MODIFIED:20251112T210324Z
UID:45732-1717840800-1717866000@info.mesip.pl
SUMMARY:Turniej Tenisa Ziemnego w Szreniawie
DESCRIPTION:Turniej Tenisa Ziemnego w Szreniawie
URL:https://info.mesip.pl/event/turniej-tenisa-ziemnego-w-szreniawie/
LOCATION:ul. Poznańska 2\, ul. Poznańska 2   \, Szreniawa\, Poland
CATEGORIES:Sport
END:VEVENT
BEGIN:VEVENT
DTSTART;TZID=Europe/Helsinki:20240608T110000
DTEND;TZID=Europe/Helsinki:20240608T110000
DTSTAMP:20260424T010534
CREATED:20240522T050153Z
LAST-MODIFIED:20251112T210249Z
UID:41697-1717844400-1717844400@info.mesip.pl
SUMMARY:„Skrzynki w krainie OZ”.
DESCRIPTION:„Skrzynki w krainie OZ”. Wernisaż wystawy fotografii Bartosza Świątka
URL:https://info.mesip.pl/event/skrzynki-w-krainie-oz/
LOCATION:Plac Parkowy 1\, Plac Parkowy 1   \, Skrzynki\, gm. Stęszew\, Poland
CATEGORIES:Kultura i sztuka
END:VEVENT
BEGIN:VEVENT
DTSTART;TZID=Europe/Helsinki:20240608T110000
DTEND;TZID=Europe/Helsinki:20240608T110000
DTSTAMP:20260424T010534
CREATED:20240605T050225Z
LAST-MODIFIED:20251112T210324Z
UID:45735-1717844400-1717844400@info.mesip.pl
SUMMARY:Bieg Patrolowy w Gułtowach
DESCRIPTION:III Bieg Patrolowy w Gułtowach
URL:https://info.mesip.pl/event/bieg-patrolowy-w-gultowach/
LOCATION:Gułtowy\, Kostrzyn Wlkp.\, Gułtowy\, Kostrzyn Wlkp.   \, Gułtowy\, Poland
CATEGORIES:Sport
END:VEVENT
BEGIN:VEVENT
DTSTART;TZID=Europe/Helsinki:20240608T120000
DTEND;TZID=Europe/Helsinki:20240608T120000
DTSTAMP:20260424T010534
CREATED:20240521T112434Z
LAST-MODIFIED:20251112T210227Z
UID:41375-1717848000-1717848000@info.mesip.pl
SUMMARY:Turniej na Dzień Dziecka
DESCRIPTION:
URL:https://info.mesip.pl/event/turniej-na-dzien-dziecka/
LOCATION:ul. Kościelna\, ul. Kościelna    \, Puszczykowo\, Poland
CATEGORIES:Dla dzieci
END:VEVENT
BEGIN:VEVENT
DTSTART;TZID=Europe/Helsinki:20240608T120000
DTEND;TZID=Europe/Helsinki:20240608T120000
DTSTAMP:20260424T010534
CREATED:20240522T050154Z
LAST-MODIFIED:20251112T210253Z
UID:41700-1717848000-1717848000@info.mesip.pl
SUMMARY:Rajd Pieszy w Dworze Skrzynki
DESCRIPTION:
URL:https://info.mesip.pl/event/rajd-pieszy-w-dworze-skrzynki/
LOCATION:Plac Parkowy 1\, Plac Parkowy 1   \, Skrzynki\, gm. Stęszew\, Poland
CATEGORIES:Turystyka i rekreacja
END:VEVENT
END:VCALENDAR