BEGIN:VCALENDAR
VERSION:2.0
PRODID:-//MeSIP - ECPv6.15.13//NONSGML v1.0//EN
CALSCALE:GREGORIAN
METHOD:PUBLISH
X-ORIGINAL-URL:https://info.mesip.pl
X-WR-CALDESC:Wydarzenia dla MeSIP
REFRESH-INTERVAL;VALUE=DURATION:PT1H
X-Robots-Tag:noindex
X-PUBLISHED-TTL:PT1H
BEGIN:VTIMEZONE
TZID:Europe/Helsinki
BEGIN:DAYLIGHT
TZOFFSETFROM:+0200
TZOFFSETTO:+0300
TZNAME:EEST
DTSTART:20220327T010000
END:DAYLIGHT
BEGIN:STANDARD
TZOFFSETFROM:+0300
TZOFFSETTO:+0200
TZNAME:EET
DTSTART:20221030T010000
END:STANDARD
BEGIN:DAYLIGHT
TZOFFSETFROM:+0200
TZOFFSETTO:+0300
TZNAME:EEST
DTSTART:20230326T010000
END:DAYLIGHT
BEGIN:STANDARD
TZOFFSETFROM:+0300
TZOFFSETTO:+0200
TZNAME:EET
DTSTART:20231029T010000
END:STANDARD
BEGIN:DAYLIGHT
TZOFFSETFROM:+0200
TZOFFSETTO:+0300
TZNAME:EEST
DTSTART:20240331T010000
END:DAYLIGHT
BEGIN:STANDARD
TZOFFSETFROM:+0300
TZOFFSETTO:+0200
TZNAME:EET
DTSTART:20241027T010000
END:STANDARD
BEGIN:DAYLIGHT
TZOFFSETFROM:+0200
TZOFFSETTO:+0300
TZNAME:EEST
DTSTART:20250330T010000
END:DAYLIGHT
BEGIN:STANDARD
TZOFFSETFROM:+0300
TZOFFSETTO:+0200
TZNAME:EET
DTSTART:20251026T010000
END:STANDARD
END:VTIMEZONE
BEGIN:VEVENT
DTSTART;TZID=Europe/Helsinki:20231107T101500
DTEND;TZID=Europe/Helsinki:20240430T101500
DTSTAMP:20260424T041409
CREATED:20240112T072618Z
LAST-MODIFIED:20251222T222304Z
UID:19084-1699352100-1714472100@info.mesip.pl
SUMMARY:Wystawa - Nigdy Wojny
DESCRIPTION:Muzeum Martyrologiczne w Żabikowie zaprasza na nową wystawę oraz wydarzenia towarzyszące
URL:https://info.mesip.pl/event/wystawa-nigdy-wojny/
LOCATION:ul. Niezłomnych 2\, ul. Niezłomnych 2   \, Luboń\, Poland
CATEGORIES:Społeczne
END:VEVENT
BEGIN:VEVENT
DTSTART;TZID=Europe/Helsinki:20240304T000000
DTEND;TZID=Europe/Helsinki:20240630T000000
DTSTAMP:20260424T041409
CREATED:20240325T115243Z
LAST-MODIFIED:20251222T222606Z
UID:22067-1709510400-1719705600@info.mesip.pl
SUMMARY:Zajęcia na sportowo
DESCRIPTION:
URL:https://info.mesip.pl/event/zajecia-na-sportowo/
LOCATION:Centrum Tenisowe Sobota\, Centrum Tenisowe Sobota   \, Sobota\, Poland
CATEGORIES:Sport
END:VEVENT
BEGIN:VEVENT
DTSTART;TZID=Europe/Helsinki:20240320T000000
DTEND;TZID=Europe/Helsinki:20240324T000000
DTSTAMP:20260424T041409
CREATED:20240325T115308Z
LAST-MODIFIED:20251112T210118Z
UID:22106-1710892800-1711238400@info.mesip.pl
SUMMARY:5. memoriał Ryszarda Bonka
DESCRIPTION:5. Memoriał Ryszarda Bonka
URL:https://info.mesip.pl/event/5-memorial-ryszarda-bonka/
LOCATION:ul. Rokietnicka 21\, ul. Rokietnicka 21   \, Tarnowo Podgórne\, Poland
CATEGORIES:Sport
END:VEVENT
BEGIN:VEVENT
DTSTART;VALUE=DATE:20240322
DTEND;VALUE=DATE:20240325
DTSTAMP:20260424T041409
CREATED:20240325T115301Z
LAST-MODIFIED:20251112T210112Z
UID:22087-1711065600-1711324740@info.mesip.pl
SUMMARY:Euro Target Show
DESCRIPTION:
URL:https://info.mesip.pl/event/euro-target-show/
LOCATION:ul. Głogowska 14\, ul. Głogowska 14   \, Poznań\, Poland
CATEGORIES:Edukacja
END:VEVENT
BEGIN:VEVENT
DTSTART;TZID=Europe/Helsinki:20240322T170000
DTEND;TZID=Europe/Helsinki:20240322T190000
DTSTAMP:20260424T041409
CREATED:20240325T115238Z
LAST-MODIFIED:20251222T222555Z
UID:22040-1711126800-1711134000@info.mesip.pl
SUMMARY:Warsztaty Wielkanocne
DESCRIPTION:Warsztaty Wielkanocne
URL:https://info.mesip.pl/event/warsztaty-wielkanocne/
LOCATION:Ignacego Krasickiego 1\,  Ignacego Krasickiego 1   \, Kórnik\, Poland
CATEGORIES:Kultura i sztuka
END:VEVENT
BEGIN:VEVENT
DTSTART;TZID=Europe/Helsinki:20240323T160000
DTEND;TZID=Europe/Helsinki:20240323T160000
DTSTAMP:20260424T041409
CREATED:20240325T115309Z
LAST-MODIFIED:20251112T210122Z
UID:22109-1711209600-1711209600@info.mesip.pl
SUMMARY:Spektakl teatralno-muzyczny „Ich troje”
DESCRIPTION:
URL:https://info.mesip.pl/event/spektakl-teatralno-muzyczny-ich-troje/
LOCATION:ul. Ogrodowa 2\, ul. Ogrodowa 2   \, Jankowice\, Poland
CATEGORIES:Kultura i sztuka
END:VEVENT
BEGIN:VEVENT
DTSTART;TZID=Europe/Helsinki:20240323T170000
DTEND;TZID=Europe/Helsinki:20240323T170000
DTSTAMP:20260424T041409
CREATED:20240325T081101Z
LAST-MODIFIED:20251222T222518Z
UID:20981-1711213200-1711213200@info.mesip.pl
SUMMARY:Konarzewski Festiwal Muzyczny 2024
DESCRIPTION:
URL:https://info.mesip.pl/event/konarzewski-festiwal-muzyczny-2024/
LOCATION:ul. Poznańska 19\, ul. Poznańska 19   \, 62-070 Konarzewo\, Poland
CATEGORIES:Kultura i sztuka
END:VEVENT
BEGIN:VEVENT
DTSTART;TZID=Europe/Helsinki:20240323T183000
DTEND;TZID=Europe/Helsinki:20240323T183000
DTSTAMP:20260424T041409
CREATED:20240325T081124Z
LAST-MODIFIED:20251222T222537Z
UID:21046-1711218600-1711218600@info.mesip.pl
SUMMARY:Koncert wiosenny „FORSYCJE I JAZZ”
DESCRIPTION:
URL:https://info.mesip.pl/event/koncert-wiosenny-forsycje-i-jazz/
LOCATION:Plac Parkowy 1\, Plac Parkowy 1   \, Skrzynki\, gm. Stęszew\, Poland
CATEGORIES:Kultura i sztuka
END:VEVENT
BEGIN:VEVENT
DTSTART;TZID=Europe/Helsinki:20240324T100000
DTEND;TZID=Europe/Helsinki:20240324T100000
DTSTAMP:20260424T041409
CREATED:20240325T081104Z
LAST-MODIFIED:20251222T222519Z
UID:20988-1711274400-1711274400@info.mesip.pl
SUMMARY:Turniej Szachowy WIOSNA
DESCRIPTION:III Turniej Szachowy WIOSNA
URL:https://info.mesip.pl/event/turniej-szachowy-wiosna/
LOCATION:ul. Szkolna 16\, ul. Szkolna 16   \, Suchy Las\, Poland
CATEGORIES:Sport
END:VEVENT
BEGIN:VEVENT
DTSTART;TZID=Europe/Helsinki:20240324T180000
DTEND;TZID=Europe/Helsinki:20240324T180000
DTSTAMP:20260424T041409
CREATED:20240325T115310Z
LAST-MODIFIED:20251112T210122Z
UID:22112-1711303200-1711303200@info.mesip.pl
SUMMARY:Koncert Muzyki Filmowej
DESCRIPTION:Koncert Muzyki Filmowej
URL:https://info.mesip.pl/event/koncert-muzyki-filmowej/
LOCATION:ul. Św. Marcin 28\, ul. Św. Marcin 28   \, 62-020 Swarzędz\, Poland
CATEGORIES:Rozrywka
END:VEVENT
BEGIN:VEVENT
DTSTART;TZID=Europe/Helsinki:20240324T190000
DTEND;TZID=Europe/Helsinki:20240324T190000
DTSTAMP:20260424T041409
CREATED:20240325T115308Z
LAST-MODIFIED:20251112T210118Z
UID:22103-1711306800-1711306800@info.mesip.pl
SUMMARY:Koncert - Muzyczne TETE a TETE
DESCRIPTION:
URL:https://info.mesip.pl/event/koncert-muzyczne-tete-a-tete/
LOCATION:ul. Kostrzyńska 21\, ul. Kostrzyńska 21   \, Pobiedziska\, Poland
CATEGORIES:Kultura i sztuka
END:VEVENT
BEGIN:VEVENT
DTSTART;VALUE=DATE:20240325
DTEND;VALUE=DATE:20240326
DTSTAMP:20260424T041409
CREATED:20240325T115310Z
LAST-MODIFIED:20251112T210123Z
UID:22115-1711324800-1711411140@info.mesip.pl
SUMMARY:Biesiada poetycka
DESCRIPTION:
URL:https://info.mesip.pl/event/biesiada-poetycka/
LOCATION:os. Czwartaków 1\, os. Czwartaków 1   \, Swarzędz\, Poland
CATEGORIES:Kultura i sztuka
END:VEVENT
BEGIN:VEVENT
DTSTART;TZID=Europe/Helsinki:20240326T190000
DTEND;TZID=Europe/Helsinki:20240326T190000
DTSTAMP:20260424T041409
CREATED:20240325T115311Z
LAST-MODIFIED:20251112T210124Z
UID:22118-1711479600-1711479600@info.mesip.pl
SUMMARY:Koncert piosenek Marka Grechuty
DESCRIPTION:Ośrodek Kultury w Swarzędzu zaprasza na koncert – Piosenki Marka Grechuty w wykonaniu Zespołu ARETE. Koncert odbędzie się 26.04.2024 r. o godz. 19:00 w Sali Kameralnej Ośrodka Kultury (ul. Poznańska 14\, Swarzędz). Bilety w cenie 25 zł dostępne na portalu\nWśród wielu propozycji artystycznych ARETE od maja 2023 roku proponuje koncerty z piosenkami Marka Grechuty w autorskiej aranżacji. To wyjątkowy projekt gorąco przyjęty przez słuchaczy\, poświęcony twórczości jednego z najwybitniejszych polskich artystów XX wieku. Koncert autorski obejmuje największe przeboje Mistrza Piosenki Poetyckiej jak również mniej znane utwory\, by ukazać wszechstronność wybitnego kompozytora. Artyści zapraszają publiczność do wspólnego zaśpiewania takich przebojów jak „\, „\, „\, „ czy „Podczas koncertu można usłyszeć kilka utworów autorskich powstałych z inspiracji twórczością wspaniałego Krakowskiego Artysty. Piosenki przeplatane są interesującymi opowieściami\, wydarzeniami i anegdotami z życia Marka Grechuty.
URL:https://info.mesip.pl/event/koncert-piosenek-marka-grechuty/
LOCATION:ul. Poznańska 14\, ul. Poznańska 14   \, Swarzędz\, Poland
CATEGORIES:Kultura i sztuka
END:VEVENT
BEGIN:VEVENT
DTSTART;TZID=Europe/Helsinki:20240327T180000
DTEND;TZID=Europe/Helsinki:20240327T180000
DTSTAMP:20260424T041409
CREATED:20240325T115238Z
LAST-MODIFIED:20251222T222555Z
UID:22043-1711562400-1711562400@info.mesip.pl
SUMMARY:Wykład Jak Tadeusz Szułdrzyński
DESCRIPTION:Wykład Jak Tadeusz Szułdrzyński z hakatystami wojował\, powiastka pozytywistyczna
URL:https://info.mesip.pl/event/wyklad-jak-tadeusz-szuldrzynski/
LOCATION:ul. Gdyńska 47\, ul. Gdyńska 47   \, Czerwonak\, Poland
CATEGORIES:Kultura i sztuka
END:VEVENT
BEGIN:VEVENT
DTSTART;TZID=Europe/Helsinki:20240329T173000
DTEND;TZID=Europe/Helsinki:20240329T173000
DTSTAMP:20260424T041409
CREATED:20240404T140107Z
LAST-MODIFIED:20251112T210130Z
UID:24968-1711733400-1711733400@info.mesip.pl
SUMMARY:Nordic walking w Koziegłowach
DESCRIPTION:Nordic walking w Koziegłowach
URL:https://info.mesip.pl/event/nordic-walking-w-kozieglowach/
LOCATION:Osiedle Leśne 5\, Osiedle Leśne 5   \, 62-028 Koziegłowy\, Poland
CATEGORIES:Sport
END:VEVENT
BEGIN:VEVENT
DTSTART;VALUE=DATE:20240401
DTEND;VALUE=DATE:20240402
DTSTAMP:20260424T041409
CREATED:20240325T115300Z
LAST-MODIFIED:20251112T210111Z
UID:22081-1711929600-1712015940@info.mesip.pl
SUMMARY:4 Pory Roku w Kajaku
DESCRIPTION:
URL:https://info.mesip.pl/event/4-pory-roku-w-kajaku/
LOCATION:Czerwonak\, Czerwonak   \, Czerwonak\, Poland
CATEGORIES:Turystyka i rekreacja
END:VEVENT
BEGIN:VEVENT
DTSTART;VALUE=DATE:20240401
DTEND;VALUE=DATE:20240402
DTSTAMP:20260424T041409
CREATED:20240404T140106Z
LAST-MODIFIED:20251112T210125Z
UID:24956-1711929600-1712015940@info.mesip.pl
SUMMARY:4 pory roku w kajaku
DESCRIPTION:4 pory roku w kajaku
URL:https://info.mesip.pl/event/4-pory-roku-w-kajaku-2/
LOCATION:Czerwonak\, Czerwonak   \, Czerwonak\, Poland
CATEGORIES:Turystyka i rekreacja
END:VEVENT
BEGIN:VEVENT
DTSTART;VALUE=DATE:20240404
DTEND;VALUE=DATE:20240408
DTSTAMP:20260424T041409
CREATED:20240404T140110Z
LAST-MODIFIED:20251112T210133Z
UID:24977-1712188800-1712534340@info.mesip.pl
SUMMARY:Poznań Motor Show 2024
DESCRIPTION:Poznań Motor Show 2024
URL:https://info.mesip.pl/event/poznan-motor-show-2024/
LOCATION:ul. Głogowska 14\, ul. Głogowska 14   \, Poznań\, Poland
CATEGORIES:Sport
END:VEVENT
BEGIN:VEVENT
DTSTART;TZID=Europe/Helsinki:20240405T170000
DTEND;TZID=Europe/Helsinki:20240405T170000
DTSTAMP:20260424T041409
CREATED:20240404T140106Z
LAST-MODIFIED:20251112T210126Z
UID:24959-1712336400-1712336400@info.mesip.pl
SUMMARY:Koncert Galowy – wieczór z Wojciechem Bogusławskim
DESCRIPTION:Koncert Galowy – wieczór z Wojciechem Bogusławskim
URL:https://info.mesip.pl/event/koncert-galowy-wieczor-z-wojciechem-boguslawskim/
LOCATION:ul. Szkolna 16\, ul. Szkolna 16   \, Suchy Las\, Poland
CATEGORIES:Kultura i sztuka
END:VEVENT
BEGIN:VEVENT
DTSTART;TZID=Europe/Helsinki:20240406T130000
DTEND;TZID=Europe/Helsinki:20240406T130000
DTSTAMP:20260424T041409
CREATED:20240404T140110Z
LAST-MODIFIED:20251112T210136Z
UID:24980-1712408400-1712408400@info.mesip.pl
SUMMARY:Warsztaty plastyczne z Katarzyną Śniegocką
DESCRIPTION:
URL:https://info.mesip.pl/event/warsztaty-plastyczne-z-katarzyna-sniegocka/
LOCATION:ul. Ogrodowa 2\, ul. Ogrodowa 2   \, Jankowice\, Poland
CATEGORIES:Kultura i sztuka
END:VEVENT
BEGIN:VEVENT
DTSTART;TZID=Europe/Helsinki:20240406T200000
DTEND;TZID=Europe/Helsinki:20240406T200000
DTSTAMP:20260424T041409
CREATED:20240404T140107Z
LAST-MODIFIED:20251112T210127Z
UID:24962-1712433600-1712433600@info.mesip.pl
SUMMARY:Koncert 2Tm2\,3
DESCRIPTION:
URL:https://info.mesip.pl/event/koncert-2tm23/
LOCATION:ul. Podgórna 21\, ul. Podgórna 21   \, Puszczykowo\, Poland
CATEGORIES:Kultura i sztuka
END:VEVENT
BEGIN:VEVENT
DTSTART;VALUE=DATE:20240407
DTEND;VALUE=DATE:20240408
DTSTAMP:20260424T041409
CREATED:20240325T081105Z
LAST-MODIFIED:20251222T222519Z
UID:20991-1712448000-1712534340@info.mesip.pl
SUMMARY:KonstantyNOVA 10
DESCRIPTION:
URL:https://info.mesip.pl/event/konstantynova-10/
LOCATION:Konstantynowo 1\, Konstantynowo 1   \, Pecna\, Poland
CATEGORIES:Sport
END:VEVENT
BEGIN:VEVENT
DTSTART;TZID=Europe/Helsinki:20240407T170000
DTEND;TZID=Europe/Helsinki:20240407T170000
DTSTAMP:20260424T041409
CREATED:20240404T140111Z
LAST-MODIFIED:20251112T210140Z
UID:24983-1712509200-1712509200@info.mesip.pl
SUMMARY:Tomasz Lis & Irmina Trynkos
DESCRIPTION:
URL:https://info.mesip.pl/event/tomasz-lis-irmina-trynkos/
LOCATION:ul. Ogrodowa 2\, ul. Ogrodowa 2   \, Jankowice\, Poland
CATEGORIES:Kultura i sztuka
END:VEVENT
BEGIN:VEVENT
DTSTART;TZID=Europe/Helsinki:20240410T163000
DTEND;TZID=Europe/Helsinki:20240410T163000
DTSTAMP:20260424T041409
CREATED:20240404T140109Z
LAST-MODIFIED:20251112T210131Z
UID:24971-1712766600-1712766600@info.mesip.pl
SUMMARY:Turniej warcabowy dla dzieci
DESCRIPTION:Turniej warcabowy dla dzieci w KCRiS OAZA
URL:https://info.mesip.pl/event/turniej-warcabowy-dla-dzieci/
LOCATION:ul. Krasickiego 1\, ul. Krasickiego 1   \, Kórnik\, Poland
CATEGORIES:Sport
END:VEVENT
BEGIN:VEVENT
DTSTART;TZID=Europe/Helsinki:20240412T190000
DTEND;TZID=Europe/Helsinki:20240412T190000
DTSTAMP:20260424T041409
CREATED:20240325T115246Z
LAST-MODIFIED:20251112T210108Z
UID:22070-1712948400-1712948400@info.mesip.pl
SUMMARY:Apetyt na czereśnie
DESCRIPTION:
URL:https://info.mesip.pl/event/apetyt-na-czeresnie-2/
LOCATION:Plac Parkowy 1\, Plac Parkowy 1   \, Skrzynki\, gm. Stęszew\, Poland
CATEGORIES:Kultura i sztuka
END:VEVENT
BEGIN:VEVENT
DTSTART;TZID=Europe/Helsinki:20240413T093000
DTEND;TZID=Europe/Helsinki:20240413T093000
DTSTAMP:20260424T041409
CREATED:20240404T140111Z
LAST-MODIFIED:20251112T210140Z
UID:24986-1713000600-1713000600@info.mesip.pl
SUMMARY:Trening przed rywalizacją o Puchar Rowerowej Stolicy Polski
DESCRIPTION:
URL:https://info.mesip.pl/event/trening-przed-rywalizacja-o-puchar-rowerowej-stolicy-polski/
LOCATION:Murowana Goślina\, Murowana Goślina   \, Murowana Goślina\, Poland
CATEGORIES:Sport
END:VEVENT
BEGIN:VEVENT
DTSTART;TZID=Europe/Helsinki:20240413T150000
DTEND;TZID=Europe/Helsinki:20240413T150000
DTSTAMP:20260424T041409
CREATED:20240404T140112Z
LAST-MODIFIED:20251112T210144Z
UID:24989-1713020400-1713020400@info.mesip.pl
SUMMARY:Warsztaty medytacji
DESCRIPTION:
URL:https://info.mesip.pl/event/warsztaty-medytacji/
LOCATION:ul. Ogrodowa 2\, ul. Ogrodowa 2   \, Jankowice\, Poland
CATEGORIES:Zdrowie
END:VEVENT
BEGIN:VEVENT
DTSTART;TZID=Europe/Helsinki:20240413T170000
DTEND;TZID=Europe/Helsinki:20240413T170000
DTSTAMP:20260424T041409
CREATED:20240404T140107Z
LAST-MODIFIED:20251112T210129Z
UID:24965-1713027600-1713027600@info.mesip.pl
SUMMARY:Recital Krzysztofa Daukszewicza
DESCRIPTION:Recital Krzysztofa Daukszewicza
URL:https://info.mesip.pl/event/recital-krzysztofa-daukszewicza/
LOCATION:ul. Mściszewska 10\, ul. Mściszewska 10   \, Murowana Goślina\, Poland
CATEGORIES:Rozrywka
END:VEVENT
BEGIN:VEVENT
DTSTART;TZID=Europe/Helsinki:20240413T180000
DTEND;TZID=Europe/Helsinki:20240413T180000
DTSTAMP:20260424T041409
CREATED:20240325T081105Z
LAST-MODIFIED:20251222T222520Z
UID:20994-1713031200-1713031200@info.mesip.pl
SUMMARY:Apetyt na Czereśnie
DESCRIPTION:
URL:https://info.mesip.pl/event/apetyt-na-czeresnie/
LOCATION:ul. Trakt Napoleoński 16\, ul. Trakt Napoleoński 16   \, Rokietnica\, Poland
CATEGORIES:Kultura i sztuka
END:VEVENT
BEGIN:VEVENT
DTSTART;TZID=Europe/Helsinki:20240414T110000
DTEND;TZID=Europe/Helsinki:20240414T110000
DTSTAMP:20260424T041409
CREATED:20240404T140112Z
LAST-MODIFIED:20251112T210145Z
UID:24992-1713092400-1713092400@info.mesip.pl
SUMMARY:Niedzielne Poranki Teatralne “Król kruków”
DESCRIPTION:Niedzielne Poranki Teatralne “Król kruków”
URL:https://info.mesip.pl/event/niedzielne-poranki-teatralne-krol-krukow/
LOCATION:ul. Poznańska 14\, ul. Poznańska 14   \, Swarzędz\, Poland
CATEGORIES:Kultura i sztuka
END:VEVENT
END:VCALENDAR