BEGIN:VCALENDAR
VERSION:2.0
PRODID:-//MeSIP - ECPv6.15.13//NONSGML v1.0//EN
CALSCALE:GREGORIAN
METHOD:PUBLISH
X-WR-CALNAME:MeSIP
X-ORIGINAL-URL:https://info.mesip.pl
X-WR-CALDESC:Wydarzenia dla MeSIP
REFRESH-INTERVAL;VALUE=DURATION:PT1H
X-Robots-Tag:noindex
X-PUBLISHED-TTL:PT1H
BEGIN:VTIMEZONE
TZID:Europe/Helsinki
BEGIN:DAYLIGHT
TZOFFSETFROM:+0200
TZOFFSETTO:+0300
TZNAME:EEST
DTSTART:20230326T010000
END:DAYLIGHT
BEGIN:STANDARD
TZOFFSETFROM:+0300
TZOFFSETTO:+0200
TZNAME:EET
DTSTART:20231029T010000
END:STANDARD
BEGIN:DAYLIGHT
TZOFFSETFROM:+0200
TZOFFSETTO:+0300
TZNAME:EEST
DTSTART:20240331T010000
END:DAYLIGHT
BEGIN:STANDARD
TZOFFSETFROM:+0300
TZOFFSETTO:+0200
TZNAME:EET
DTSTART:20241027T010000
END:STANDARD
BEGIN:DAYLIGHT
TZOFFSETFROM:+0200
TZOFFSETTO:+0300
TZNAME:EEST
DTSTART:20250330T010000
END:DAYLIGHT
BEGIN:STANDARD
TZOFFSETFROM:+0300
TZOFFSETTO:+0200
TZNAME:EET
DTSTART:20251026T010000
END:STANDARD
BEGIN:DAYLIGHT
TZOFFSETFROM:+0200
TZOFFSETTO:+0300
TZNAME:EEST
DTSTART:20260329T010000
END:DAYLIGHT
BEGIN:STANDARD
TZOFFSETFROM:+0300
TZOFFSETTO:+0200
TZNAME:EET
DTSTART:20261025T010000
END:STANDARD
END:VTIMEZONE
BEGIN:VEVENT
DTSTART;TZID=Europe/Helsinki:20241004T180000
DTEND;TZID=Europe/Helsinki:20241110T180000
DTSTAMP:20260419T170501
CREATED:20241005T051024Z
LAST-MODIFIED:20251112T211501Z
UID:120737-1728064800-1731261600@info.mesip.pl
SUMMARY:Wernisaż wystawy malarstwa Krzysztofa Bijaczewskiego
DESCRIPTION:
URL:https://info.mesip.pl/event/wernisaz-wystawy-malarstwa-krzysztofa-bijaczewskiego/
LOCATION:ul. Poznańska 26\, ul. Poznańska 26   \, Puszczykowo\, Poland
CATEGORIES:wystawa
END:VEVENT
BEGIN:VEVENT
DTSTART;TZID=Europe/Helsinki:20241013T160000
DTEND;TZID=Europe/Helsinki:20241110T160000
DTSTAMP:20260419T170501
CREATED:20241004T051010Z
LAST-MODIFIED:20251112T211444Z
UID:119860-1728835200-1731254400@info.mesip.pl
SUMMARY:Wystawa w Dworze Skrzynki
DESCRIPTION:
URL:https://info.mesip.pl/event/wystawa-w-dworze-skrzynki/
LOCATION:Plac Parkowy 1\, Plac Parkowy 1   \, Skrzynki\, gm. Stęszew\, Poland
CATEGORIES:wystawa
END:VEVENT
BEGIN:VEVENT
DTSTART;TZID=Europe/Helsinki:20241017T110000
DTEND;TZID=Europe/Helsinki:20250228T110000
DTSTAMP:20260419T170501
CREATED:20241016T051127Z
LAST-MODIFIED:20251112T211602Z
UID:130461-1729162800-1740740400@info.mesip.pl
SUMMARY:Wernisaż w Muzeum Uzbrojenia
DESCRIPTION:
URL:https://info.mesip.pl/event/wernisaz-w-muzeum-uzbrojenia/
LOCATION:Park Cytadela Aleja Armii Poznań\, Park Cytadela Aleja Armii Poznań   \, 61-663 Poznań\, Poland
CATEGORIES:Kultura i sztuka
END:VEVENT
BEGIN:VEVENT
DTSTART;TZID=Europe/Helsinki:20241020T000000
DTEND;TZID=Europe/Helsinki:20241031T000000
DTSTAMP:20260419T170501
CREATED:20241018T051200Z
LAST-MODIFIED:20251112T211612Z
UID:132318-1729382400-1730332800@info.mesip.pl
SUMMARY:"Od materii do produktu..." - wystawa prac wykonanych podczas festiwalu
DESCRIPTION:Od 20 do 31 października w Swarzędzkim Centrum Historii i Sztuki odbędzie się  poplenerowa wystawa prac wykonanych podczas festiwalu:”Od materii do produktu…”\nZapraszamy!
URL:https://info.mesip.pl/event/od-materii-do-produktu-wystawa-prac-wykonanych-podczas-festiwalu/
LOCATION:ul. Bramkowa 6\, ul. Bramkowa 6   \, 62-020 Swarzędz\, Poland
CATEGORIES:wystawa
END:VEVENT
BEGIN:VEVENT
DTSTART;TZID=Europe/Helsinki:20241021T110000
DTEND;TZID=Europe/Helsinki:20241031T110000
DTSTAMP:20260419T170501
CREATED:20241019T051201Z
LAST-MODIFIED:20251112T211617Z
UID:133256-1729508400-1730372400@info.mesip.pl
SUMMARY:Światełko dla Czerwca w Konarzewie
DESCRIPTION:
URL:https://info.mesip.pl/event/swiatelko-dla-czerwca-w-konarzewie/
LOCATION:ul. Kośielna 2\, ul. Kośielna 2   \, 62-070 Konarzewo\, Poland
CATEGORIES:Uroczystości
END:VEVENT
BEGIN:VEVENT
DTSTART;TZID=Europe/Helsinki:20241027T110000
DTEND;TZID=Europe/Helsinki:20241027T150000
DTSTAMP:20260419T170501
CREATED:20241026T051254Z
LAST-MODIFIED:20251112T211640Z
UID:139775-1730026800-1730041200@info.mesip.pl
SUMMARY:Dni otwarte w Muzeum Motoryzacji w Puszczykowie
DESCRIPTION:
URL:https://info.mesip.pl/event/dni-otwarte-w-muzeum-motoryzacji-w-puszczykowie/
LOCATION:ul. Klasztorna 7\, ul. Klasztorna 7   \, 62-040 Puszczykowo\, Poland
CATEGORIES:Brak kategorii
END:VEVENT
BEGIN:VEVENT
DTSTART;TZID=Europe/Helsinki:20241027T120000
DTEND;TZID=Europe/Helsinki:20241027T130000
DTSTAMP:20260419T170501
CREATED:20241026T051254Z
LAST-MODIFIED:20251112T211640Z
UID:139778-1730030400-1730034000@info.mesip.pl
SUMMARY:Koncert dla powodzian w Jelonku
DESCRIPTION:Pomagamy powodzianom – koncert
URL:https://info.mesip.pl/event/koncert-dla-powodzian-w-jelonku/
LOCATION:ul. Złotnicka 4\, ul. Złotnicka 4   \, 62-002 Jelonek\, Poland
CATEGORIES:Brak kategorii
END:VEVENT
BEGIN:VEVENT
DTSTART;TZID=Europe/Helsinki:20241027T160000
DTEND;TZID=Europe/Helsinki:20241027T160000
DTSTAMP:20260419T170501
CREATED:20241002T050941Z
LAST-MODIFIED:20251112T211527Z
UID:118161-1730044800-1730044800@info.mesip.pl
SUMMARY:Festiwal Muzyki Kameralnej w Buku
DESCRIPTION:
URL:https://info.mesip.pl/event/festiwal-muzyki-kameralnej-w-buku/
LOCATION:Mury 30\, Mury 30   \, Buk\, Poland
CATEGORIES:Kultura i sztuka
END:VEVENT
BEGIN:VEVENT
DTSTART;TZID=Europe/Helsinki:20241027T160000
DTEND;TZID=Europe/Helsinki:20241027T160000
DTSTAMP:20260419T170501
CREATED:20241011T051109Z
LAST-MODIFIED:20251112T211531Z
UID:125964-1730044800-1730044800@info.mesip.pl
SUMMARY:Napisz siebie\, czyli warsztaty pisania
DESCRIPTION:
URL:https://info.mesip.pl/event/napisz-siebie-czyli-warsztaty-pisania/
LOCATION:ul. Ogrodowa 2\, ul. Ogrodowa 2   \, Jankowice\, Poland
CATEGORIES:Warsztaty
END:VEVENT
BEGIN:VEVENT
DTSTART;TZID=Europe/Helsinki:20241027T170000
DTEND;TZID=Europe/Helsinki:20241027T170000
DTSTAMP:20260419T170501
CREATED:20240925T050908Z
LAST-MODIFIED:20251112T211353Z
UID:112558-1730048400-1730048400@info.mesip.pl
SUMMARY:“Lunatyk - na żywo” i kwartet w duecie
DESCRIPTION:
URL:https://info.mesip.pl/event/lunatyk-na-zywo-i-kwartet-w-duecie/
LOCATION:ul. Ogrodowa 14\, ul. Ogrodowa 14   \, Tarnowo Podgórne\, Poland
CATEGORIES:Kultura i sztuka
END:VEVENT
BEGIN:VEVENT
DTSTART;TZID=Europe/Helsinki:20241027T170000
DTEND;TZID=Europe/Helsinki:20241027T170000
DTSTAMP:20260419T170501
CREATED:20241023T051337Z
LAST-MODIFIED:20251112T211622Z
UID:136959-1730048400-1730048400@info.mesip.pl
SUMMARY:43. Urodziny Chóru Dziewczęcego "Canzona" w Murowanej Goślinie
DESCRIPTION:
URL:https://info.mesip.pl/event/43-urodziny-choru-dziewczecego-canzona-w-murowanej-goslinie/
LOCATION:ul. Mściszewska 10\, ul. Mściszewska 10   \, Murowana Goślina\, Poland
CATEGORIES:Uroczystości
END:VEVENT
BEGIN:VEVENT
DTSTART;TZID=Europe/Helsinki:20241027T173000
DTEND;TZID=Europe/Helsinki:20241027T173000
DTSTAMP:20260419T170501
CREATED:20241026T051255Z
LAST-MODIFIED:20251112T211641Z
UID:139781-1730050200-1730050200@info.mesip.pl
SUMMARY:Mecz piłki ręcznej w Buku
DESCRIPTION:
URL:https://info.mesip.pl/event/mecz-pilki-recznej-w-buku/
LOCATION:ul. Szarych Szeregów 10\, ul. Szarych Szeregów 10   \, Buk\, Poland
CATEGORIES:Brak kategorii
END:VEVENT
BEGIN:VEVENT
DTSTART;TZID=Europe/Helsinki:20241027T180000
DTEND;TZID=Europe/Helsinki:20241027T180000
DTSTAMP:20260419T170501
CREATED:20241026T051252Z
LAST-MODIFIED:20251112T211642Z
UID:139769-1730052000-1730052000@info.mesip.pl
SUMMARY:Spektakl Grupy Teatralnej Teges w Puszczykowie
DESCRIPTION:
URL:https://info.mesip.pl/event/spektakl-grupy-teatralnej-teges-w-puszczykowie/
LOCATION:ul. Podgórna 21\, ul. Podgórna 21   \, Puszczykowo\, Poland
CATEGORIES:Brak kategorii
END:VEVENT
BEGIN:VEVENT
DTSTART;TZID=Europe/Helsinki:20241028T180000
DTEND;TZID=Europe/Helsinki:20241028T180000
DTSTAMP:20260419T170501
CREATED:20241004T051021Z
LAST-MODIFIED:20251112T211500Z
UID:119890-1730138400-1730138400@info.mesip.pl
SUMMARY:Wspomnienie Barbary Wachowicz w Swarzędzu
DESCRIPTION:Centrum Międzypokoleniowe „Pogodna” i Biblioteka Publiczna zapraszają na prezentację multimedialną „Fioletowa Dama. Wspomnienie Barbary Wachowicz” do Biblioteki Publicznej na os. Czwartaków 1 w Swarzędzu w poniedziałek .\nBarbara Wachowicz pisała reportaże\, opowieści i gawędy o życiu\, twórczości\, miłościach i tajemnicach Adama Mickiewicza\, Juliusza Słowackiego\, Henryka Sienkiewicza\, Stefana Żeromskiego\, Tadeusza Kościuszki. Była autorka scenariuszy filmowych i telewizyjnych\, audycji radiowych\, wystaw oraz widowisk scenicznych (np. ).\nW Swarzędzu mamy teraz niepowtarzalną okazję poznać jej miłości\, twórczość i tajemnice.\nInformacja: swarzedz.pl
URL:https://info.mesip.pl/event/wspomnienie-barbary-wachowicz-w-swarzedzu/
LOCATION:os. Czwartaków 1\, os. Czwartaków 1   \, Swarzędz\, Poland
CATEGORIES:Kultura i sztuka
END:VEVENT
BEGIN:VEVENT
DTSTART;TZID=Europe/Helsinki:20241030T170000
DTEND;TZID=Europe/Helsinki:20241030T170000
DTSTAMP:20260419T170501
CREATED:20241015T051139Z
LAST-MODIFIED:20251112T211549Z
UID:129541-1730307600-1730307600@info.mesip.pl
SUMMARY:Spotkanie autorskie z Łukaszem Wierzbickim
DESCRIPTION:Spotkanie autorskie z autorem książek dla dzieci i dorosłych Łukaszem Wierzbickim
URL:https://info.mesip.pl/event/spotkanie-autorskie-z-lukaszem-wierzbickim/
LOCATION:ul. Poznańska 24\, ul. Poznańska 24   \, Kostrzyn\, Poland
CATEGORIES:Kultura i sztuka
END:VEVENT
BEGIN:VEVENT
DTSTART;TZID=Europe/Helsinki:20241030T180000
DTEND;TZID=Europe/Helsinki:20241030T180000
DTSTAMP:20260419T170501
CREATED:20241026T051256Z
LAST-MODIFIED:20251112T211643Z
UID:139785-1730311200-1730311200@info.mesip.pl
SUMMARY:Koncert dla Seniorów w Zalasewie
DESCRIPTION:Koncert dla Seniorów: „Piosenka jest dobra na wszystko”
URL:https://info.mesip.pl/event/koncert-dla-seniorow-w-zalasewie/
LOCATION:ul. Jana Heweliusza 26\, ul. Jana Heweliusza 26   \, Zalasewo\, Poland
CATEGORIES:Brak kategorii
END:VEVENT
BEGIN:VEVENT
DTSTART;TZID=Europe/Helsinki:20241031T000000
DTEND;TZID=Europe/Helsinki:20241031T000000
DTSTAMP:20260419T170501
CREATED:20241002T050951Z
LAST-MODIFIED:20251112T211429Z
UID:118189-1730332800-1730332800@info.mesip.pl
SUMMARY:Rajd Integracyjny Osób Niepełnosprawnych „Kijkami po Wielkopolskim Parku Narodowym
DESCRIPTION:
URL:https://info.mesip.pl/event/rajd-integracyjny-osob-niepelnosprawnych-kijkami-po-wielkopolskim-parku-narodowym/
LOCATION:ul. Skrzynecka\, ul. Skrzynecka   \, Osowa Góra\, Poland
CATEGORIES:Turystyka i rekreacja
END:VEVENT
BEGIN:VEVENT
DTSTART;TZID=Europe/Helsinki:20241031T163000
DTEND;TZID=Europe/Helsinki:20241031T163000
DTSTAMP:20260419T170501
CREATED:20241026T051257Z
LAST-MODIFIED:20251112T211644Z
UID:139788-1730392200-1730392200@info.mesip.pl
SUMMARY:Korowód świętych w Buku
DESCRIPTION:
URL:https://info.mesip.pl/event/korowod-swietych-w-buku/
LOCATION:ul. Mury 5\, ul. Mury 5   \, Buk\, Poland
CATEGORIES:Brak kategorii
END:VEVENT
BEGIN:VEVENT
DTSTART;TZID=Europe/Helsinki:20241031T170000
DTEND;TZID=Europe/Helsinki:20241031T190000
DTSTAMP:20260419T170501
CREATED:20241010T051055Z
LAST-MODIFIED:20251112T211520Z
UID:125065-1730394000-1730401200@info.mesip.pl
SUMMARY:Upiorny Bal w Kostrzynie
DESCRIPTION:
URL:https://info.mesip.pl/event/upiorny-bal-w-kostrzynie/
LOCATION:Miejsko-Gminny Ośrodek Kultury w Kostrzynie\, Miejsko-Gminny Ośrodek Kultury w Kostrzynie   \, Kostrzyn\, Poland
CATEGORIES:Dla dzieci
END:VEVENT
BEGIN:VEVENT
DTSTART;TZID=Europe/Helsinki:20241031T180000
DTEND;TZID=Europe/Helsinki:20241031T193000
DTSTAMP:20260419T170501
CREATED:20241009T051044Z
LAST-MODIFIED:20251112T211513Z
UID:124176-1730397600-1730403000@info.mesip.pl
SUMMARY:Halloween Party w Kostrzynie
DESCRIPTION:HALLOWEEN PARTY w Międzypokoleniowym Centrum Inicjatyw Lokalnych!
URL:https://info.mesip.pl/event/halloween-party-w-kostrzynie/
LOCATION:   \, Poland
CATEGORIES:Dla dzieci
END:VEVENT
BEGIN:VEVENT
DTSTART;TZID=Europe/Helsinki:20241105T170000
DTEND;TZID=Europe/Helsinki:20241128T170000
DTSTAMP:20260419T170501
CREATED:20241015T051140Z
LAST-MODIFIED:20251112T211552Z
UID:129546-1730826000-1732813200@info.mesip.pl
SUMMARY:Wystawa fotografii w Suchym Lesie
DESCRIPTION:Fundacja Pomocny Projekt zaprasza na wyjątkową wystawę fotografii
URL:https://info.mesip.pl/event/wystawa-fotografii-w-suchym-lesie/
LOCATION:ul. Szkolna 16\, ul. Szkolna 16   \, 62-002 Suchy Las\, Poland
CATEGORIES:Kultura i sztuka
END:VEVENT
BEGIN:VEVENT
DTSTART;TZID=Europe/Helsinki:20241106T103000
DTEND;TZID=Europe/Helsinki:20241106T103000
DTSTAMP:20260419T170501
CREATED:20241016T051133Z
LAST-MODIFIED:20251112T211610Z
UID:130482-1730889000-1730889000@info.mesip.pl
SUMMARY:Finał Konkursu Przekąski z Gąski w Dworze Skrzynki
DESCRIPTION:
URL:https://info.mesip.pl/event/final-konkursu-przekaski-z-gaski-w-dworze-skrzynki/
LOCATION:Plac Parkowy 1\, Plac Parkowy 1   \, Skrzynki\, gm. Stęszew\, Poland
CATEGORIES:Konkurs
END:VEVENT
BEGIN:VEVENT
DTSTART;TZID=Europe/Helsinki:20241106T140000
DTEND;TZID=Europe/Helsinki:20241106T180000
DTSTAMP:20260419T170501
CREATED:20241012T051103Z
LAST-MODIFIED:20251112T211541Z
UID:126860-1730901600-1730916000@info.mesip.pl
SUMMARY:Bezpieczny Senior w domu i sieci
DESCRIPTION:Zapraszamy Seniorów na zajęcia “Bezpieczny senior w domu i sieci” Ustalone terminy:\n– środa\, 16.10 w godzinach 14:00-18:00\n– środa\, 23.10 w godzinach 14:00-18:00\n– środa\, 6.11 w godzinach 14:00-18:00 \nMiejsce zajęć:\nBiblioteka Publiczna w Swarzędzu\nos. Czwartaków 1 62-020 Swarzędz\nZapisy: osobiście w Bibliotece lub pod nr tel.: 61 8173 103\nGrupa docelowa:\nOsoby 60+ z Gminy Swarzędz\, grupa minimum 10 osobowa (max 20 osobowa) \nProwadzący:\nPrzemysław Barański – Były policjant w stopniu oficerskim; funkcjonariusz Centralnego Biura Śledczego Policji w Poznaniu. Instruktor Policji w zakresie taktyk i technik Interwencji. Instruktor i szkoleniowiec (m.in. z zakresu samoobrony i aktywności fizycznej). \nDofinansowanie:\nDziałania dofinansowane ze środków Powiatu Poznańskiego w ramach projektu “Uniwersytet Trzeciego Wieku Powiatu Poznańskiego”. Warsztaty są bezpłatne. \nSkrócony opis zajęć:\nWarsztaty mają na celu podniesienie poziomu wiedzy osób starszych i samotnych na temat unikania oszustw lub kradzieży\, ze szczególnym uwzględnieniem metod na tzw. „wnuczka”\, „policjanta” i „pracownika administracji”.\nPodczas warsztatów omawiane będą najważniejsze zagadnienia związane z zagrożeniami\, którym padają osoby starsze\, tj. oszustwa i kradzieże bezpośrednie\, oszustwa telekomunikacyjne i internetowe. Spotkania poświęcone będą również samoobronie\, dostosowanej do grupy wiekowej\, która ma na celu podniesienie pewności siebie osób starszych w sytuacji zagrożenia. Praktyczne zajęcia będą obejmowały samoobronę z wykorzystaniem przedmiotów użyteczności codziennej np. torebka\, parasol. \nOrganizator:\nStowarzyszenie na rzecz Osób Niepełnosprawnych i Aktywności Lokalnej DLA CIEBIE
URL:https://info.mesip.pl/event/bezpieczny-senior-w-domu-i-sieci/
LOCATION:os. Czwartaków 1\, os. Czwartaków 1   \, Swarzędz\, Poland
CATEGORIES:Dla seniora
END:VEVENT
BEGIN:VEVENT
DTSTART;TZID=Europe/Helsinki:20241108T160000
DTEND;TZID=Europe/Helsinki:20241108T170000
DTSTAMP:20260419T170501
CREATED:20241108T051415Z
LAST-MODIFIED:20251112T211704Z
UID:152251-1731081600-1731085200@info.mesip.pl
SUMMARY:Bajkoterapia z animacją
DESCRIPTION:
URL:https://info.mesip.pl/event/bajkoterapia-z-animacja/
LOCATION:ul. Szkolna 16\, ul. Szkolna 16   \, Suchy Las\, Poland
CATEGORIES:Brak kategorii
END:VEVENT
BEGIN:VEVENT
DTSTART;TZID=Europe/Helsinki:20241108T180000
DTEND;TZID=Europe/Helsinki:20241108T180000
DTSTAMP:20260419T170501
CREATED:20241011T051111Z
LAST-MODIFIED:20251112T211534Z
UID:125967-1731088800-1731088800@info.mesip.pl
SUMMARY:Wokół Chopina – Maria Gabryś-Heyke
DESCRIPTION:
URL:https://info.mesip.pl/event/wokol-chopina-maria-gabrys-heyke/
LOCATION:ul. Ogrodowa 2\, ul. Ogrodowa 2   \, Jankowice\, Poland
CATEGORIES:Kultura i sztuka
END:VEVENT
BEGIN:VEVENT
DTSTART;TZID=Europe/Helsinki:20241108T183000
DTEND;TZID=Europe/Helsinki:20241108T183000
DTSTAMP:20260419T170501
CREATED:20241012T051107Z
LAST-MODIFIED:20251112T211545Z
UID:126865-1731090600-1731090600@info.mesip.pl
SUMMARY:Ulica Krochmalna w Skrzynkach
DESCRIPTION:
URL:https://info.mesip.pl/event/ulica-krochmalna-w-skrzynkach/
LOCATION:Plac Parkowy 1\, Plac Parkowy 1   \, Skrzynki\, gm. Stęszew\, Poland
CATEGORIES:Kultura i sztuka
END:VEVENT
BEGIN:VEVENT
DTSTART;TZID=Europe/Helsinki:20241108T190000
DTEND;TZID=Europe/Helsinki:20241108T190000
DTSTAMP:20260419T170501
CREATED:20241022T051306Z
LAST-MODIFIED:20251112T211619Z
UID:136025-1731092400-1731092400@info.mesip.pl
SUMMARY:Koncert z okazji Święta Niepodległości
DESCRIPTION:Koncert z okazji Święta Niepodległości
URL:https://info.mesip.pl/event/koncert-z-okazji-swieta-niepodleglosci/
LOCATION:ul.  Piłsudskiego 3\, ul.  Piłsudskiego 3   \, Koziegłowy\, Poland
CATEGORIES:Kultura i sztuka
END:VEVENT
BEGIN:VEVENT
DTSTART;TZID=Europe/Helsinki:20241108T190000
DTEND;TZID=Europe/Helsinki:20241109T190000
DTSTAMP:20260419T170501
CREATED:20241108T051416Z
LAST-MODIFIED:20251112T211705Z
UID:152254-1731092400-1731178800@info.mesip.pl
SUMMARY:Kleszczewskie zaduszki
DESCRIPTION:
URL:https://info.mesip.pl/event/kleszczewskie-zaduszki/
LOCATION:ul. Poznańska 10\, ul. Poznańska 10   \, Kleszczewo\, Poland
CATEGORIES:Brak kategorii
END:VEVENT
BEGIN:VEVENT
DTSTART;VALUE=DATE:20241109
DTEND;VALUE=DATE:20241130
DTSTAMP:20260419T170501
CREATED:20241030T051313Z
LAST-MODIFIED:20251112T211647Z
UID:143575-1731110400-1732924740@info.mesip.pl
SUMMARY:Wystawa "Ojcowie Niepodległości"
DESCRIPTION:
URL:https://info.mesip.pl/event/wystawa-ojcowie-niepodleglosci/
LOCATION:ul. Podgórna 21\, ul. Podgórna 21   \, Puszczykowo\, Poland
CATEGORIES:Brak kategorii
END:VEVENT
BEGIN:VEVENT
DTSTART;TZID=Europe/Helsinki:20241109T100000
DTEND;TZID=Europe/Helsinki:20241109T100000
DTSTAMP:20260419T170501
CREATED:20241026T051257Z
LAST-MODIFIED:20251112T211644Z
UID:139791-1731146400-1731146400@info.mesip.pl
SUMMARY:Rajd Niepodległości z metą w Kobylnicy
DESCRIPTION:Z okazji 106. rocznicy odzyskania niepodległości przez Polskę oraz 106. rocznicy wybuchu Powstania Wielkopolskiego\, a także 80. rocznicy bitwy o Monte Cassino\, serdecznie zapraszamy na \, który odbędzie się  z metą w Kobylnicy.\nOrganizatorem wydarzenia jest Oddział PTTK “Meblarz” w Swarzędzu\, przy wsparciu dyrekcji oraz pracowników Szkoły Podstawowej im. Kawalerów Orderu Uśmiechu w Kobylnicy oraz Urzędu Miasta i Gminy Swarzędz. Rajd jest jednym z najstarszych w Wielkopolsce wydarzeń upamiętniających nasze narodowe dzieje\, a jego tradycja przyciąga uczestników z różnych zakątków regionu.\nCelem rajdu jest uczczenie pamięci bohaterów oraz wybitnych wydarzeń w historii Polski. Na mecie uczestnicy będą mieli okazję zapoznać się z oryginalnymi pamiątkami po poznaniaku\, żołnierzu II Korpusu Polskiego\, śp. Erwinie Muszyńskim\, który poległ podczas wyzwalania Bolonii. Będzie to niepowtarzalna szansa\, by z bliska przyjrzeć się odznaczeniom oraz dokumentom\, które mówią o odwadze i poświęceniu naszych przodków.\nRajd to nie tylko doskonała okazja do aktywnego spędzenia czasu na świeżym powietrzu\, ale także do wspólnego uczczenia pamięci o wydarzeniach\, które ukształtowały naszą historię.
URL:https://info.mesip.pl/event/rajd-niepodleglosci-z-meta-w-kobylnicy/
LOCATION:ul. Poznańska 50\, ul. Poznańska 50   \, 62-006 Kobylnica\, Poland
CATEGORIES:Brak kategorii
END:VEVENT
END:VCALENDAR