BEGIN:VCALENDAR
VERSION:2.0
PRODID:-//MeSIP - ECPv6.15.13//NONSGML v1.0//EN
CALSCALE:GREGORIAN
METHOD:PUBLISH
X-WR-CALNAME:MeSIP
X-ORIGINAL-URL:https://info.mesip.pl
X-WR-CALDESC:Wydarzenia dla MeSIP
REFRESH-INTERVAL;VALUE=DURATION:PT1H
X-Robots-Tag:noindex
X-PUBLISHED-TTL:PT1H
BEGIN:VTIMEZONE
TZID:Europe/Helsinki
BEGIN:DAYLIGHT
TZOFFSETFROM:+0200
TZOFFSETTO:+0300
TZNAME:EEST
DTSTART:20230326T010000
END:DAYLIGHT
BEGIN:STANDARD
TZOFFSETFROM:+0300
TZOFFSETTO:+0200
TZNAME:EET
DTSTART:20231029T010000
END:STANDARD
BEGIN:DAYLIGHT
TZOFFSETFROM:+0200
TZOFFSETTO:+0300
TZNAME:EEST
DTSTART:20240331T010000
END:DAYLIGHT
BEGIN:STANDARD
TZOFFSETFROM:+0300
TZOFFSETTO:+0200
TZNAME:EET
DTSTART:20241027T010000
END:STANDARD
BEGIN:DAYLIGHT
TZOFFSETFROM:+0200
TZOFFSETTO:+0300
TZNAME:EEST
DTSTART:20250330T010000
END:DAYLIGHT
BEGIN:STANDARD
TZOFFSETFROM:+0300
TZOFFSETTO:+0200
TZNAME:EET
DTSTART:20251026T010000
END:STANDARD
BEGIN:DAYLIGHT
TZOFFSETFROM:+0200
TZOFFSETTO:+0300
TZNAME:EEST
DTSTART:20260329T010000
END:DAYLIGHT
BEGIN:STANDARD
TZOFFSETFROM:+0300
TZOFFSETTO:+0200
TZNAME:EET
DTSTART:20261025T010000
END:STANDARD
END:VTIMEZONE
BEGIN:VEVENT
DTSTART;TZID=Europe/Helsinki:20240716T000000
DTEND;TZID=Europe/Helsinki:20241020T000000
DTSTAMP:20260419T170401
CREATED:20240711T050443Z
LAST-MODIFIED:20251112T210929Z
UID:62132-1721088000-1729382400@info.mesip.pl
SUMMARY:Wystawa czasowa: "Gatunki inwazyjne w faunie Polski"
DESCRIPTION:
URL:https://info.mesip.pl/event/wystawa-czasowa-gatunki-inwazyjne-w-faunie-polski/
LOCATION:ul. Akacjowa 12\, ul. Akacjowa 12   \, 62-006 Uzarzewo\, Poland
CATEGORIES:Edukacja
END:VEVENT
BEGIN:VEVENT
DTSTART;TZID=Europe/Helsinki:20241004T180000
DTEND;TZID=Europe/Helsinki:20241110T180000
DTSTAMP:20260419T170401
CREATED:20241005T051024Z
LAST-MODIFIED:20251112T211501Z
UID:120737-1728064800-1731261600@info.mesip.pl
SUMMARY:Wernisaż wystawy malarstwa Krzysztofa Bijaczewskiego
DESCRIPTION:
URL:https://info.mesip.pl/event/wernisaz-wystawy-malarstwa-krzysztofa-bijaczewskiego/
LOCATION:ul. Poznańska 26\, ul. Poznańska 26   \, Puszczykowo\, Poland
CATEGORIES:wystawa
END:VEVENT
BEGIN:VEVENT
DTSTART;TZID=Europe/Helsinki:20241009T140000
DTEND;TZID=Europe/Helsinki:20241023T170000
DTSTAMP:20260419T170401
CREATED:20240920T050839Z
LAST-MODIFIED:20251112T211318Z
UID:108602-1728482400-1729702800@info.mesip.pl
SUMMARY:Jesienne pokazy dla dzieci i młodzieży w Szreniawie
DESCRIPTION:
URL:https://info.mesip.pl/event/jesienne-pokazy-dla-dzieci-i-mlodziezy-w-szreniawie/
LOCATION:ul. Dworcowa 5\, ul. Dworcowa 5   \, Szreniawa\, Poland
CATEGORIES:Dla dzieci
END:VEVENT
BEGIN:VEVENT
DTSTART;TZID=Europe/Helsinki:20241013T160000
DTEND;TZID=Europe/Helsinki:20241110T160000
DTSTAMP:20260419T170401
CREATED:20241004T051010Z
LAST-MODIFIED:20251112T211444Z
UID:119860-1728835200-1731254400@info.mesip.pl
SUMMARY:Wystawa w Dworze Skrzynki
DESCRIPTION:
URL:https://info.mesip.pl/event/wystawa-w-dworze-skrzynki/
LOCATION:Plac Parkowy 1\, Plac Parkowy 1   \, Skrzynki\, gm. Stęszew\, Poland
CATEGORIES:wystawa
END:VEVENT
BEGIN:VEVENT
DTSTART;TZID=Europe/Helsinki:20241017T110000
DTEND;TZID=Europe/Helsinki:20250228T110000
DTSTAMP:20260419T170401
CREATED:20241016T051127Z
LAST-MODIFIED:20251112T211602Z
UID:130461-1729162800-1740740400@info.mesip.pl
SUMMARY:Wernisaż w Muzeum Uzbrojenia
DESCRIPTION:
URL:https://info.mesip.pl/event/wernisaz-w-muzeum-uzbrojenia/
LOCATION:Park Cytadela Aleja Armii Poznań\, Park Cytadela Aleja Armii Poznań   \, 61-663 Poznań\, Poland
CATEGORIES:Kultura i sztuka
END:VEVENT
BEGIN:VEVENT
DTSTART;TZID=Europe/Helsinki:20241017T170000
DTEND;TZID=Europe/Helsinki:20241017T170000
DTSTAMP:20260419T170401
CREATED:20241009T051042Z
LAST-MODIFIED:20251112T211511Z
UID:124170-1729184400-1729184400@info.mesip.pl
SUMMARY:„Zapiski obserwatora” – wieczór poetycki Barbary Łucji Gryglewicz
DESCRIPTION:„Zapiski obserwatora” – wieczór poetycki Barbary Łucji Gryglewicz
URL:https://info.mesip.pl/event/zapiski-obserwatora-wieczor-poetycki-barbary-lucji-gryglewicz/
LOCATION:Rynek 16\, Rynek 16   \, Kórnik - Bnin\, Poland
CATEGORIES:Wykład
END:VEVENT
BEGIN:VEVENT
DTSTART;TZID=Europe/Helsinki:20241017T180000
DTEND;TZID=Europe/Helsinki:20241017T180000
DTSTAMP:20260419T170401
CREATED:20241004T051013Z
LAST-MODIFIED:20251112T211449Z
UID:119868-1729188000-1729188000@info.mesip.pl
SUMMARY:Spotkanie z Patrykiem Galewskim i Piotrem Żyłką
DESCRIPTION:Spotkanie z Patrykiem Galewskim i Piotrem Żyłką
URL:https://info.mesip.pl/event/spotkanie-z-patrykiem-galewskim-i-piotrem-zylka/
LOCATION:ul.  Piłsudskiego 3\, ul.  Piłsudskiego 3   \, Koziegłowy\, Poland
CATEGORIES:Kultura i sztuka
END:VEVENT
BEGIN:VEVENT
DTSTART;TZID=Europe/Helsinki:20241017T190000
DTEND;TZID=Europe/Helsinki:20241017T190000
DTSTAMP:20260419T170401
CREATED:20240925T050907Z
LAST-MODIFIED:20251112T211351Z
UID:112552-1729191600-1729191600@info.mesip.pl
SUMMARY:“Apetyt na czereśnie” w SEZAMIE
DESCRIPTION:
URL:https://info.mesip.pl/event/apetyt-na-czeresnie-w-sezamie/
LOCATION:ul. Ogrodowa 13a\, ul. Ogrodowa 13a   \, Przeźmierowo\, Poland
CATEGORIES:Kultura i sztuka
END:VEVENT
BEGIN:VEVENT
DTSTART;TZID=Europe/Helsinki:20241017T190000
DTEND;TZID=Europe/Helsinki:20241017T190000
DTSTAMP:20260419T170401
CREATED:20241016T051128Z
LAST-MODIFIED:20251112T211602Z
UID:130464-1729191600-1729191600@info.mesip.pl
SUMMARY:Koncert Sonii Bohosiewicz w Mosinie
DESCRIPTION:
URL:https://info.mesip.pl/event/koncert-sonii-bohosiewicz-w-mosinie/
LOCATION:Dworcowa 4\,  Dworcowa 4   \, Mosina\, Poland
CATEGORIES:Kultura i sztuka
END:VEVENT
BEGIN:VEVENT
DTSTART;TZID=Europe/Helsinki:20241018T180000
DTEND;TZID=Europe/Helsinki:20241018T180000
DTSTAMP:20260419T170401
CREATED:20241004T051015Z
LAST-MODIFIED:20251112T211451Z
UID:119871-1729274400-1729274400@info.mesip.pl
SUMMARY:Dni Seniora: koncert BODO Tanga
DESCRIPTION:Dni Seniora: koncert BODO Tanga
URL:https://info.mesip.pl/event/dni-seniora-koncert-bodo-tanga/
LOCATION:ul.  Piłsudskiego 3\, ul.  Piłsudskiego 3   \, Koziegłowy\, Poland
CATEGORIES:Kultura i sztuka
END:VEVENT
BEGIN:VEVENT
DTSTART;TZID=Europe/Helsinki:20241018T180000
DTEND;TZID=Europe/Helsinki:20241018T190000
DTSTAMP:20260419T170401
CREATED:20241010T051054Z
LAST-MODIFIED:20251112T211518Z
UID:125056-1729274400-1729278000@info.mesip.pl
SUMMARY:Koncert Familijny Kalejdoskop Marzeń i Snów
DESCRIPTION:Interaktywny Koncert Familijny Kalejdoskop Marzeń i Snów
URL:https://info.mesip.pl/event/koncert-familijny-kalejdoskop-marzen-i-snow/
LOCATION:ul. Poznańska 19\, ul. Poznańska 19   \, Konarzewo\, Poland
CATEGORIES:Kultura i sztuka
END:VEVENT
BEGIN:VEVENT
DTSTART;TZID=Europe/Helsinki:20241018T183000
DTEND;TZID=Europe/Helsinki:20241018T183000
DTSTAMP:20260419T170401
CREATED:20241015T051136Z
LAST-MODIFIED:20251112T211546Z
UID:129529-1729276200-1729276200@info.mesip.pl
SUMMARY:Jak zostać piratem z Karaibów w Kleszczewie
DESCRIPTION:
URL:https://info.mesip.pl/event/jak-zostac-piratem-z-karaibow-w-kleszczewie/
LOCATION:ul. Poznańska 10\, ul. Poznańska 10   \, Kleszczewo\, Poland
CATEGORIES:Turystyka i rekreacja
END:VEVENT
BEGIN:VEVENT
DTSTART;TZID=Europe/Helsinki:20241019T094500
DTEND;TZID=Europe/Helsinki:20241019T094500
DTSTAMP:20260419T170401
CREATED:20240920T050841Z
LAST-MODIFIED:20251112T211322Z
UID:108605-1729331100-1729331100@info.mesip.pl
SUMMARY:Warsztaty dla Pań w Skrzynkach
DESCRIPTION:
URL:https://info.mesip.pl/event/warsztaty-dla-pan-w-skrzynkach/
LOCATION:Plac Parkowy 1\, Plac Parkowy 1   \, Skrzynki\, gm. Stęszew\, Poland
CATEGORIES:Warsztaty
END:VEVENT
BEGIN:VEVENT
DTSTART;TZID=Europe/Helsinki:20241019T100000
DTEND;TZID=Europe/Helsinki:20241019T100000
DTSTAMP:20260419T170401
CREATED:20241002T050947Z
LAST-MODIFIED:20251112T211422Z
UID:118177-1729332000-1729332000@info.mesip.pl
SUMMARY:Warsztaty "Grzyby w Kuchni"
DESCRIPTION:
URL:https://info.mesip.pl/event/warsztaty-grzyby-w-kuchni/
LOCATION:Plac Parkowy 1\, Plac Parkowy 1   \, Skrzynki\, gm. Stęszew\, Poland
CATEGORIES:Warsztaty
END:VEVENT
BEGIN:VEVENT
DTSTART;TZID=Europe/Helsinki:20241019T103000
DTEND;TZID=Europe/Helsinki:20241019T103000
DTSTAMP:20260419T170401
CREATED:20240911T050741Z
LAST-MODIFIED:20251112T211250Z
UID:102021-1729333800-1729333800@info.mesip.pl
SUMMARY:Konkurs krasomówczy
DESCRIPTION:
URL:https://info.mesip.pl/event/konkurs-krasomowczy/
LOCATION:ul. Bydgoska 4a\, ul. Bydgoska 4a   \, Poznań\, Poland
CATEGORIES:Dla dzieci
END:VEVENT
BEGIN:VEVENT
DTSTART;TZID=Europe/Helsinki:20241019T110000
DTEND;TZID=Europe/Helsinki:20241019T110000
DTSTAMP:20260419T170401
CREATED:20241016T051128Z
LAST-MODIFIED:20251112T211603Z
UID:130467-1729335600-1729335600@info.mesip.pl
SUMMARY:Puchar Polski Seniorów w Szabli Kobiet i Mężczyzn
DESCRIPTION:
URL:https://info.mesip.pl/event/puchar-polski-seniorow-w-szabli-kobiet-i-mezczyzn/
LOCATION:ul. Zagajnikowa 9\, ul. Zagajnikowa 9   \, Poznań\, Poland
CATEGORIES:Sport
END:VEVENT
BEGIN:VEVENT
DTSTART;TZID=Europe/Helsinki:20241019T120000
DTEND;TZID=Europe/Helsinki:20241019T120000
DTSTAMP:20260419T170401
CREATED:20241015T051136Z
LAST-MODIFIED:20251112T211546Z
UID:129532-1729339200-1729339200@info.mesip.pl
SUMMARY:Otwarcie pumptracku i skateparku w Murowanej Goślinie
DESCRIPTION:Otwarcie pumptracku i skateparku
URL:https://info.mesip.pl/event/otwarcie-pumptracku-i-skateparku-w-murowanej-goslinie/
LOCATION:ul. Mściszewska 21\, ul. Mściszewska 21   \, Murowana Goślina\, Poland
CATEGORIES:Sport
END:VEVENT
BEGIN:VEVENT
DTSTART;TZID=Europe/Helsinki:20241019T140000
DTEND;TZID=Europe/Helsinki:20241019T140000
DTSTAMP:20260419T170401
CREATED:20241018T051159Z
LAST-MODIFIED:20251112T211611Z
UID:132312-1729346400-1729346400@info.mesip.pl
SUMMARY:Bezpłatny trening nordic walking w Kostrzynie
DESCRIPTION:Bezpłatny trening nordic walking!
URL:https://info.mesip.pl/event/bezplatny-trening-nordic-walking-w-kostrzynie/
LOCATION:ul. Drzązgowo 1\, ul. Drzązgowo 1   \, 62-024 Drzązgowo\, Poland
CATEGORIES:Sport
END:VEVENT
BEGIN:VEVENT
DTSTART;TZID=Europe/Helsinki:20241019T160000
DTEND;TZID=Europe/Helsinki:20241019T160000
DTSTAMP:20260419T170401
CREATED:20241004T051016Z
LAST-MODIFIED:20251112T211453Z
UID:119874-1729353600-1729353600@info.mesip.pl
SUMMARY:Dni Seniora: Potańcówka
DESCRIPTION:Dni Seniora: Potańcówka
URL:https://info.mesip.pl/event/dni-seniora-potancowka/
LOCATION:ul.  Piłsudskiego 3\, ul.  Piłsudskiego 3   \, Koziegłowy\, Poland
CATEGORIES:Dla seniora
END:VEVENT
BEGIN:VEVENT
DTSTART;TZID=Europe/Helsinki:20241019T170000
DTEND;TZID=Europe/Helsinki:20241019T210000
DTSTAMP:20260419T170401
CREATED:20241016T051129Z
LAST-MODIFIED:20251112T211604Z
UID:130470-1729357200-1729371600@info.mesip.pl
SUMMARY:Jesienny Maraton Fitness w Kórniku
DESCRIPTION:
URL:https://info.mesip.pl/event/jesienny-maraton-fitness-w-korniku/
LOCATION:Ignacego Krasickiego 1\,  Ignacego Krasickiego 1   \, Kórnik\, Poland
CATEGORIES:Sport
END:VEVENT
BEGIN:VEVENT
DTSTART;TZID=Europe/Helsinki:20241019T180000
DTEND;TZID=Europe/Helsinki:20241019T180000
DTSTAMP:20260419T170401
CREATED:20240829T060714Z
LAST-MODIFIED:20251112T211230Z
UID:93388-1729360800-1729360800@info.mesip.pl
SUMMARY:Apetyt na czereśnie w Luboniu
DESCRIPTION:„Apetyt na czereśnie”
URL:https://info.mesip.pl/event/apetyt-na-czeresnie-w-luboniu/
LOCATION:Plac Edmunda Bojanowskiego 7A\, Plac Edmunda Bojanowskiego 7A   \, Luboń\, Poland
CATEGORIES:Kultura i sztuka
END:VEVENT
BEGIN:VEVENT
DTSTART;TZID=Europe/Helsinki:20241019T180000
DTEND;TZID=Europe/Helsinki:20241019T180000
DTSTAMP:20260419T170401
CREATED:20241009T051043Z
LAST-MODIFIED:20251112T211513Z
UID:124173-1729360800-1729360800@info.mesip.pl
SUMMARY:Stand-up Tomasz Karp Bartkowiak
DESCRIPTION:
URL:https://info.mesip.pl/event/stand-up-tomasz-karp-bartkowiak/
LOCATION:ul. Poznańska 33\, ul. Poznańska 33   \, Kostrzyn\, Poland
CATEGORIES:Rozrywka
END:VEVENT
BEGIN:VEVENT
DTSTART;TZID=Europe/Helsinki:20241019T180000
DTEND;TZID=Europe/Helsinki:20241019T180000
DTSTAMP:20260419T170401
CREATED:20241016T051129Z
LAST-MODIFIED:20251112T211604Z
UID:130473-1729360800-1729360800@info.mesip.pl
SUMMARY:nieBŁĘKITNA RAPSODIA w Komornikach
DESCRIPTION:
URL:https://info.mesip.pl/event/nieblekitna-rapsodia-w-komornikach/
LOCATION:ul. Kościelna 37\, ul. Kościelna 37   \, Komorniki\, Poland
CATEGORIES:Kultura i sztuka
END:VEVENT
BEGIN:VEVENT
DTSTART;TZID=Europe/Helsinki:20241019T190000
DTEND;TZID=Europe/Helsinki:20241019T190000
DTSTAMP:20260419T170401
CREATED:20240925T050908Z
LAST-MODIFIED:20251112T211352Z
UID:112555-1729364400-1729364400@info.mesip.pl
SUMMARY:Sorry Boys w Przeźmierowie
DESCRIPTION:
URL:https://info.mesip.pl/event/sorry-boys-w-przezmierowie/
LOCATION:ul. Ogrodowa 13a\, ul. Ogrodowa 13a   \, Przeźmierowo\, Poland
CATEGORIES:Kultura i sztuka
END:VEVENT
BEGIN:VEVENT
DTSTART;TZID=Europe/Helsinki:20241019T190000
DTEND;TZID=Europe/Helsinki:20241019T190000
DTSTAMP:20260419T170401
CREATED:20241015T051138Z
LAST-MODIFIED:20251112T211548Z
UID:129535-1729364400-1729364400@info.mesip.pl
SUMMARY:Koncert Charytatywny MAGIA MARZEŃ w CKiBP
DESCRIPTION:Koncert Charytatywny MAGIA MARZEŃ w CKiBP
URL:https://info.mesip.pl/event/koncert-charytatywny-magia-marzen-w-ckibp/
LOCATION:ul. Szkolna 16\, ul. Szkolna 16   \, Suchy Las\, Poland
CATEGORIES:Kultura i sztuka
END:VEVENT
BEGIN:VEVENT
DTSTART;TZID=Europe/Helsinki:20241019T190000
DTEND;TZID=Europe/Helsinki:20241019T190000
DTSTAMP:20260419T170401
CREATED:20241015T051138Z
LAST-MODIFIED:20251112T211548Z
UID:129538-1729364400-1729364400@info.mesip.pl
SUMMARY:Muzyka kameralna Tasten Duo w Jerzykowie
DESCRIPTION:
URL:https://info.mesip.pl/event/muzyka-kameralna-tasten-duo-w-jerzykowie/
LOCATION:Spokojna 3\, Spokojna 3   \, Jerzykowo\, Poland
CATEGORIES:Kultura i sztuka
END:VEVENT
BEGIN:VEVENT
DTSTART;TZID=Europe/Helsinki:20241019T190000
DTEND;TZID=Europe/Helsinki:20241019T190000
DTSTAMP:20260419T170401
CREATED:20241018T051159Z
LAST-MODIFIED:20251112T211611Z
UID:132315-1729364400-1729364400@info.mesip.pl
SUMMARY:UKS Spartakus gra w Buku
DESCRIPTION:
URL:https://info.mesip.pl/event/uks-spartakus-gra-w-buku/
LOCATION:ul. Szarych Szeregów 10\, ul. Szarych Szeregów 10   \, Buk\, Poland
CATEGORIES:Sport
END:VEVENT
BEGIN:VEVENT
DTSTART;TZID=Europe/Helsinki:20241020T000000
DTEND;TZID=Europe/Helsinki:20241031T000000
DTSTAMP:20260419T170401
CREATED:20241018T051200Z
LAST-MODIFIED:20251112T211612Z
UID:132318-1729382400-1730332800@info.mesip.pl
SUMMARY:"Od materii do produktu..." - wystawa prac wykonanych podczas festiwalu
DESCRIPTION:Od 20 do 31 października w Swarzędzkim Centrum Historii i Sztuki odbędzie się  poplenerowa wystawa prac wykonanych podczas festiwalu:”Od materii do produktu…”\nZapraszamy!
URL:https://info.mesip.pl/event/od-materii-do-produktu-wystawa-prac-wykonanych-podczas-festiwalu/
LOCATION:ul. Bramkowa 6\, ul. Bramkowa 6   \, 62-020 Swarzędz\, Poland
CATEGORIES:wystawa
END:VEVENT
BEGIN:VEVENT
DTSTART;TZID=Europe/Helsinki:20241020T090000
DTEND;TZID=Europe/Helsinki:20241020T150000
DTSTAMP:20260419T170401
CREATED:20241002T050949Z
LAST-MODIFIED:20251112T211427Z
UID:118180-1729414800-1729436400@info.mesip.pl
SUMMARY:GRZYBOBRANIE z Trzecim Królestwem
DESCRIPTION:
URL:https://info.mesip.pl/event/grzybobranie-z-trzecim-krolestwem/
LOCATION:Plac Parkowy 1\, Plac Parkowy 1   \, Skrzynki\, gm. Stęszew\, Poland
CATEGORIES:Ekologia
END:VEVENT
BEGIN:VEVENT
DTSTART;TZID=Europe/Helsinki:20241020T110000
DTEND;TZID=Europe/Helsinki:20241020T143000
DTSTAMP:20260419T170401
CREATED:20241010T051055Z
LAST-MODIFIED:20251112T211519Z
UID:125059-1729422000-1729434600@info.mesip.pl
SUMMARY:Rajd „Wielcy Wielkopolanie - hr Władysław Zamoyski”
DESCRIPTION:
URL:https://info.mesip.pl/event/rajd-wielcy-wielkopolanie-hr-wladyslaw-zamoyski/
LOCATION:ul. Leśna 6\, ul. Leśna 6   \, Kórnik\, Poland
CATEGORIES:Turystyka i rekreacja
END:VEVENT
END:VCALENDAR