BEGIN:VCALENDAR
VERSION:2.0
PRODID:-//MeSIP - ECPv6.15.13//NONSGML v1.0//EN
CALSCALE:GREGORIAN
METHOD:PUBLISH
X-WR-CALNAME:MeSIP
X-ORIGINAL-URL:https://info.mesip.pl
X-WR-CALDESC:Wydarzenia dla MeSIP
REFRESH-INTERVAL;VALUE=DURATION:PT1H
X-Robots-Tag:noindex
X-PUBLISHED-TTL:PT1H
BEGIN:VTIMEZONE
TZID:Europe/Helsinki
BEGIN:DAYLIGHT
TZOFFSETFROM:+0200
TZOFFSETTO:+0300
TZNAME:EEST
DTSTART:20230326T010000
END:DAYLIGHT
BEGIN:STANDARD
TZOFFSETFROM:+0300
TZOFFSETTO:+0200
TZNAME:EET
DTSTART:20231029T010000
END:STANDARD
BEGIN:DAYLIGHT
TZOFFSETFROM:+0200
TZOFFSETTO:+0300
TZNAME:EEST
DTSTART:20240331T010000
END:DAYLIGHT
BEGIN:STANDARD
TZOFFSETFROM:+0300
TZOFFSETTO:+0200
TZNAME:EET
DTSTART:20241027T010000
END:STANDARD
BEGIN:DAYLIGHT
TZOFFSETFROM:+0200
TZOFFSETTO:+0300
TZNAME:EEST
DTSTART:20250330T010000
END:DAYLIGHT
BEGIN:STANDARD
TZOFFSETFROM:+0300
TZOFFSETTO:+0200
TZNAME:EET
DTSTART:20251026T010000
END:STANDARD
BEGIN:DAYLIGHT
TZOFFSETFROM:+0200
TZOFFSETTO:+0300
TZNAME:EEST
DTSTART:20260329T010000
END:DAYLIGHT
BEGIN:STANDARD
TZOFFSETFROM:+0300
TZOFFSETTO:+0200
TZNAME:EET
DTSTART:20261025T010000
END:STANDARD
END:VTIMEZONE
BEGIN:VEVENT
DTSTART;TZID=Europe/Helsinki:20240716T000000
DTEND;TZID=Europe/Helsinki:20241020T000000
DTSTAMP:20260419T170442
CREATED:20240711T050443Z
LAST-MODIFIED:20251112T210929Z
UID:62132-1721088000-1729382400@info.mesip.pl
SUMMARY:Wystawa czasowa: "Gatunki inwazyjne w faunie Polski"
DESCRIPTION:
URL:https://info.mesip.pl/event/wystawa-czasowa-gatunki-inwazyjne-w-faunie-polski/
LOCATION:ul. Akacjowa 12\, ul. Akacjowa 12   \, 62-006 Uzarzewo\, Poland
CATEGORIES:Edukacja
END:VEVENT
BEGIN:VEVENT
DTSTART;TZID=Europe/Helsinki:20241004T180000
DTEND;TZID=Europe/Helsinki:20241110T180000
DTSTAMP:20260419T170442
CREATED:20241005T051024Z
LAST-MODIFIED:20251112T211501Z
UID:120737-1728064800-1731261600@info.mesip.pl
SUMMARY:Wernisaż wystawy malarstwa Krzysztofa Bijaczewskiego
DESCRIPTION:
URL:https://info.mesip.pl/event/wernisaz-wystawy-malarstwa-krzysztofa-bijaczewskiego/
LOCATION:ul. Poznańska 26\, ul. Poznańska 26   \, Puszczykowo\, Poland
CATEGORIES:wystawa
END:VEVENT
BEGIN:VEVENT
DTSTART;TZID=Europe/Helsinki:20241007T000000
DTEND;TZID=Europe/Helsinki:20241013T000000
DTSTAMP:20260419T170442
CREATED:20241002T050943Z
LAST-MODIFIED:20251112T211414Z
UID:118164-1728259200-1728777600@info.mesip.pl
SUMMARY:Targi Senioralne w Jankowicach
DESCRIPTION:
URL:https://info.mesip.pl/event/targi-senioralne-w-jankowicach/
LOCATION:ul. Ogrodowa 2\, ul. Ogrodowa 2   \, Jankowice\, Poland
CATEGORIES:Dla seniora
END:VEVENT
BEGIN:VEVENT
DTSTART;TZID=Europe/Helsinki:20241009T140000
DTEND;TZID=Europe/Helsinki:20241023T170000
DTSTAMP:20260419T170442
CREATED:20240920T050839Z
LAST-MODIFIED:20251112T211318Z
UID:108602-1728482400-1729702800@info.mesip.pl
SUMMARY:Jesienne pokazy dla dzieci i młodzieży w Szreniawie
DESCRIPTION:
URL:https://info.mesip.pl/event/jesienne-pokazy-dla-dzieci-i-mlodziezy-w-szreniawie/
LOCATION:ul. Dworcowa 5\, ul. Dworcowa 5   \, Szreniawa\, Poland
CATEGORIES:Dla dzieci
END:VEVENT
BEGIN:VEVENT
DTSTART;TZID=Europe/Helsinki:20241012T090000
DTEND;TZID=Europe/Helsinki:20241013T090000
DTSTAMP:20260419T170442
CREATED:20241005T051025Z
LAST-MODIFIED:20251112T211503Z
UID:120743-1728723600-1728810000@info.mesip.pl
SUMMARY:Turniej Młodzików i Juniorów w Badmintonie
DESCRIPTION:
URL:https://info.mesip.pl/event/turniej-mlodzikow-i-juniorow-w-badmintonie/
LOCATION:ul. Podgórna 21\, ul. Podgórna 21   \, Puszczykowo\, Poland
CATEGORIES:Sport
END:VEVENT
BEGIN:VEVENT
DTSTART;TZID=Europe/Helsinki:20241012T093000
DTEND;TZID=Europe/Helsinki:20241012T093000
DTSTAMP:20260419T170442
CREATED:20241011T051104Z
LAST-MODIFIED:20251112T211523Z
UID:125957-1728725400-1728725400@info.mesip.pl
SUMMARY:Bajkowe czytanki w Buku
DESCRIPTION:
URL:https://info.mesip.pl/event/bajkowe-czytanki-w-buku/
LOCATION:plac Reszki 30\, plac Reszki 30   \, Buk\, Poland
CATEGORIES:Dla dzieci
END:VEVENT
BEGIN:VEVENT
DTSTART;TZID=Europe/Helsinki:20241012T100000
DTEND;TZID=Europe/Helsinki:20241012T130000
DTSTAMP:20260419T170442
CREATED:20241004T051005Z
LAST-MODIFIED:20251112T211437Z
UID:119849-1728727200-1728738000@info.mesip.pl
SUMMARY:Biała Sobota w gminie Czerwonak
DESCRIPTION:Biała Sobota w gminie Czerwonak
URL:https://info.mesip.pl/event/biala-sobota-w-gminie-czerwonak/
LOCATION:ul. Poznańska 17\, ul. Poznańska 17   \, Koziegłowy\, Poland
CATEGORIES:Zdrowie
END:VEVENT
BEGIN:VEVENT
DTSTART;TZID=Europe/Helsinki:20241012T100000
DTEND;TZID=Europe/Helsinki:20241012T190000
DTSTAMP:20260419T170442
CREATED:20241002T050944Z
LAST-MODIFIED:20251112T211416Z
UID:118170-1728727200-1728759600@info.mesip.pl
SUMMARY:Festiwal Ceramiki i Rzeźby w Swarzędzu
DESCRIPTION:
URL:https://info.mesip.pl/event/festiwal-ceramiki-i-rzezby-w-swarzedzu/
LOCATION:ul. Rynek 21\, ul. Rynek 21   \, 62-020 Swarzędz\, Poland
CATEGORIES:Kultura i sztuka
END:VEVENT
BEGIN:VEVENT
DTSTART;TZID=Europe/Helsinki:20241012T110000
DTEND;TZID=Europe/Helsinki:20241012T140000
DTSTAMP:20260419T170442
CREATED:20241004T051006Z
LAST-MODIFIED:20251112T211437Z
UID:119852-1728730800-1728741600@info.mesip.pl
SUMMARY:Wyścig Kolarski w Swarzędzu
DESCRIPTION:W sobotę 12 października w godz. 11:00-14:00 nad Jeziorem Swarzędzkim odbędzie się XXI Ogólnopolski Wyścig Kolarski “Swarzędz-Cross im. Mariana Kegela”.\nZapraszamy!
URL:https://info.mesip.pl/event/wyscig-kolarski-w-swarzedzu/
LOCATION:Teren wokół Jeziora Swarzędzkiego\, Teren wokół Jeziora Swarzędzkiego   \, 62-020 Swarzędz\, Poland
CATEGORIES:Turystyka i rekreacja
END:VEVENT
BEGIN:VEVENT
DTSTART;TZID=Europe/Helsinki:20241012T110000
DTEND;TZID=Europe/Helsinki:20241013T110000
DTSTAMP:20260419T170442
CREATED:20241012T051103Z
LAST-MODIFIED:20251112T211538Z
UID:126854-1728730800-1728817200@info.mesip.pl
SUMMARY:Spotkania rodzinne w Uzarzewie
DESCRIPTION:Podczas warsztatów uczestnicy dowiedzą się\, dlaczego liście zmieniają kolory i opadają z drzew\, jak wyglądają owoce wybranych gatunków drzew\, nauczą się również je rozpoznawać. Jako pracę plastyczną wraz ze swoimi opiekunami wykonają jesienny bukiet z liści i owoców\, którego bazą będzie tekturowy karton.\nWymagana jest wcześniejsza rezerwacja terminu.\nAby wziąć udział w spotkaniu wystarczy wykupić bilet rodzinny – koszt 60zł (dla maksymalnie 4 osób). Po zakończonych warsztatach zapraszamy do zwiedzania ekspozycji muzealnej.\nCzas trwania warsztatów ok. 1\,5 – 2h.\nZgłoszenia przyjmujemy pod numerem tel. 503 173 980\, 61 818 12 11\, lub adresem e-mail k.chojnicka@muzeum-szreniawa.pl\nInformacja: Organizator.
URL:https://info.mesip.pl/event/spotkania-rodzinne-w-uzarzewie/
LOCATION:ul. Akacjowa 12\, ul. Akacjowa 12   \, 62-006 Uzarzewo\, Poland
CATEGORIES:Warsztaty
END:VEVENT
BEGIN:VEVENT
DTSTART;TZID=Europe/Helsinki:20241012T120000
DTEND;TZID=Europe/Helsinki:20241012T120000
DTSTAMP:20260419T170442
CREATED:20241004T051003Z
LAST-MODIFIED:20251112T211437Z
UID:119839-1728734400-1728734400@info.mesip.pl
SUMMARY:Dopiewskie Dni Seniora
DESCRIPTION:
URL:https://info.mesip.pl/event/dopiewskie-dni-seniora/
LOCATION:ul. Wierzbowa\, ul. Wierzbowa   \, 62-070 Dopiewiec\, Poland
CATEGORIES:Dla seniora
END:VEVENT
BEGIN:VEVENT
DTSTART;TZID=Europe/Helsinki:20241012T190000
DTEND;TZID=Europe/Helsinki:20241012T190000
DTSTAMP:20260419T170442
CREATED:20240925T050905Z
LAST-MODIFIED:20251112T211440Z
UID:112543-1728759600-1728759600@info.mesip.pl
SUMMARY:Recital Zbigniewa Zamachowskiego
DESCRIPTION:
URL:https://info.mesip.pl/event/recital-zbigniewa-zamachowskiego/
LOCATION:ul.  Piłsudskiego 3\, ul.  Piłsudskiego 3   \, Koziegłowy\, Poland
CATEGORIES:Kultura i sztuka
END:VEVENT
BEGIN:VEVENT
DTSTART;TZID=Europe/Helsinki:20241013T100000
DTEND;TZID=Europe/Helsinki:20241013T100000
DTSTAMP:20260419T170442
CREATED:20241010T051052Z
LAST-MODIFIED:20251112T211517Z
UID:125048-1728813600-1728813600@info.mesip.pl
SUMMARY:Marsz Pamięci w lasach Palędzko-Zakrzewskich
DESCRIPTION:VI Marsz Pamięci w lasach Palędzko-Zakrzewskich
URL:https://info.mesip.pl/event/marsz-pamieci-w-lasach-paledzko-zakrzewskich/
LOCATION:ul. Niezłomnych\, ul. Niezłomnych   \, 62-070 Zakrzewo\, Poland
CATEGORIES:Uroczystości
END:VEVENT
BEGIN:VEVENT
DTSTART;TZID=Europe/Helsinki:20241013T123000
DTEND;TZID=Europe/Helsinki:20241013T123000
DTSTAMP:20260419T170442
CREATED:20240925T050906Z
LAST-MODIFIED:20251112T211349Z
UID:112546-1728822600-1728822600@info.mesip.pl
SUMMARY:Szałaputki dla najmłodszych
DESCRIPTION:
URL:https://info.mesip.pl/event/szalaputki-dla-najmlodszych/
LOCATION:ul. Ogrodowa 14\, ul. Ogrodowa 14   \, Tarnowo Podgórne\, Poland
CATEGORIES:Dla dzieci
END:VEVENT
BEGIN:VEVENT
DTSTART;TZID=Europe/Helsinki:20241013T160000
DTEND;TZID=Europe/Helsinki:20241110T160000
DTSTAMP:20260419T170442
CREATED:20241004T051010Z
LAST-MODIFIED:20251112T211444Z
UID:119860-1728835200-1731254400@info.mesip.pl
SUMMARY:Wystawa w Dworze Skrzynki
DESCRIPTION:
URL:https://info.mesip.pl/event/wystawa-w-dworze-skrzynki/
LOCATION:Plac Parkowy 1\, Plac Parkowy 1   \, Skrzynki\, gm. Stęszew\, Poland
CATEGORIES:wystawa
END:VEVENT
BEGIN:VEVENT
DTSTART;TZID=Europe/Helsinki:20241013T180000
DTEND;TZID=Europe/Helsinki:20241013T180000
DTSTAMP:20260419T170442
CREATED:20240829T060710Z
LAST-MODIFIED:20251112T211517Z
UID:93371-1728842400-1728842400@info.mesip.pl
SUMMARY:Apetyt na czereśnie w Rokietnicy
DESCRIPTION:„Apetyt na czereśnie”
URL:https://info.mesip.pl/event/apetyt-na-czeresnie-w-rokietnicy/
LOCATION:ul. Trakt Napoleoński 16\, ul. Trakt Napoleoński 16   \, Rokietnica\, Poland
CATEGORIES:Kultura i sztuka
END:VEVENT
BEGIN:VEVENT
DTSTART;TZID=Europe/Helsinki:20241014T180000
DTEND;TZID=Europe/Helsinki:20241014T180000
DTSTAMP:20260419T170442
CREATED:20240921T050850Z
LAST-MODIFIED:20251112T211338Z
UID:109416-1728928800-1728928800@info.mesip.pl
SUMMARY:Japonia Inny Świat w Swarzędzu
DESCRIPTION:
URL:https://info.mesip.pl/event/japonia-inny-swiat-w-swarzedzu/
LOCATION:os. Czwartaków 1\, os. Czwartaków 1   \, Swarzędz\, Poland
CATEGORIES:Edukacja
END:VEVENT
BEGIN:VEVENT
DTSTART;TZID=Europe/Helsinki:20241015T114000
DTEND;TZID=Europe/Helsinki:20241015T114000
DTSTAMP:20260419T170442
CREATED:20241010T051053Z
LAST-MODIFIED:20251112T211518Z
UID:125053-1728992400-1728992400@info.mesip.pl
SUMMARY:Spotkanie autorskie z Markiem Michalakiem
DESCRIPTION:Spotkanie autorskie z Markiem Michalakiem
URL:https://info.mesip.pl/event/spotkanie-autorskie-z-markiem-michalakiem/
LOCATION:ul. Malinowa 41\, ul. Malinowa 41   \, Dąbrówka\, Poland
CATEGORIES:Kultura i sztuka
END:VEVENT
BEGIN:VEVENT
DTSTART;TZID=Europe/Helsinki:20241015T150000
DTEND;TZID=Europe/Helsinki:20241015T150000
DTSTAMP:20260419T170442
CREATED:20241008T051035Z
LAST-MODIFIED:20251112T211505Z
UID:123302-1729004400-1729004400@info.mesip.pl
SUMMARY:30 lat miesięcznika „Filantrop Naszych Czasów”\,
DESCRIPTION:
URL:https://info.mesip.pl/event/30-lat-miesiecznika-filantrop-naszych-czasow/
LOCATION:ul. Krańcowa 98\, ul. Krańcowa 98   \, 61-114 Poznań\, Poland
CATEGORIES:Społeczne
END:VEVENT
BEGIN:VEVENT
DTSTART;TZID=Europe/Helsinki:20241015T160000
DTEND;TZID=Europe/Helsinki:20241015T170000
DTSTAMP:20260419T170442
CREATED:20241012T051103Z
LAST-MODIFIED:20251112T211539Z
UID:126857-1729008000-1729011600@info.mesip.pl
SUMMARY:Spotkanie Dyskusyjnego Klubu Książki dla Dzieci
DESCRIPTION:
URL:https://info.mesip.pl/event/spotkanie-dyskusyjnego-klubu-ksiazki-dla-dzieci/
LOCATION:ul. Powstańców Wielkopolskich 47\, ul. Powstańców Wielkopolskich 47   \, 64-320 Dobieżyn\, Poland
CATEGORIES:Dla dzieci
END:VEVENT
BEGIN:VEVENT
DTSTART;TZID=Europe/Helsinki:20241015T180000
DTEND;TZID=Europe/Helsinki:20241015T180000
DTSTAMP:20260419T170442
CREATED:20240925T050906Z
LAST-MODIFIED:20251112T211350Z
UID:112549-1729015200-1729015200@info.mesip.pl
SUMMARY:O Muzyce Między Drzewami
DESCRIPTION:
URL:https://info.mesip.pl/event/o-muzyce-miedzy-drzewami/
LOCATION:ul. Ogrodowa 14\, ul. Ogrodowa 14   \, Tarnowo Podgórne\, Poland
CATEGORIES:Kultura i sztuka
END:VEVENT
BEGIN:VEVENT
DTSTART;TZID=Europe/Helsinki:20241016T090000
DTEND;TZID=Europe/Helsinki:20241016T133000
DTSTAMP:20260419T170442
CREATED:20241004T051006Z
LAST-MODIFIED:20251112T211444Z
UID:119856-1729069200-1729085400@info.mesip.pl
SUMMARY:Dzień Białej Laski
DESCRIPTION:
URL:https://info.mesip.pl/event/dzien-bialej-laski/
LOCATION:ul. Szamarzewskiego 89\, ul. Szamarzewskiego 89   \, 60-568 Poznań\, Poland
CATEGORIES:Społeczne
END:VEVENT
BEGIN:VEVENT
DTSTART;TZID=Europe/Helsinki:20241016T100000
DTEND;TZID=Europe/Helsinki:20241016T140000
DTSTAMP:20260419T170442
CREATED:20240921T050850Z
LAST-MODIFIED:20251112T211338Z
UID:109419-1729072800-1729087200@info.mesip.pl
SUMMARY:I Mosińskie Forum Biznesu 2024
DESCRIPTION:
URL:https://info.mesip.pl/event/i-mosinskie-forum-biznesu-2024/
LOCATION:ul. Pod Topolami 1\, ul. Pod Topolami 1   \, 62-050 Dymaczewo Nowe\, Poland
CATEGORIES:Konferencje i debaty
END:VEVENT
BEGIN:VEVENT
DTSTART;TZID=Europe/Helsinki:20241016T163000
DTEND;TZID=Europe/Helsinki:20241016T163000
DTSTAMP:20260419T170442
CREATED:20241002T050945Z
LAST-MODIFIED:20251112T211418Z
UID:118174-1729096200-1729096200@info.mesip.pl
SUMMARY:Turniej warcabowy dla dzieci w Kórniku
DESCRIPTION:Turniej warcabowy dla dzieci w KCRiS OAZA
URL:https://info.mesip.pl/event/turniej-warcabowy-dla-dzieci-w-korniku/
LOCATION:Ignacego Krasickiego 1\,  Ignacego Krasickiego 1   \, Kórnik\, Poland
CATEGORIES:Dla dzieci
END:VEVENT
BEGIN:VEVENT
DTSTART;TZID=Europe/Helsinki:20241016T180000
DTEND;TZID=Europe/Helsinki:20241016T180000
DTSTAMP:20260419T170442
CREATED:20241004T051012Z
LAST-MODIFIED:20251112T211446Z
UID:119864-1729101600-1729101600@info.mesip.pl
SUMMARY:Wykład historyczny i projekcja filmu Cysterskie tchnienie - połączeni przeszłością
DESCRIPTION:Wykład historyczny i projekcja filmu Cysterskie tchnienie – połączeni przeszłością
URL:https://info.mesip.pl/event/wyklad-historyczny-i-projekcja-filmu-cysterskie-tchnienie-polaczeni-przeszloscia/
LOCATION:ul.  Piłsudskiego 3\, ul.  Piłsudskiego 3   \, Koziegłowy\, Poland
CATEGORIES:Kultura i sztuka
END:VEVENT
BEGIN:VEVENT
DTSTART;TZID=Europe/Helsinki:20241016T180000
DTEND;TZID=Europe/Helsinki:20241016T180000
DTSTAMP:20260419T170442
CREATED:20241016T051127Z
LAST-MODIFIED:20251112T211601Z
UID:130458-1729101600-1729101600@info.mesip.pl
SUMMARY:"Małe jest fascynujące!" - wykład w Kórniku/Bninie
DESCRIPTION:“Małe jest fascynujące!” – wykład dr. hab. Szymona Konwerskiego w Filii w Kórniku/Bninie
URL:https://info.mesip.pl/event/male-jest-fascynujace-wyklad-w-korniku-bninie/
LOCATION:Rynek 16\, Rynek 16   \, Kórnik - Bnin\, Poland
CATEGORIES:Wykład
END:VEVENT
BEGIN:VEVENT
DTSTART;TZID=Europe/Helsinki:20241017T110000
DTEND;TZID=Europe/Helsinki:20250228T110000
DTSTAMP:20260419T170442
CREATED:20241016T051127Z
LAST-MODIFIED:20251112T211602Z
UID:130461-1729162800-1740740400@info.mesip.pl
SUMMARY:Wernisaż w Muzeum Uzbrojenia
DESCRIPTION:
URL:https://info.mesip.pl/event/wernisaz-w-muzeum-uzbrojenia/
LOCATION:Park Cytadela Aleja Armii Poznań\, Park Cytadela Aleja Armii Poznań   \, 61-663 Poznań\, Poland
CATEGORIES:Kultura i sztuka
END:VEVENT
BEGIN:VEVENT
DTSTART;TZID=Europe/Helsinki:20241017T170000
DTEND;TZID=Europe/Helsinki:20241017T170000
DTSTAMP:20260419T170442
CREATED:20241009T051042Z
LAST-MODIFIED:20251112T211511Z
UID:124170-1729184400-1729184400@info.mesip.pl
SUMMARY:„Zapiski obserwatora” – wieczór poetycki Barbary Łucji Gryglewicz
DESCRIPTION:„Zapiski obserwatora” – wieczór poetycki Barbary Łucji Gryglewicz
URL:https://info.mesip.pl/event/zapiski-obserwatora-wieczor-poetycki-barbary-lucji-gryglewicz/
LOCATION:Rynek 16\, Rynek 16   \, Kórnik - Bnin\, Poland
CATEGORIES:Wykład
END:VEVENT
BEGIN:VEVENT
DTSTART;TZID=Europe/Helsinki:20241017T180000
DTEND;TZID=Europe/Helsinki:20241017T180000
DTSTAMP:20260419T170442
CREATED:20241004T051013Z
LAST-MODIFIED:20251112T211449Z
UID:119868-1729188000-1729188000@info.mesip.pl
SUMMARY:Spotkanie z Patrykiem Galewskim i Piotrem Żyłką
DESCRIPTION:Spotkanie z Patrykiem Galewskim i Piotrem Żyłką
URL:https://info.mesip.pl/event/spotkanie-z-patrykiem-galewskim-i-piotrem-zylka/
LOCATION:ul.  Piłsudskiego 3\, ul.  Piłsudskiego 3   \, Koziegłowy\, Poland
CATEGORIES:Kultura i sztuka
END:VEVENT
BEGIN:VEVENT
DTSTART;TZID=Europe/Helsinki:20241017T190000
DTEND;TZID=Europe/Helsinki:20241017T190000
DTSTAMP:20260419T170442
CREATED:20240925T050907Z
LAST-MODIFIED:20251112T211351Z
UID:112552-1729191600-1729191600@info.mesip.pl
SUMMARY:“Apetyt na czereśnie” w SEZAMIE
DESCRIPTION:
URL:https://info.mesip.pl/event/apetyt-na-czeresnie-w-sezamie/
LOCATION:ul. Ogrodowa 13a\, ul. Ogrodowa 13a   \, Przeźmierowo\, Poland
CATEGORIES:Kultura i sztuka
END:VEVENT
END:VCALENDAR