BEGIN:VCALENDAR
VERSION:2.0
PRODID:-//MeSIP - ECPv6.15.13//NONSGML v1.0//EN
CALSCALE:GREGORIAN
METHOD:PUBLISH
X-WR-CALNAME:MeSIP
X-ORIGINAL-URL:https://info.mesip.pl
X-WR-CALDESC:Wydarzenia dla MeSIP
REFRESH-INTERVAL;VALUE=DURATION:PT1H
X-Robots-Tag:noindex
X-PUBLISHED-TTL:PT1H
BEGIN:VTIMEZONE
TZID:Europe/Helsinki
BEGIN:DAYLIGHT
TZOFFSETFROM:+0200
TZOFFSETTO:+0300
TZNAME:EEST
DTSTART:20230326T010000
END:DAYLIGHT
BEGIN:STANDARD
TZOFFSETFROM:+0300
TZOFFSETTO:+0200
TZNAME:EET
DTSTART:20231029T010000
END:STANDARD
BEGIN:DAYLIGHT
TZOFFSETFROM:+0200
TZOFFSETTO:+0300
TZNAME:EEST
DTSTART:20240331T010000
END:DAYLIGHT
BEGIN:STANDARD
TZOFFSETFROM:+0300
TZOFFSETTO:+0200
TZNAME:EET
DTSTART:20241027T010000
END:STANDARD
BEGIN:DAYLIGHT
TZOFFSETFROM:+0200
TZOFFSETTO:+0300
TZNAME:EEST
DTSTART:20250330T010000
END:DAYLIGHT
BEGIN:STANDARD
TZOFFSETFROM:+0300
TZOFFSETTO:+0200
TZNAME:EET
DTSTART:20251026T010000
END:STANDARD
END:VTIMEZONE
BEGIN:VEVENT
DTSTART;TZID=Europe/Helsinki:20240419T100000
DTEND;TZID=Europe/Helsinki:20240831T100000
DTSTAMP:20260423T170153
CREATED:20240618T050232Z
LAST-MODIFIED:20251112T210410Z
UID:50183-1713520800-1725098400@info.mesip.pl
SUMMARY:Wystawa o czasach PRL
DESCRIPTION:
URL:https://info.mesip.pl/event/wystawa-o-czasach-prl/
LOCATION:ul. Słupska 62\, ul. Słupska 62   \, Poznań\, Poland
CATEGORIES:Kultura i sztuka
END:VEVENT
BEGIN:VEVENT
DTSTART;TZID=Europe/Helsinki:20240716T000000
DTEND;TZID=Europe/Helsinki:20241020T000000
DTSTAMP:20260423T170153
CREATED:20240711T050443Z
LAST-MODIFIED:20251112T210929Z
UID:62132-1721088000-1729382400@info.mesip.pl
SUMMARY:Wystawa czasowa: "Gatunki inwazyjne w faunie Polski"
DESCRIPTION:
URL:https://info.mesip.pl/event/wystawa-czasowa-gatunki-inwazyjne-w-faunie-polski/
LOCATION:ul. Akacjowa 12\, ul. Akacjowa 12   \, 62-006 Uzarzewo\, Poland
CATEGORIES:Edukacja
END:VEVENT
BEGIN:VEVENT
DTSTART;TZID=Europe/Helsinki:20240831T090000
DTEND;TZID=Europe/Helsinki:20240831T140000
DTSTAMP:20260423T170153
CREATED:20240710T050436Z
LAST-MODIFIED:20251112T210927Z
UID:61539-1725094800-1725112800@info.mesip.pl
SUMMARY:Turniej Piłkarski Stowarzyszenia Walka Kostrzyn
DESCRIPTION:
URL:https://info.mesip.pl/event/turniej-pilkarski-stowarzyszenia-walka-kostrzyn/
LOCATION:ul. Sportowa 1\, ul. Sportowa 1   \, Kostrzyn Wielkopolski\, Poland
CATEGORIES:Sport
END:VEVENT
BEGIN:VEVENT
DTSTART;TZID=Europe/Helsinki:20240831T100000
DTEND;TZID=Europe/Helsinki:20240831T160000
DTSTAMP:20260423T170153
CREATED:20240810T050619Z
LAST-MODIFIED:20251112T211131Z
UID:80572-1725098400-1725120000@info.mesip.pl
SUMMARY:Festyn Żelaznej Podkowy
DESCRIPTION:Festyn Żelaznej Podkowy
URL:https://info.mesip.pl/event/festyn-zelaznej-podkowy/
LOCATION:Raduszyn 4\, Raduszyn 4   \, Murowana Goślina\, Poland
CATEGORIES:Turystyka i rekreacja
END:VEVENT
BEGIN:VEVENT
DTSTART;TZID=Europe/Helsinki:20240831T110000
DTEND;TZID=Europe/Helsinki:20240831T110000
DTSTAMP:20260423T170153
CREATED:20240717T050504Z
LAST-MODIFIED:20251112T210947Z
UID:65700-1725102000-1725102000@info.mesip.pl
SUMMARY:Gra Terenowa "Szwedzkie Okopy"
DESCRIPTION:
URL:https://info.mesip.pl/event/gra-terenowa-szwedzkie-okopy/
LOCATION:ul. Akacjowa\, ul. Akacjowa   \, Trzek\, gmina Kostrzyn\, Poland
CATEGORIES:Turystyka i rekreacja
END:VEVENT
BEGIN:VEVENT
DTSTART;TZID=Europe/Helsinki:20240831T120000
DTEND;TZID=Europe/Helsinki:20240831T120000
DTSTAMP:20260423T170153
CREATED:20240829T060702Z
LAST-MODIFIED:20251112T211209Z
UID:93327-1725105600-1725105600@info.mesip.pl
SUMMARY:Koncert Kontemplacyjny
DESCRIPTION:
URL:https://info.mesip.pl/event/koncert-kontemplacyjny/
LOCATION:ul. Muchomorowa\, ul. Muchomorowa    \, 62-002 Złotniki\, Poland
CATEGORIES:Kultura i sztuka
END:VEVENT
BEGIN:VEVENT
DTSTART;TZID=Europe/Helsinki:20240831T130000
DTEND;TZID=Europe/Helsinki:20240901T130000
DTSTAMP:20260423T170153
CREATED:20240810T050620Z
LAST-MODIFIED:20251112T211131Z
UID:80575-1725109200-1725195600@info.mesip.pl
SUMMARY:Memoriał Arkadiusza Gołasia
DESCRIPTION:
URL:https://info.mesip.pl/event/memorial-arkadiusza-golasia/
LOCATION:ul. J. Heweliusza 26\, ul. J. Heweliusza 26   \, Swarzędz - Zalasewo\, Poland
CATEGORIES:Sport
END:VEVENT
BEGIN:VEVENT
DTSTART;TZID=Europe/Helsinki:20240831T143000
DTEND;TZID=Europe/Helsinki:20240831T143000
DTSTAMP:20260423T170153
CREATED:20240810T050620Z
LAST-MODIFIED:20251112T211132Z
UID:80578-1725114600-1725114600@info.mesip.pl
SUMMARY:Dożynki Gminne Murowana Goślina
DESCRIPTION:
URL:https://info.mesip.pl/event/dozynki-gminne-murowana-goslina/
LOCATION:Boduszewo\, Boduszewo   \, Boduszewo; gmina Murowana Goślina\, Poland
CATEGORIES:Kultura i sztuka
END:VEVENT
BEGIN:VEVENT
DTSTART;TZID=Europe/Helsinki:20240831T211500
DTEND;TZID=Europe/Helsinki:20240831T211500
DTSTAMP:20260423T170153
CREATED:20240626T050335Z
LAST-MODIFIED:20251112T210729Z
UID:53775-1725138900-1725138900@info.mesip.pl
SUMMARY:Kino Plenerowe w Mosinie
DESCRIPTION:
URL:https://info.mesip.pl/event/kino-plenerowe-w-mosinie/
LOCATION:Rynek Mosina\, Rynek Mosina   \, 62-050 Mosina\, Poland
CATEGORIES:Kultura i sztuka
END:VEVENT
BEGIN:VEVENT
DTSTART;TZID=Europe/Helsinki:20240901T100000
DTEND;TZID=Europe/Helsinki:20240901T100000
DTSTAMP:20260423T170153
CREATED:20240813T050646Z
LAST-MODIFIED:20251112T211133Z
UID:82567-1725184800-1725184800@info.mesip.pl
SUMMARY:Mistrzostwa powiatu w Mölkky
DESCRIPTION:
URL:https://info.mesip.pl/event/mistrzostwa-powiatu-w-molkky/
LOCATION:ul. Kościelna 7\, ul. Kościelna 7   \, Puszczykowo\, Poland
CATEGORIES:Kultura i sztuka
END:VEVENT
BEGIN:VEVENT
DTSTART;TZID=Europe/Helsinki:20240901T104500
DTEND;TZID=Europe/Helsinki:20240901T104500
DTSTAMP:20260423T170153
CREATED:20240829T060702Z
LAST-MODIFIED:20251112T211209Z
UID:93330-1725187500-1725187500@info.mesip.pl
SUMMARY:Rocznica wybuchu II wojny światowej w Murowanej Goślinie
DESCRIPTION:85 rocznica wybuchu II wojny światowej
URL:https://info.mesip.pl/event/rocznica-wybuchu-ii-wojny-swiatowej-w-murowanej-goslinie/
LOCATION:Plac Powstańców Wielkopolskich 21\, Plac Powstańców Wielkopolskich 21   \, 62-095 Murowana Goślina\, Poland
CATEGORIES:Uroczystości
END:VEVENT
BEGIN:VEVENT
DTSTART;TZID=Europe/Helsinki:20240901T121500
DTEND;TZID=Europe/Helsinki:20240901T121500
DTSTAMP:20260423T170153
CREATED:20240827T050723Z
LAST-MODIFIED:20251112T211201Z
UID:91940-1725192900-1725192900@info.mesip.pl
SUMMARY:Literackie Pobiedziska
DESCRIPTION:
URL:https://info.mesip.pl/event/literackie-pobiedziska/
LOCATION:ul. Kościuszki\, ul. Kościuszki   \, Pobiedziska\, Poland
CATEGORIES:Piknik
END:VEVENT
BEGIN:VEVENT
DTSTART;TZID=Europe/Helsinki:20240901T130000
DTEND;TZID=Europe/Helsinki:20240901T130000
DTSTAMP:20260423T170153
CREATED:20240710T050434Z
LAST-MODIFIED:20251112T210928Z
UID:61533-1725195600-1725195600@info.mesip.pl
SUMMARY:Lusowskie Spotkania Muzyczne
DESCRIPTION:Lusowskie Spotkania Muzyczne: Zespół Wokalny Affectus
URL:https://info.mesip.pl/event/lusowskie-spotkania-muzyczne/
LOCATION:ul. Poznańska 2\, ul. Poznańska 2   \, Lusowo\, Poland
CATEGORIES:Kultura i sztuka
END:VEVENT
BEGIN:VEVENT
DTSTART;TZID=Europe/Helsinki:20240901T150000
DTEND;TZID=Europe/Helsinki:20240901T150000
DTSTAMP:20260423T170153
CREATED:20240824T050710Z
LAST-MODIFIED:20251112T211155Z
UID:89903-1725202800-1725202800@info.mesip.pl
SUMMARY:Skrzynki Pełne Skarbów
DESCRIPTION:
URL:https://info.mesip.pl/event/skrzynki-pelne-skarbow-2/
LOCATION:Plac Parkowy 1\, Plac Parkowy 1   \, Skrzynki\, gm. Stęszew\, Poland
CATEGORIES:Warsztaty
END:VEVENT
BEGIN:VEVENT
DTSTART;TZID=Europe/Helsinki:20240901T150000
DTEND;TZID=Europe/Helsinki:20240901T150000
DTSTAMP:20260423T170153
CREATED:20240829T060702Z
LAST-MODIFIED:20251112T211210Z
UID:93333-1725202800-1725202800@info.mesip.pl
SUMMARY:Dożynki w gminie Kostrzyn
DESCRIPTION:Gminne Dożynki
URL:https://info.mesip.pl/event/dozynki-w-gminie-kostrzyn/
LOCATION:Ługowiny\, Ługowiny   \, 62-025 Ługowiny\, Poland
CATEGORIES:Kultura i sztuka
END:VEVENT
BEGIN:VEVENT
DTSTART;TZID=Europe/Helsinki:20240901T170000
DTEND;TZID=Europe/Helsinki:20240901T170000
DTSTAMP:20260423T170153
CREATED:20240824T050713Z
LAST-MODIFIED:20251112T211200Z
UID:89906-1725210000-1725210000@info.mesip.pl
SUMMARY:Wystawa "Kolory Portugalii"
DESCRIPTION:
URL:https://info.mesip.pl/event/wystawa-kolory-portugalii/
LOCATION:Plac Parkowy 1\, Plac Parkowy 1   \, Skrzynki\, gm. Stęszew\, Poland
CATEGORIES:wystawa
END:VEVENT
BEGIN:VEVENT
DTSTART;TZID=Europe/Helsinki:20240902T170000
DTEND;TZID=Europe/Helsinki:20240902T170000
DTSTAMP:20260423T170153
CREATED:20240829T060703Z
LAST-MODIFIED:20251112T211210Z
UID:93336-1725296400-1725296400@info.mesip.pl
SUMMARY:85. rocznica wybuchu II wojny światowej w Łagiewnikach
DESCRIPTION:85. rocznica wybuchu II wojny światowej w Łagiewnikach
URL:https://info.mesip.pl/event/85-rocznica-wybuchu-ii-wojny-swiatowej-w-lagiewnikach/
LOCATION:Pomnik Ofiar Faszyzmu\, Pomnik Ofiar Faszyzmu   \, 62-002 Łagiewniki\, Poland
CATEGORIES:Uroczystości
END:VEVENT
BEGIN:VEVENT
DTSTART;TZID=Europe/Helsinki:20240904T164500
DTEND;TZID=Europe/Helsinki:20240904T193000
DTSTAMP:20260423T170153
CREATED:20240829T060705Z
LAST-MODIFIED:20251112T211215Z
UID:93347-1725468300-1725478200@info.mesip.pl
SUMMARY:Mobilne Planetarium
DESCRIPTION:
URL:https://info.mesip.pl/event/mobilne-planetarium/
LOCATION:ul. Mściszewska 10\, ul. Mściszewska 10   \, 62-095 Murowana Goślina\, Poland
CATEGORIES:Edukacja
END:VEVENT
BEGIN:VEVENT
DTSTART;TZID=Europe/Helsinki:20240906T180000
DTEND;TZID=Europe/Helsinki:20240906T180000
DTSTAMP:20260423T170153
CREATED:20240806T050609Z
LAST-MODIFIED:20251112T211108Z
UID:77940-1725645600-1725645600@info.mesip.pl
SUMMARY:Spektakl Ocalić od zapomnienia
DESCRIPTION:Na kilka dni przed 10 września\, który jest dniem poświęconym pamięci i szacunkowi dla tych niezwykłych bohaterów\, mieszkańców Mosiny\, aresztowanych w ramach akcji zwanej „sprawą mosińska”\, serdecznie zapraszamy Państwa w dniu 6 września 2024 r. na spektakl\, spotkanie z twórcami oraz rozmowę z historykiem na temat nazistowskiego obozu dla dzieci polskich jaki mieścił się na ul. Przemysłowej w Łodzi. Główną osią spektaklu “Ostatni sen Eugenii / Eugenias letzter Traum” w reżyserii Doroty Abbe jest postać Eugenii Pol vel Genowefy Pohl – wachmanki obozu. Jej dwoista natura\, totalne wyparcie swoich zbrodni\, jej wersja zdarzeń w zderzeniu ze wspomnieniami więźniów opisujących Pohl jako wyjątkowo okrutną sadystkę\, stała się punktem wyjścia do teatralnych poszukiwań. Twórcy pragną zadać pytania dotyczące historii i jej związku z teraźniejszością\, mechanizmów pamięci\, niepamięci i wyparcia\, odwiecznych dylematów granic dobra i zła\, związku kata i ofiary.\nTwórcy spektaklu:\nPomysł i realizacja: Fundacja Gra/nice\nReżyseria: Dorota Abbe\nTekst: Kuba Kapral\nScenografia: Grupa Mixer\nMuzyka: Grzegorz Mazoń\nChoreografia: Ilona Gumowska\nObsada: Łukasz Batko\, Masza Lesiak-Batko\, Żaneta Małkowska\, Piotr Mokrzycki\nSpektakl przeznaczony jest dla widzów od 16 roku życia.
URL:https://info.mesip.pl/event/spektakl-ocalic-od-zapomnienia/
LOCATION:Dworcowa 4\,  Dworcowa 4   \, Mosina\, Poland
CATEGORIES:Kultura i sztuka
END:VEVENT
BEGIN:VEVENT
DTSTART;TZID=Europe/Helsinki:20240907T000000
DTEND;TZID=Europe/Helsinki:20240907T000000
DTSTAMP:20260423T170153
CREATED:20240621T050245Z
LAST-MODIFIED:20251112T210628Z
UID:51264-1725667200-1725667200@info.mesip.pl
SUMMARY:Malinowe Lato w Kostrzynie
DESCRIPTION:
URL:https://info.mesip.pl/event/malinowe-lato-w-kostrzynie/
LOCATION:ul. Poznańska 33\, ul. Poznańska 33   \, Kostrzyn\, Poland
CATEGORIES:Sport
END:VEVENT
BEGIN:VEVENT
DTSTART;VALUE=DATE:20240907
DTEND;VALUE=DATE:20240908
DTSTAMP:20260423T170153
CREATED:20240710T050436Z
LAST-MODIFIED:20251112T210928Z
UID:61544-1725667200-1725753540@info.mesip.pl
SUMMARY:Bieg Pieczonej Pyry
DESCRIPTION:
URL:https://info.mesip.pl/event/bieg-pieczonej-pyry/
LOCATION:Park Mielżyńskich\, Park Mielżyńskich   \, 62-025 Iwno\, Poland
CATEGORIES:Sport
END:VEVENT
BEGIN:VEVENT
DTSTART;TZID=Europe/Helsinki:20240907T090000
DTEND;TZID=Europe/Helsinki:20240907T090000
DTSTAMP:20260423T170153
CREATED:20240829T060706Z
LAST-MODIFIED:20251112T211217Z
UID:93351-1725699600-1725699600@info.mesip.pl
SUMMARY:Tarnovia Run
DESCRIPTION:Tarnovia Run
URL:https://info.mesip.pl/event/tarnovia-run/
LOCATION:ul. 23 Października 34\, ul. 23 Października 34   \, 62-080 Tarnowo Podgórne\, Poland
CATEGORIES:Sport
END:VEVENT
BEGIN:VEVENT
DTSTART;TZID=Europe/Helsinki:20240907T110000
DTEND;TZID=Europe/Helsinki:20240907T200000
DTSTAMP:20260423T170153
CREATED:20240903T050710Z
LAST-MODIFIED:20251112T211235Z
UID:96250-1725706800-1725739200@info.mesip.pl
SUMMARY:Smaki powiatu poznańskiego na Dożynkach
DESCRIPTION:
URL:https://info.mesip.pl/event/smaki-powiatu-poznanskiego-na-dozynkach/
LOCATION:ul. Śniadeckich 30\, ul. Śniadeckich 30   \, 61-001 Poznań\, Poland
CATEGORIES:Kultura i sztuka
END:VEVENT
BEGIN:VEVENT
DTSTART;TZID=Europe/Helsinki:20240907T120000
DTEND;TZID=Europe/Helsinki:20240907T120000
DTSTAMP:20260423T170153
CREATED:20240822T050702Z
LAST-MODIFIED:20251112T211139Z
UID:88535-1725710400-1725710400@info.mesip.pl
SUMMARY:RUMPUĆ
DESCRIPTION:
URL:https://info.mesip.pl/event/rumpuc/
LOCATION:Polana Rumpuciowa Rokietnica\, Polana Rumpuciowa Rokietnica   \, Rokietnica\, Poland
CATEGORIES:Kultura i sztuka
END:VEVENT
BEGIN:VEVENT
DTSTART;TZID=Europe/Helsinki:20240907T120000
DTEND;TZID=Europe/Helsinki:20240907T160000
DTSTAMP:20260423T170153
CREATED:20240810T050621Z
LAST-MODIFIED:20251112T211132Z
UID:80581-1725710400-1725724800@info.mesip.pl
SUMMARY:Piknik rodzinny Bezpieczni w powiecie poznańskim
DESCRIPTION:
URL:https://info.mesip.pl/event/piknik-rodzinny-bezpieczni-w-powiecie-poznanskim/
LOCATION:ul. Obornicka 1\, ul. Obornicka 1   \, Bolechowo\, Poland
CATEGORIES:Piknik
END:VEVENT
BEGIN:VEVENT
DTSTART;TZID=Europe/Helsinki:20240907T130000
DTEND;TZID=Europe/Helsinki:20240907T170000
DTSTAMP:20260423T170153
CREATED:20240822T050702Z
LAST-MODIFIED:20251112T211139Z
UID:88538-1725714000-1725728400@info.mesip.pl
SUMMARY:EKO-FESTYN Rodzinny w Murowanej Goślinie
DESCRIPTION:
URL:https://info.mesip.pl/event/eko-festyn-rodzinny-w-murowanej-goslinie/
LOCATION:os. Zielone Wzgórza\, os. Zielone Wzgórza   \, Murowana Goślina\, Poland
CATEGORIES:Piknik
END:VEVENT
BEGIN:VEVENT
DTSTART;TZID=Europe/Helsinki:20240907T144500
DTEND;TZID=Europe/Helsinki:20240907T144500
DTSTAMP:20260423T170153
CREATED:20240806T050609Z
LAST-MODIFIED:20251112T211109Z
UID:77943-1725720300-1725720300@info.mesip.pl
SUMMARY:Dożynki Gminne w Gortatowie
DESCRIPTION:Dożynki Gminne w Gortatowie
URL:https://info.mesip.pl/event/dozynki-gminne-w-gortatowie/
LOCATION:ul. Dożynkowa 13\, ul. Dożynkowa 13   \, 62-020 Gortatowo\, Poland
CATEGORIES:Uroczystości
END:VEVENT
BEGIN:VEVENT
DTSTART;TZID=Europe/Helsinki:20240907T150000
DTEND;TZID=Europe/Helsinki:20240907T210000
DTSTAMP:20260423T170153
CREATED:20240829T060707Z
LAST-MODIFIED:20251112T211217Z
UID:93354-1725721200-1725742800@info.mesip.pl
SUMMARY:Biba w Lasku
DESCRIPTION:Biba w Lasku
URL:https://info.mesip.pl/event/biba-w-lasku/
LOCATION:ul. Armii Poznań\, ul. Armii Poznań   \, Luboń\, Poland
CATEGORIES:Kultura i sztuka
END:VEVENT
BEGIN:VEVENT
DTSTART;TZID=Europe/Helsinki:20240907T180000
DTEND;TZID=Europe/Helsinki:20240907T200000
DTSTAMP:20260423T170153
CREATED:20240829T060707Z
LAST-MODIFIED:20251112T211217Z
UID:93357-1725732000-1725739200@info.mesip.pl
SUMMARY:Piknik rowerowy
DESCRIPTION:Piknik rowerowy
URL:https://info.mesip.pl/event/piknik-rowerowy/
LOCATION:ul. Bogusławskiego\, ul. Bogusławskiego   \, 62-002 Suchy Las\, Poland
CATEGORIES:Turystyka i rekreacja
END:VEVENT
BEGIN:VEVENT
DTSTART;TZID=Europe/Helsinki:20240907T190000
DTEND;TZID=Europe/Helsinki:20240907T190000
DTSTAMP:20260423T170153
CREATED:20240827T050723Z
LAST-MODIFIED:20251112T211202Z
UID:91943-1725735600-1725735600@info.mesip.pl
SUMMARY:Mistrzowie Kameralistyki
DESCRIPTION:
URL:https://info.mesip.pl/event/mistrzowie-kameralistyki/
LOCATION:Spokojna 3\, Spokojna 3   \, Jerzykowo\, Poland
CATEGORIES:Kultura i sztuka
END:VEVENT
END:VCALENDAR