BEGIN:VCALENDAR
VERSION:2.0
PRODID:-//MeSIP - ECPv6.15.13//NONSGML v1.0//EN
CALSCALE:GREGORIAN
METHOD:PUBLISH
X-WR-CALNAME:MeSIP
X-ORIGINAL-URL:https://info.mesip.pl
X-WR-CALDESC:Wydarzenia dla MeSIP
REFRESH-INTERVAL;VALUE=DURATION:PT1H
X-Robots-Tag:noindex
X-PUBLISHED-TTL:PT1H
BEGIN:VTIMEZONE
TZID:Europe/Helsinki
BEGIN:DAYLIGHT
TZOFFSETFROM:+0200
TZOFFSETTO:+0300
TZNAME:EEST
DTSTART:20230326T010000
END:DAYLIGHT
BEGIN:STANDARD
TZOFFSETFROM:+0300
TZOFFSETTO:+0200
TZNAME:EET
DTSTART:20231029T010000
END:STANDARD
BEGIN:DAYLIGHT
TZOFFSETFROM:+0200
TZOFFSETTO:+0300
TZNAME:EEST
DTSTART:20240331T010000
END:DAYLIGHT
BEGIN:STANDARD
TZOFFSETFROM:+0300
TZOFFSETTO:+0200
TZNAME:EET
DTSTART:20241027T010000
END:STANDARD
BEGIN:DAYLIGHT
TZOFFSETFROM:+0200
TZOFFSETTO:+0300
TZNAME:EEST
DTSTART:20250330T010000
END:DAYLIGHT
BEGIN:STANDARD
TZOFFSETFROM:+0300
TZOFFSETTO:+0200
TZNAME:EET
DTSTART:20251026T010000
END:STANDARD
END:VTIMEZONE
BEGIN:VEVENT
DTSTART;TZID=Europe/Helsinki:20240419T100000
DTEND;TZID=Europe/Helsinki:20240831T100000
DTSTAMP:20260423T203402
CREATED:20240618T050232Z
LAST-MODIFIED:20251112T210410Z
UID:50183-1713520800-1725098400@info.mesip.pl
SUMMARY:Wystawa o czasach PRL
DESCRIPTION:
URL:https://info.mesip.pl/event/wystawa-o-czasach-prl/
LOCATION:ul. Słupska 62\, ul. Słupska 62   \, Poznań\, Poland
CATEGORIES:Kultura i sztuka
END:VEVENT
BEGIN:VEVENT
DTSTART;TZID=Europe/Helsinki:20240716T000000
DTEND;TZID=Europe/Helsinki:20241020T000000
DTSTAMP:20260423T203402
CREATED:20240711T050443Z
LAST-MODIFIED:20251112T210929Z
UID:62132-1721088000-1729382400@info.mesip.pl
SUMMARY:Wystawa czasowa: "Gatunki inwazyjne w faunie Polski"
DESCRIPTION:
URL:https://info.mesip.pl/event/wystawa-czasowa-gatunki-inwazyjne-w-faunie-polski/
LOCATION:ul. Akacjowa 12\, ul. Akacjowa 12   \, 62-006 Uzarzewo\, Poland
CATEGORIES:Edukacja
END:VEVENT
BEGIN:VEVENT
DTSTART;TZID=Europe/Helsinki:20240801T000000
DTEND;TZID=Europe/Helsinki:20240831T000000
DTSTAMP:20260423T203402
CREATED:20240702T050400Z
LAST-MODIFIED:20251112T210824Z
UID:56903-1722470400-1725062400@info.mesip.pl
SUMMARY:Wystawa figurek "Warhammer"
DESCRIPTION:Swarzędzkie Centrum Historii i Sztuki zaprasza na wystawę figurek “Warhammera” z kolekcji Jeremiego Murka\, którą będzie można oglądać w muzeum przy ul. Bramkowej 6 przez cały sierpień (1-31.08).\nSerdecznie zapraszamy!
URL:https://info.mesip.pl/event/wystawa-figurek-warhammer/
LOCATION:ul. Bramkowa 6\, ul. Bramkowa 6   \, 62-020 Swarzędz\, Poland
CATEGORIES:Kultura i sztuka
END:VEVENT
BEGIN:VEVENT
DTSTART;TZID=Europe/Helsinki:20240804T150000
DTEND;TZID=Europe/Helsinki:20240825T180000
DTSTAMP:20260423T203402
CREATED:20240727T050520Z
LAST-MODIFIED:20251112T211001Z
UID:71703-1722783600-1724608800@info.mesip.pl
SUMMARY:Zabytek otwarty
DESCRIPTION:
URL:https://info.mesip.pl/event/zabytek-otwarty/
LOCATION:Mury 30\, Mury 30   \, Buk\, Poland
CATEGORIES:Edukacja
END:VEVENT
BEGIN:VEVENT
DTSTART;TZID=Europe/Helsinki:20240809T190000
DTEND;TZID=Europe/Helsinki:20240818T190000
DTSTAMP:20260423T203402
CREATED:20240719T050458Z
LAST-MODIFIED:20251112T210949Z
UID:66896-1723230000-1724007600@info.mesip.pl
SUMMARY:XVII Festiwal Sztuki Ludowej
DESCRIPTION:
URL:https://info.mesip.pl/event/xvii-festiwal-sztuki-ludowej/
LOCATION:ul. Dworcowa 5\, ul. Dworcowa 5   \, Szreniawa\, Poland
CATEGORIES:Kultura i sztuka
END:VEVENT
BEGIN:VEVENT
DTSTART;TZID=Europe/Helsinki:20240812T073000
DTEND;TZID=Europe/Helsinki:20240816T153000
DTSTAMP:20260423T203402
CREATED:20240622T050310Z
LAST-MODIFIED:20251112T210714Z
UID:51797-1723447800-1723822200@info.mesip.pl
SUMMARY:Wakacje w OAZA KIDS
DESCRIPTION:
URL:https://info.mesip.pl/event/wakacje-w-oaza-kids/
LOCATION:ul. Krasickiego 1\, ul. Krasickiego 1   \, Kórnik\, Poland
CATEGORIES:Dla dzieci
END:VEVENT
BEGIN:VEVENT
DTSTART;TZID=Europe/Helsinki:20240813T130000
DTEND;TZID=Europe/Helsinki:20240813T180000
DTSTAMP:20260423T203402
CREATED:20240727T050520Z
LAST-MODIFIED:20251112T211117Z
UID:71700-1723554000-1723572000@info.mesip.pl
SUMMARY:Przystanek Buk
DESCRIPTION:
URL:https://info.mesip.pl/event/przystanek-buk/
LOCATION:Plac Przemysława\, Plac Przemysława   \, Buk\, Poland
CATEGORIES:Społeczne
END:VEVENT
BEGIN:VEVENT
DTSTART;TZID=Europe/Helsinki:20240814T000000
DTEND;TZID=Europe/Helsinki:20240814T000000
DTSTAMP:20260423T203402
CREATED:20240621T050308Z
LAST-MODIFIED:20251112T210608Z
UID:51335-1723593600-1723593600@info.mesip.pl
SUMMARY:Koncert Macieja Balcara
DESCRIPTION:
URL:https://info.mesip.pl/event/koncert-macieja-balcara/
LOCATION:ul. Dworcowa\, ul. Dworcowa   \, Mosina\, Poland
CATEGORIES:Kultura i sztuka
END:VEVENT
BEGIN:VEVENT
DTSTART;TZID=Europe/Helsinki:20240814T100000
DTEND;TZID=Europe/Helsinki:20240814T100000
DTSTAMP:20260423T203402
CREATED:20240803T050558Z
LAST-MODIFIED:20251112T211042Z
UID:76020-1723629600-1723629600@info.mesip.pl
SUMMARY:ARTystyczni: Warsztaty makramowe w Jankowicach
DESCRIPTION:
URL:https://info.mesip.pl/event/artystyczni-warsztaty-makramowe-w-jankowicach/
LOCATION:ul. Ogrodowa 2\, ul. Ogrodowa 2   \, Jankowice\, Poland
CATEGORIES:Kultura i sztuka
END:VEVENT
BEGIN:VEVENT
DTSTART;TZID=Europe/Helsinki:20240814T203000
DTEND;TZID=Europe/Helsinki:20240814T203000
DTSTAMP:20260423T203402
CREATED:20240730T050539Z
LAST-MODIFIED:20251112T211012Z
UID:73530-1723667400-1723667400@info.mesip.pl
SUMMARY:Koncert Maciej Balcar
DESCRIPTION:
URL:https://info.mesip.pl/event/koncert-maciej-balcar/
LOCATION:ul. Dworcowa\, ul. Dworcowa   \, 62-050 Mosina\, Poland
CATEGORIES:Rozrywka
END:VEVENT
BEGIN:VEVENT
DTSTART;VALUE=DATE:20240815
DTEND;VALUE=DATE:20240816
DTSTAMP:20260423T203402
CREATED:20240713T050449Z
LAST-MODIFIED:20251112T210942Z
UID:63326-1723680000-1723766340@info.mesip.pl
SUMMARY:Smak Chleba Finał Konkursu
DESCRIPTION:
URL:https://info.mesip.pl/event/smak-chleba-final-konkursu/
LOCATION:Plac Parkowy 1\, Plac Parkowy 1   \, Skrzynki\, gm. Stęszew\, Poland
CATEGORIES:Ekologia
END:VEVENT
BEGIN:VEVENT
DTSTART;TZID=Europe/Helsinki:20240816T220000
DTEND;TZID=Europe/Helsinki:20240816T220000
DTSTAMP:20260423T203402
CREATED:20240810T050617Z
LAST-MODIFIED:20251112T211128Z
UID:80551-1723845600-1723845600@info.mesip.pl
SUMMARY:Kino plenerowe w Skrzynkach
DESCRIPTION:
URL:https://info.mesip.pl/event/kino-plenerowe-w-skrzynkach/
LOCATION:Plac Parkowy 1\, Plac Parkowy 1   \, Skrzynki\, gm. Stęszew\, Poland
CATEGORIES:Rozrywka
END:VEVENT
BEGIN:VEVENT
DTSTART;TZID=Europe/Helsinki:20240817T000000
DTEND;TZID=Europe/Helsinki:20240817T000000
DTSTAMP:20260423T203402
CREATED:20240810T050617Z
LAST-MODIFIED:20251112T211128Z
UID:80554-1723852800-1723852800@info.mesip.pl
SUMMARY:Rajd Honorowych Dawców Krwi PCK
DESCRIPTION:
URL:https://info.mesip.pl/event/rajd-honorowych-dawcow-krwi-pck/
LOCATION:Ochotnicza Straż Pożarna w Kamieniu\, Ochotnicza Straż Pożarna w Kamieniu   \, 62-400 Kamień\, Poland
CATEGORIES:Turystyka i rekreacja
END:VEVENT
BEGIN:VEVENT
DTSTART;TZID=Europe/Helsinki:20240817T083000
DTEND;TZID=Europe/Helsinki:20240817T083000
DTSTAMP:20260423T203402
CREATED:20240810T050618Z
LAST-MODIFIED:20251112T211129Z
UID:80557-1723883400-1723883400@info.mesip.pl
SUMMARY:Dożynki w Szewcach
DESCRIPTION:
URL:https://info.mesip.pl/event/dozynki-w-szewcach/
LOCATION:Szewce\, Szewce   \, 64-320 Szewce\, Poland
CATEGORIES:Kultura i sztuka
END:VEVENT
BEGIN:VEVENT
DTSTART;TZID=Europe/Helsinki:20240817T140000
DTEND;TZID=Europe/Helsinki:20240817T170000
DTSTAMP:20260423T203402
CREATED:20240809T050614Z
LAST-MODIFIED:20251112T211118Z
UID:79892-1723903200-1723914000@info.mesip.pl
SUMMARY:Festiwal baniek w Niepruszewie
DESCRIPTION:
URL:https://info.mesip.pl/event/festiwal-baniek-w-niepruszewie/
LOCATION:Niepruszewo plaża\, Niepruszewo plaża   \, 64-320 Niepruszewo\, Poland
CATEGORIES:Dla dzieci
END:VEVENT
BEGIN:VEVENT
DTSTART;TZID=Europe/Helsinki:20240817T190000
DTEND;TZID=Europe/Helsinki:20240817T190000
DTSTAMP:20260423T203402
CREATED:20240725T050513Z
LAST-MODIFIED:20251112T210959Z
UID:70491-1723921200-1723921200@info.mesip.pl
SUMMARY:Szymon Gąda w Dworze Skrzynki
DESCRIPTION:
URL:https://info.mesip.pl/event/szymon-gada-w-dworze-skrzynki/
LOCATION:Plac Parkowy 1\, Plac Parkowy 1   \, Skrzynki\, gm. Stęszew\, Poland
CATEGORIES:Rozrywka
END:VEVENT
BEGIN:VEVENT
DTSTART;TZID=Europe/Helsinki:20240818T093000
DTEND;TZID=Europe/Helsinki:20240818T093000
DTSTAMP:20260423T203402
CREATED:20240806T050608Z
LAST-MODIFIED:20251112T211107Z
UID:77931-1723973400-1723973400@info.mesip.pl
SUMMARY:Wycieczka rowerowa do dworu w Skrzynkach
DESCRIPTION:Wycieczka rowerowa do dworu w Skrzynkach
URL:https://info.mesip.pl/event/wycieczka-rowerowa-do-dworu-w-skrzynkach/
LOCATION:Plac Parkowy 1\, Plac Parkowy 1   \, Skrzynki\, gm. Stęszew\, Poland
CATEGORIES:Turystyka i rekreacja
END:VEVENT
BEGIN:VEVENT
DTSTART;TZID=Europe/Helsinki:20240819T000000
DTEND;TZID=Europe/Helsinki:20240831T000000
DTSTAMP:20260423T203402
CREATED:20240621T050243Z
LAST-MODIFIED:20251112T210616Z
UID:51251-1724025600-1725062400@info.mesip.pl
SUMMARY:Wakacje w Mosinie
DESCRIPTION:
URL:https://info.mesip.pl/event/wakacje-w-mosinie/
LOCATION:ul. Krasickiego 16\, ul. Krasickiego 16   \, Mosina\, Poland
CATEGORIES:Kultura i sztuka
END:VEVENT
BEGIN:VEVENT
DTSTART;TZID=Europe/Helsinki:20240820T000000
DTEND;TZID=Europe/Helsinki:20240821T000000
DTSTAMP:20260423T203402
CREATED:20240801T050542Z
LAST-MODIFIED:20251112T211027Z
UID:74769-1724112000-1724198400@info.mesip.pl
SUMMARY:Forum Regionalistów w Dworze Skrzynki
DESCRIPTION:
URL:https://info.mesip.pl/event/forum-regionalistow-w-dworze-skrzynki/
LOCATION:Plac Parkowy 1\, Plac Parkowy 1   \, Skrzynki\, gm. Stęszew\, Poland
CATEGORIES:Konferencje i debaty
END:VEVENT
BEGIN:VEVENT
DTSTART;TZID=Europe/Helsinki:20240821T180000
DTEND;TZID=Europe/Helsinki:20240821T180000
DTSTAMP:20260423T203402
CREATED:20240803T050559Z
LAST-MODIFIED:20251112T211046Z
UID:76023-1724263200-1724263200@info.mesip.pl
SUMMARY:„Kobiety\, które śpiewały Młynarskiego” spotkanie autorskie z Joanną Nojszewską
DESCRIPTION:
URL:https://info.mesip.pl/event/kobiety-ktore-spiewaly-mlynarskiego-spotkanie-autorskie-z-joanna-nojszewska/
LOCATION:ul. Ogrodowa 2\, ul. Ogrodowa 2   \, Jankowice\, Poland
CATEGORIES:Kultura i sztuka
END:VEVENT
BEGIN:VEVENT
DTSTART;TZID=Europe/Helsinki:20240823T090000
DTEND;TZID=Europe/Helsinki:20240823T090000
DTSTAMP:20260423T203402
CREATED:20240628T050349Z
LAST-MODIFIED:20251112T210748Z
UID:54766-1724403600-1724403600@info.mesip.pl
SUMMARY:Joga Szczęścia na Trawie w Swarzędzu
DESCRIPTION:
URL:https://info.mesip.pl/event/joga-szczescia-na-trawie-w-swarzedzu/
LOCATION:Kosynierów 1\, Kosynierów 1   \, Swarzędz\, Poland
CATEGORIES:Sport
END:VEVENT
BEGIN:VEVENT
DTSTART;TZID=Europe/Helsinki:20240823T180000
DTEND;TZID=Europe/Helsinki:20240823T180000
DTSTAMP:20260423T203402
CREATED:20240628T050351Z
LAST-MODIFIED:20251112T210749Z
UID:54777-1724436000-1724436000@info.mesip.pl
SUMMARY:Letni Festiwal Muzyka z Kórnika
DESCRIPTION:
URL:https://info.mesip.pl/event/letni-festiwal-muzyka-z-kornika/
LOCATION:Prowent\, Prowent   \, Kórnik\, Poland
CATEGORIES:Kultura i sztuka
END:VEVENT
BEGIN:VEVENT
DTSTART;TZID=Europe/Helsinki:20240823T190000
DTEND;TZID=Europe/Helsinki:20240823T190000
DTSTAMP:20260423T203402
CREATED:20240803T050601Z
LAST-MODIFIED:20251112T211049Z
UID:76026-1724439600-1724439600@info.mesip.pl
SUMMARY:Festiwal w Jankowicach
DESCRIPTION:
URL:https://info.mesip.pl/event/festiwal-w-jankowicach/
LOCATION:ul. Ogrodowa 2\, ul. Ogrodowa 2   \, Jankowice\, Poland
CATEGORIES:Kultura i sztuka
END:VEVENT
BEGIN:VEVENT
DTSTART;TZID=Europe/Helsinki:20240823T203000
DTEND;TZID=Europe/Helsinki:20240823T203000
DTSTAMP:20260423T203402
CREATED:20240626T050336Z
LAST-MODIFIED:20251112T211138Z
UID:53778-1724445000-1724445000@info.mesip.pl
SUMMARY:Kino Letnie w Dworze Skrzynki
DESCRIPTION:Chłopaki nie płaczą – Kino Letnie w Dworze Skrzynki\nWstęp wolny
URL:https://info.mesip.pl/event/kino-letnie-w-dworze-skrzynki/
LOCATION:Plac Parkowy 1\, Plac Parkowy 1   \, Skrzynki\, gm. Stęszew\, Poland
CATEGORIES:Kultura i sztuka
END:VEVENT
BEGIN:VEVENT
DTSTART;TZID=Europe/Helsinki:20240823T210000
DTEND;TZID=Europe/Helsinki:20240823T210000
DTSTAMP:20260423T203402
CREATED:20240621T050250Z
LAST-MODIFIED:20251112T210619Z
UID:51287-1724446800-1724446800@info.mesip.pl
SUMMARY:Kino Letnie Zorza
DESCRIPTION:Kino Letnie Zorza
URL:https://info.mesip.pl/event/kino-letnie-zorza/
LOCATION:Mściszewska 10\, Mściszewska 10   \, Murowana Goślina\, Poland
CATEGORIES:Kultura i sztuka
END:VEVENT
BEGIN:VEVENT
DTSTART;TZID=Europe/Helsinki:20240824T000000
DTEND;TZID=Europe/Helsinki:20240824T000000
DTSTAMP:20260423T203402
CREATED:20240806T050608Z
LAST-MODIFIED:20251112T211107Z
UID:77934-1724457600-1724457600@info.mesip.pl
SUMMARY:Festiwal po Drodze w Mosinie
DESCRIPTION:
URL:https://info.mesip.pl/event/festiwal-po-drodze-w-mosinie/
LOCATION:ul. Dworcowa\, ul. Dworcowa   \, 62-050 Mosina\, Poland
CATEGORIES:Kultura i sztuka
END:VEVENT
BEGIN:VEVENT
DTSTART;TZID=Europe/Helsinki:20240824T090000
DTEND;TZID=Europe/Helsinki:20240825T200000
DTSTAMP:20260423T203402
CREATED:20240621T050233Z
LAST-MODIFIED:20251112T210621Z
UID:51194-1724490000-1724616000@info.mesip.pl
SUMMARY:Plaża Miejska w Luboniu
DESCRIPTION:
URL:https://info.mesip.pl/event/plaza-miejska-w-luboniu/
LOCATION:ul. Rzeczna\, ul. Rzeczna   \, Luboń\, Poland
CATEGORIES:Sport
END:VEVENT
BEGIN:VEVENT
DTSTART;TZID=Europe/Helsinki:20240824T143000
DTEND;TZID=Europe/Helsinki:20240824T143000
DTSTAMP:20260423T203402
CREATED:20240810T050618Z
LAST-MODIFIED:20251112T211129Z
UID:80560-1724509800-1724509800@info.mesip.pl
SUMMARY:Dożynki Miasta i Gminy Kórnik 2024
DESCRIPTION:Dożynki Miasta i Gminy Kórnik 2024
URL:https://info.mesip.pl/event/dozynki-miasta-i-gminy-kornik-2024/
LOCATION:ul. Św. Mikołaja 195\, ul. Św. Mikołaja 195   \, 62-035 Radzewo\, Poland
CATEGORIES:Kultura i sztuka
END:VEVENT
BEGIN:VEVENT
DTSTART;TZID=Europe/Helsinki:20240824T154500
DTEND;TZID=Europe/Helsinki:20240824T154500
DTSTAMP:20260423T203402
CREATED:20240823T050711Z
LAST-MODIFIED:20251112T211150Z
UID:89224-1724514300-1724514300@info.mesip.pl
SUMMARY:Chludowskie Spotkania z Folklorem
DESCRIPTION:
URL:https://info.mesip.pl/event/chludowskie-spotkania-z-folklorem/
LOCATION:ul. Rynek Chludowo\, ul. Rynek Chludowo   \, 62-001 Chludowo\, Poland
CATEGORIES:Kultura i sztuka
END:VEVENT
BEGIN:VEVENT
DTSTART;TZID=Europe/Helsinki:20240824T160000
DTEND;TZID=Europe/Helsinki:20240824T220000
DTSTAMP:20260423T203402
CREATED:20240809T050615Z
LAST-MODIFIED:20251112T211119Z
UID:79895-1724515200-1724536800@info.mesip.pl
SUMMARY:Festyn Rodzinny w Żegowie
DESCRIPTION:
URL:https://info.mesip.pl/event/festyn-rodzinny-w-zegowie/
LOCATION:Żegowo\, Żegowo   \, 64-320 Żegowo\, Poland
CATEGORIES:Rozrywka
END:VEVENT
END:VCALENDAR