BEGIN:VCALENDAR
VERSION:2.0
PRODID:-//MeSIP - ECPv6.15.13//NONSGML v1.0//EN
CALSCALE:GREGORIAN
METHOD:PUBLISH
X-WR-CALNAME:MeSIP
X-ORIGINAL-URL:https://info.mesip.pl
X-WR-CALDESC:Wydarzenia dla MeSIP
REFRESH-INTERVAL;VALUE=DURATION:PT1H
X-Robots-Tag:noindex
X-PUBLISHED-TTL:PT1H
BEGIN:VTIMEZONE
TZID:Europe/Helsinki
BEGIN:DAYLIGHT
TZOFFSETFROM:+0200
TZOFFSETTO:+0300
TZNAME:EEST
DTSTART:20230326T010000
END:DAYLIGHT
BEGIN:STANDARD
TZOFFSETFROM:+0300
TZOFFSETTO:+0200
TZNAME:EET
DTSTART:20231029T010000
END:STANDARD
BEGIN:DAYLIGHT
TZOFFSETFROM:+0200
TZOFFSETTO:+0300
TZNAME:EEST
DTSTART:20240331T010000
END:DAYLIGHT
BEGIN:STANDARD
TZOFFSETFROM:+0300
TZOFFSETTO:+0200
TZNAME:EET
DTSTART:20241027T010000
END:STANDARD
BEGIN:DAYLIGHT
TZOFFSETFROM:+0200
TZOFFSETTO:+0300
TZNAME:EEST
DTSTART:20250330T010000
END:DAYLIGHT
BEGIN:STANDARD
TZOFFSETFROM:+0300
TZOFFSETTO:+0200
TZNAME:EET
DTSTART:20251026T010000
END:STANDARD
END:VTIMEZONE
BEGIN:VEVENT
DTSTART;TZID=Europe/Helsinki:20240304T000000
DTEND;TZID=Europe/Helsinki:20240630T000000
DTSTAMP:20260424T003643
CREATED:20240325T115243Z
LAST-MODIFIED:20251222T222606Z
UID:22067-1709510400-1719705600@info.mesip.pl
SUMMARY:Zajęcia na sportowo
DESCRIPTION:
URL:https://info.mesip.pl/event/zajecia-na-sportowo/
LOCATION:Centrum Tenisowe Sobota\, Centrum Tenisowe Sobota   \, Sobota\, Poland
CATEGORIES:Sport
END:VEVENT
BEGIN:VEVENT
DTSTART;TZID=Europe/Helsinki:20240419T100000
DTEND;TZID=Europe/Helsinki:20240831T100000
DTSTAMP:20260424T003643
CREATED:20240618T050232Z
LAST-MODIFIED:20251112T210410Z
UID:50183-1713520800-1725098400@info.mesip.pl
SUMMARY:Wystawa o czasach PRL
DESCRIPTION:
URL:https://info.mesip.pl/event/wystawa-o-czasach-prl/
LOCATION:ul. Słupska 62\, ul. Słupska 62   \, Poznań\, Poland
CATEGORIES:Kultura i sztuka
END:VEVENT
BEGIN:VEVENT
DTSTART;TZID=Europe/Helsinki:20240614T180000
DTEND;TZID=Europe/Helsinki:20240615T180000
DTSTAMP:20260424T003643
CREATED:20240606T050233Z
LAST-MODIFIED:20251112T210347Z
UID:46122-1718388000-1718474400@info.mesip.pl
SUMMARY:Festiwal PodróŻyj
DESCRIPTION:
URL:https://info.mesip.pl/event/festiwal-podrozyj/
LOCATION:Dworcowa 4\,  Dworcowa 4   \, Mosina\, Poland
CATEGORIES:Turystyka i rekreacja
END:VEVENT
BEGIN:VEVENT
DTSTART;TZID=Europe/Helsinki:20240615T000000
DTEND;TZID=Europe/Helsinki:20240615T000000
DTSTAMP:20260424T003643
CREATED:20240427T050305Z
LAST-MODIFIED:20251112T210204Z
UID:37114-1718409600-1718409600@info.mesip.pl
SUMMARY:Bieg w Dobrym Kierunku
DESCRIPTION:Gminny Ośrodek Sportu i Rekreacji w Komornikach zaprasza na II edycję „Biegu w Dobrym Kierunku” po Wielkopolskim Parku Narodowym. Bieg organizowany jest we współpracy z Gminą Komorniki\, WPN i Muzeum Rolnictwa w Szreniawie. – Nasz kierunek to ochrona przyrody i edukacja ekologiczna. Z wpisowego część kwoty od każdego zawodnika przeznaczymy na działania ekologiczne na terenie gminy Komorniki i WPN. Cel każdej edycji biegu jest inny. W tym roku wspólnie z działem edukacyjnym WPN planujemy organizację warsztatów przyrodniczych dla dzieci z Akademii Sportu GOSiR – informuja organizatorzy.
URL:https://info.mesip.pl/event/bieg-w-dobrym-kierunku/
LOCATION:ul. Dworcowa 5\, ul. Dworcowa 5   \, Szreniawa\, Poland
CATEGORIES:Sport
END:VEVENT
BEGIN:VEVENT
DTSTART;TZID=Europe/Helsinki:20240615T000000
DTEND;TZID=Europe/Helsinki:20240615T000000
DTSTAMP:20260424T003643
CREATED:20240524T050204Z
LAST-MODIFIED:20251112T210307Z
UID:42273-1718409600-1718409600@info.mesip.pl
SUMMARY:Turniej Piłki Nożnej Oldboys Cup
DESCRIPTION:
URL:https://info.mesip.pl/event/turniej-pilki-noznej-oldboys-cup/
LOCATION:ul. Polna 1A\, ul. Polna 1A   \, Dopiewo\, Poland
CATEGORIES:Sport
END:VEVENT
BEGIN:VEVENT
DTSTART;TZID=Europe/Helsinki:20240615T000000
DTEND;TZID=Europe/Helsinki:20240616T000000
DTSTAMP:20260424T003643
CREATED:20240605T050228Z
LAST-MODIFIED:20251112T210330Z
UID:45762-1718409600-1718496000@info.mesip.pl
SUMMARY:Spływ kajakowy- Przygoda z Tatą
DESCRIPTION:Spływ kajakowy- Przygoda z Tatą
URL:https://info.mesip.pl/event/splyw-kajakowy-przygoda-z-tata/
LOCATION:ul. Kiszkowska 7\, ul. Kiszkowska 7   \, Pobiedziska\, Poland
CATEGORIES:Turystyka i rekreacja
END:VEVENT
BEGIN:VEVENT
DTSTART;VALUE=DATE:20240615
DTEND;VALUE=DATE:20240617
DTSTAMP:20260424T003643
CREATED:20240606T050234Z
LAST-MODIFIED:20251112T210347Z
UID:46125-1718409600-1718582340@info.mesip.pl
SUMMARY:Dni Gminy Suchy Las
DESCRIPTION:Dni Gminy Suchy Las – koncert Dżemu
URL:https://info.mesip.pl/event/dni-gminy-suchy-las/
LOCATION:ul. Obornicka\, ul. Obornicka   \, Suchy Las\, Poland
CATEGORIES:Kultura i sztuka
END:VEVENT
BEGIN:VEVENT
DTSTART;TZID=Europe/Helsinki:20240615T140000
DTEND;TZID=Europe/Helsinki:20240615T140000
DTSTAMP:20260424T003643
CREATED:20240608T050320Z
LAST-MODIFIED:20251112T210410Z
UID:46830-1718460000-1718460000@info.mesip.pl
SUMMARY:Motyliada
DESCRIPTION:
URL:https://info.mesip.pl/event/motyliada/
LOCATION:ul. Szkolna 13\, ul. Szkolna 13   \, Pamiątkowo\, Poland
CATEGORIES:Społeczne
END:VEVENT
BEGIN:VEVENT
DTSTART;TZID=Europe/Helsinki:20240615T160000
DTEND;TZID=Europe/Helsinki:20240615T160000
DTSTAMP:20260424T003643
CREATED:20240605T050229Z
LAST-MODIFIED:20251112T210332Z
UID:45765-1718467200-1718467200@info.mesip.pl
SUMMARY:Spotkanie z mistrzem świata w triathlonie
DESCRIPTION:Spotkanie z mistrzem świata w triathlonie
URL:https://info.mesip.pl/event/spotkanie-z-mistrzem-swiata-w-triathlonie/
LOCATION:ul. Mściszewska 10\, ul. Mściszewska 10   \, Murowana Goślina\, Poland
CATEGORIES:Sport
END:VEVENT
BEGIN:VEVENT
DTSTART;TZID=Europe/Helsinki:20240615T180000
DTEND;TZID=Europe/Helsinki:20240615T180000
DTSTAMP:20260424T003643
CREATED:20240606T050235Z
LAST-MODIFIED:20251112T210351Z
UID:46128-1718474400-1718474400@info.mesip.pl
SUMMARY:„Letnie inspiracje”
DESCRIPTION:
URL:https://info.mesip.pl/event/letnie-inspiracje/
LOCATION:ul. Ogrodowa 2\, ul. Ogrodowa 2   \, Jankowice\, Poland
CATEGORIES:Kultura i sztuka
END:VEVENT
BEGIN:VEVENT
DTSTART;TZID=Europe/Helsinki:20240616T100000
DTEND;TZID=Europe/Helsinki:20240616T100000
DTSTAMP:20260424T003643
CREATED:20240606T050235Z
LAST-MODIFIED:20251112T210351Z
UID:46131-1718532000-1718532000@info.mesip.pl
SUMMARY:Rajd Łączy nas rower
DESCRIPTION:
URL:https://info.mesip.pl/event/rajd-laczy-nas-rower/
LOCATION:ul. Przybrodzka 1\, ul. Przybrodzka 1   \, Cerekwica\, Poland
CATEGORIES:Turystyka i rekreacja
END:VEVENT
BEGIN:VEVENT
DTSTART;TZID=Europe/Helsinki:20240616T130000
DTEND;TZID=Europe/Helsinki:20240616T130000
DTSTAMP:20260424T003643
CREATED:20240606T050236Z
LAST-MODIFIED:20251112T210354Z
UID:46134-1718542800-1718542800@info.mesip.pl
SUMMARY:AtmoSFERA Poezji z Danutą Stenką
DESCRIPTION:
URL:https://info.mesip.pl/event/atmosfera-poezji-z-danuta-stenka/
LOCATION:ul. Ogrodowa 2\, ul. Ogrodowa 2   \, Jankowice\, Poland
CATEGORIES:Kultura i sztuka
END:VEVENT
BEGIN:VEVENT
DTSTART;TZID=Europe/Helsinki:20240616T170000
DTEND;TZID=Europe/Helsinki:20240616T170000
DTSTAMP:20260424T003643
CREATED:20240605T050230Z
LAST-MODIFIED:20251112T210333Z
UID:45769-1718557200-1718557200@info.mesip.pl
SUMMARY:Operetkowe Przeboje w kleszczewie
DESCRIPTION:
URL:https://info.mesip.pl/event/operetkowe-przeboje-w-kleszczewie/
LOCATION:ul. Poznańska 10\, ul. Poznańska 10   \, Kleszczewo\, Poland
CATEGORIES:Kultura i sztuka
END:VEVENT
BEGIN:VEVENT
DTSTART;VALUE=DATE:20240619
DTEND;VALUE=DATE:20240620
DTSTAMP:20260424T003643
CREATED:20240607T050243Z
LAST-MODIFIED:20251112T210409Z
UID:46490-1718755200-1718841540@info.mesip.pl
SUMMARY:Wernisaż "Ulotne chwile"
DESCRIPTION:
URL:https://info.mesip.pl/event/wernisaz-ulotne-chwile/
LOCATION:ul. Ogrodowa 14\, ul. Ogrodowa 14   \, Tarnowo Podgórne\, Poland
CATEGORIES:Kultura i sztuka
END:VEVENT
BEGIN:VEVENT
DTSTART;TZID=Europe/Helsinki:20240619T170000
DTEND;TZID=Europe/Helsinki:20240619T170000
DTSTAMP:20260424T003643
CREATED:20240605T050230Z
LAST-MODIFIED:20251112T210334Z
UID:45772-1718816400-1718816400@info.mesip.pl
SUMMARY:Turniej Szachowy dla dzieci
DESCRIPTION:
URL:https://info.mesip.pl/event/turniej-szachowy-dla-dzieci-2/
LOCATION:ul. Krasickiego 1\, ul. Krasickiego 1   \, Kórnik\, Poland
CATEGORIES:Sport
END:VEVENT
BEGIN:VEVENT
DTSTART;TZID=Europe/Helsinki:20240620T000000
DTEND;TZID=Europe/Helsinki:20240620T000000
DTSTAMP:20260424T003643
CREATED:20240605T050231Z
LAST-MODIFIED:20251112T210335Z
UID:45775-1718841600-1718841600@info.mesip.pl
SUMMARY:Noc Kupały
DESCRIPTION:Noc Kupały
URL:https://info.mesip.pl/event/noc-kupaly/
LOCATION:Owińska\, Owińska   \, Owińska\, Poland
CATEGORIES:Kultura i sztuka
END:VEVENT
BEGIN:VEVENT
DTSTART;TZID=Europe/Helsinki:20240620T200000
DTEND;TZID=Europe/Helsinki:20240620T200000
DTSTAMP:20260424T003643
CREATED:20240606T050236Z
LAST-MODIFIED:20251112T210355Z
UID:46137-1718913600-1718913600@info.mesip.pl
SUMMARY:Występ taneczny LEJDIS
DESCRIPTION:Występ taneczny LEJDIS
URL:https://info.mesip.pl/event/wystep-taneczny-lejdis/
LOCATION:ul. Kostrzyńska 21\, ul. Kostrzyńska 21   \, Pobiedziska\, Poland
CATEGORIES:Kultura i sztuka
END:VEVENT
BEGIN:VEVENT
DTSTART;TZID=Europe/Helsinki:20240621T140000
DTEND;TZID=Europe/Helsinki:20240621T180000
DTSTAMP:20260424T003643
CREATED:20240621T050233Z
LAST-MODIFIED:20251112T210412Z
UID:51197-1718978400-1718992800@info.mesip.pl
SUMMARY:Opowieści kwiatów w Klubie Puszcza
DESCRIPTION:
URL:https://info.mesip.pl/event/opowiesci-kwiatow-w-klubie-puszcza/
LOCATION:ul. Wysoka 1\, ul. Wysoka 1   \, Puszczykowo\, Poland
CATEGORIES:Edukacja
END:VEVENT
BEGIN:VEVENT
DTSTART;TZID=Europe/Helsinki:20240621T190000
DTEND;TZID=Europe/Helsinki:20240621T190000
DTSTAMP:20260424T003643
CREATED:20240510T050129Z
LAST-MODIFIED:20251112T210223Z
UID:40651-1718996400-1718996400@info.mesip.pl
SUMMARY:Międzynarodowy Festiwal Chóralny
DESCRIPTION:XVI Międzynarodowy Festiwal Chóralny im. ks. Edmunda Szymańskiego
URL:https://info.mesip.pl/event/miedzynarodowy-festiwal-choralny/
LOCATION:ul. Mściszewska 10\, ul. Mściszewska 10   \, Murowana Goślina\, Poland
CATEGORIES:Kultura i sztuka
END:VEVENT
BEGIN:VEVENT
DTSTART;TZID=Europe/Helsinki:20240621T190000
DTEND;TZID=Europe/Helsinki:20240621T190000
DTSTAMP:20260424T003643
CREATED:20240621T050233Z
LAST-MODIFIED:20251112T210412Z
UID:51200-1718996400-1718996400@info.mesip.pl
SUMMARY:Tajemnice grodzisk w Bninie
DESCRIPTION:Tajemnice grodzisk w Bninie – spacer z Pasjonatem po Półwyspie Szyja
URL:https://info.mesip.pl/event/tajemnice-grodzisk-w-bninie/
LOCATION:Półwysep Szyja w Bninie\, Półwysep Szyja w Bninie   \, 62-035 Kórnik\, Poland
CATEGORIES:Kultura i sztuka
END:VEVENT
BEGIN:VEVENT
DTSTART;TZID=Europe/Helsinki:20240621T200000
DTEND;TZID=Europe/Helsinki:20240621T200000
DTSTAMP:20260424T003643
CREATED:20240621T050234Z
LAST-MODIFIED:20251112T210417Z
UID:51203-1719000000-1719000000@info.mesip.pl
SUMMARY:Kino Letnie w "Skrzynkach"
DESCRIPTION:
URL:https://info.mesip.pl/event/kino-letnie-w-skrzynkach/
LOCATION:Plac Parkowy 1\, Plac Parkowy 1   \, Skrzynki\, gm. Stęszew\, Poland
CATEGORIES:Kultura i sztuka
END:VEVENT
BEGIN:VEVENT
DTSTART;TZID=Europe/Helsinki:20240621T210000
DTEND;TZID=Europe/Helsinki:20240622T010000
DTSTAMP:20260424T003643
CREATED:20240621T050235Z
LAST-MODIFIED:20251112T210417Z
UID:51206-1719003600-1719018000@info.mesip.pl
SUMMARY:Rokietnickie Świętojanki
DESCRIPTION:Rokietnickie Świętojanki
URL:https://info.mesip.pl/event/rokietnickie-swietojanki/
LOCATION:Polana Rumpuciowa Rokietnica\, Polana Rumpuciowa Rokietnica   \, Rokietnica\, Poland
CATEGORIES:Kultura i sztuka
END:VEVENT
BEGIN:VEVENT
DTSTART;TZID=Europe/Helsinki:20240622T000000
DTEND;TZID=Europe/Helsinki:20240622T000000
DTSTAMP:20260424T003643
CREATED:20240621T050236Z
LAST-MODIFIED:20251112T210423Z
UID:51215-1719014400-1719014400@info.mesip.pl
SUMMARY:XXII Powiatowe Igrzyska dla Dzieci i Osób z Niepełnosprawnościami
DESCRIPTION:
URL:https://info.mesip.pl/event/xxii-powiatowe-igrzyska-dla-dzieci-i-osob-z-niepelnosprawnosciami/
LOCATION:ul. Świętego Marcina 1\,  ul. Świętego Marcina 1   \, Swarzędz\, Poland
CATEGORIES:Sport
END:VEVENT
BEGIN:VEVENT
DTSTART;VALUE=DATE:20240622
DTEND;VALUE=DATE:20240623
DTSTAMP:20260424T003643
CREATED:20240606T050237Z
LAST-MODIFIED:20251112T210356Z
UID:46140-1719014400-1719100740@info.mesip.pl
SUMMARY:Powiatowe Igrzyska dla Dzieci i Osób z Niepełnosprawnościami
DESCRIPTION:
URL:https://info.mesip.pl/event/powiatowe-igrzyska-dla-dzieci-i-osob-z-niepelnosprawnosciami/
LOCATION:ul. Świętego Marcina 1\,  ul. Świętego Marcina 1   \, Swarzędz\, Poland
CATEGORIES:Sport
END:VEVENT
BEGIN:VEVENT
DTSTART;VALUE=DATE:20240622
DTEND;VALUE=DATE:20240723
DTSTAMP:20260424T003643
CREATED:20240621T050236Z
LAST-MODIFIED:20251112T210422Z
UID:51212-1719014400-1721692740@info.mesip.pl
SUMMARY:Wakacje 2024 w Gminie Tarnowo Podgórne
DESCRIPTION:Wakacje 2024 w Gminie Tarnowo Podgórne
URL:https://info.mesip.pl/event/wakacje-2024-w-gminie-tarnowo-podgorne/
LOCATION:ul. Ogrodowa 2\, ul. Ogrodowa 2   \, Jankowice\, Poland
CATEGORIES:Kultura i sztuka
END:VEVENT
BEGIN:VEVENT
DTSTART;TZID=Europe/Helsinki:20240622T050000
DTEND;TZID=Europe/Helsinki:20240622T050000
DTSTAMP:20260424T003643
CREATED:20240621T050237Z
LAST-MODIFIED:20251112T210424Z
UID:51218-1719032400-1719032400@info.mesip.pl
SUMMARY:Poznańska Korba
DESCRIPTION:
URL:https://info.mesip.pl/event/poznanska-korba/
LOCATION:ul. Leśna 6\, ul. Leśna 6   \, Kórnik\, Poland
CATEGORIES:Sport
END:VEVENT
BEGIN:VEVENT
DTSTART;TZID=Europe/Helsinki:20240622T070000
DTEND;TZID=Europe/Helsinki:20240622T070000
DTSTAMP:20260424T003643
CREATED:20240605T050231Z
LAST-MODIFIED:20251112T210335Z
UID:45778-1719039600-1719039600@info.mesip.pl
SUMMARY:Mistrzostwa Polski drużyn honorowych dawców krwi w wędkarstwie
DESCRIPTION:II Mistrzostwa Polski drużyn honorowych dawców krwi w wędkarstwie spławikowo – gruntowym
URL:https://info.mesip.pl/event/mistrzostwa-polski-druzyn-honorowych-dawcow-krwi-w-wedkarstwie/
LOCATION:Owińska\, Owińska   \, Owińska\, Poland
CATEGORIES:Turystyka i rekreacja
END:VEVENT
BEGIN:VEVENT
DTSTART;TZID=Europe/Helsinki:20240622T080000
DTEND;TZID=Europe/Helsinki:20240623T080000
DTSTAMP:20260424T003643
CREATED:20240621T050237Z
LAST-MODIFIED:20251112T210425Z
UID:51221-1719043200-1719129600@info.mesip.pl
SUMMARY:Święto Stęszewa
DESCRIPTION:
URL:https://info.mesip.pl/event/swieto-steszewa/
LOCATION:ul. Poznańska 22A\, ul. Poznańska 22A   \, Stęszew\, Poland
CATEGORIES:Rozrywka
END:VEVENT
BEGIN:VEVENT
DTSTART;TZID=Europe/Helsinki:20240622T091500
DTEND;TZID=Europe/Helsinki:20240622T091500
DTSTAMP:20260424T003643
CREATED:20240621T050238Z
LAST-MODIFIED:20251112T210427Z
UID:51225-1719047700-1719047700@info.mesip.pl
SUMMARY:Tulce Plaża Open
DESCRIPTION:
URL:https://info.mesip.pl/event/tulce-plaza-open/
LOCATION:ul. Poznańska 1\, ul. Poznańska 1   \, 63-004 Tulce\, Poland
CATEGORIES:Sport
END:VEVENT
BEGIN:VEVENT
DTSTART;TZID=Europe/Helsinki:20240622T100000
DTEND;TZID=Europe/Helsinki:20240622T100000
DTSTAMP:20260424T003643
CREATED:20240621T050238Z
LAST-MODIFIED:20251112T210427Z
UID:51228-1719050400-1719050400@info.mesip.pl
SUMMARY:Bieg w Stęszewie
DESCRIPTION:Bieg na bieżni lekkoatletycznej w ramach Święta Stęszewa 2024
URL:https://info.mesip.pl/event/bieg-w-steszewie/
LOCATION:ul. Trzebawska 15\, ul. Trzebawska 15   \, 62-060 Stęszew\, Poland
CATEGORIES:Sport
END:VEVENT
END:VCALENDAR