BEGIN:VCALENDAR
VERSION:2.0
PRODID:-//MeSIP - ECPv6.15.13//NONSGML v1.0//EN
CALSCALE:GREGORIAN
METHOD:PUBLISH
X-WR-CALNAME:MeSIP
X-ORIGINAL-URL:https://info.mesip.pl
X-WR-CALDESC:Wydarzenia dla MeSIP
REFRESH-INTERVAL;VALUE=DURATION:PT1H
X-Robots-Tag:noindex
X-PUBLISHED-TTL:PT1H
BEGIN:VTIMEZONE
TZID:Europe/Helsinki
BEGIN:DAYLIGHT
TZOFFSETFROM:+0200
TZOFFSETTO:+0300
TZNAME:EEST
DTSTART:20220327T010000
END:DAYLIGHT
BEGIN:STANDARD
TZOFFSETFROM:+0300
TZOFFSETTO:+0200
TZNAME:EET
DTSTART:20221030T010000
END:STANDARD
BEGIN:DAYLIGHT
TZOFFSETFROM:+0200
TZOFFSETTO:+0300
TZNAME:EEST
DTSTART:20230326T010000
END:DAYLIGHT
BEGIN:STANDARD
TZOFFSETFROM:+0300
TZOFFSETTO:+0200
TZNAME:EET
DTSTART:20231029T010000
END:STANDARD
BEGIN:DAYLIGHT
TZOFFSETFROM:+0200
TZOFFSETTO:+0300
TZNAME:EEST
DTSTART:20240331T010000
END:DAYLIGHT
BEGIN:STANDARD
TZOFFSETFROM:+0300
TZOFFSETTO:+0200
TZNAME:EET
DTSTART:20241027T010000
END:STANDARD
BEGIN:DAYLIGHT
TZOFFSETFROM:+0200
TZOFFSETTO:+0300
TZNAME:EEST
DTSTART:20250330T010000
END:DAYLIGHT
BEGIN:STANDARD
TZOFFSETFROM:+0300
TZOFFSETTO:+0200
TZNAME:EET
DTSTART:20251026T010000
END:STANDARD
END:VTIMEZONE
BEGIN:VEVENT
DTSTART;TZID=Europe/Helsinki:20231107T101500
DTEND;TZID=Europe/Helsinki:20240430T101500
DTSTAMP:20260424T035454
CREATED:20240112T072618Z
LAST-MODIFIED:20251222T222304Z
UID:19084-1699352100-1714472100@info.mesip.pl
SUMMARY:Wystawa - Nigdy Wojny
DESCRIPTION:Muzeum Martyrologiczne w Żabikowie zaprasza na nową wystawę oraz wydarzenia towarzyszące
URL:https://info.mesip.pl/event/wystawa-nigdy-wojny/
LOCATION:ul. Niezłomnych 2\, ul. Niezłomnych 2   \, Luboń\, Poland
CATEGORIES:Społeczne
END:VEVENT
BEGIN:VEVENT
DTSTART;TZID=Europe/Helsinki:20240304T000000
DTEND;TZID=Europe/Helsinki:20240630T000000
DTSTAMP:20260424T035454
CREATED:20240325T115243Z
LAST-MODIFIED:20251222T222606Z
UID:22067-1709510400-1719705600@info.mesip.pl
SUMMARY:Zajęcia na sportowo
DESCRIPTION:
URL:https://info.mesip.pl/event/zajecia-na-sportowo/
LOCATION:Centrum Tenisowe Sobota\, Centrum Tenisowe Sobota   \, Sobota\, Poland
CATEGORIES:Sport
END:VEVENT
BEGIN:VEVENT
DTSTART;TZID=Europe/Helsinki:20240308T100000
DTEND;TZID=Europe/Helsinki:20240310T100000
DTSTAMP:20260424T035454
CREATED:20240325T115246Z
LAST-MODIFIED:20251112T210110Z
UID:22074-1709892000-1710064800@info.mesip.pl
SUMMARY:Targi Edukacyjne
DESCRIPTION:
URL:https://info.mesip.pl/event/targi-edukacyjne/
LOCATION:ul. Głogowska 14\, ul. Głogowska 14   \, Poznań\, Poland
CATEGORIES:Edukacja
END:VEVENT
BEGIN:VEVENT
DTSTART;TZID=Europe/Helsinki:20240309T180000
DTEND;TZID=Europe/Helsinki:20240309T180000
DTSTAMP:20260424T035454
CREATED:20240325T081123Z
LAST-MODIFIED:20251222T222532Z
UID:21043-1710007200-1710007200@info.mesip.pl
SUMMARY:DZIEŃ KOBIET KULTURALNY - KONCERT
DESCRIPTION:
URL:https://info.mesip.pl/event/dzien-kobiet-kulturalny-koncert/
LOCATION:ul. Poznańska 10\, ul. Poznańska 10   \, Kleszczewo\, Poland
CATEGORIES:Kultura i sztuka
END:VEVENT
BEGIN:VEVENT
DTSTART;TZID=Europe/Helsinki:20240309T183000
DTEND;TZID=Europe/Helsinki:20240309T183000
DTSTAMP:20260424T035454
CREATED:20240206T112647Z
LAST-MODIFIED:20251222T222442Z
UID:20391-1710009000-1710009000@info.mesip.pl
SUMMARY:Koncert Szymona Gądy
DESCRIPTION:
URL:https://info.mesip.pl/event/koncert-szymona-gady/
LOCATION:Plac Parkowy 1\, Plac Parkowy 1   \, Skrzynki\, gm. Stęszew\, Poland
CATEGORIES:Rozrywka
END:VEVENT
BEGIN:VEVENT
DTSTART;TZID=Europe/Helsinki:20240309T190000
DTEND;TZID=Europe/Helsinki:20240309T190000
DTSTAMP:20260424T035454
CREATED:20240325T081037Z
LAST-MODIFIED:20251222T222457Z
UID:20900-1710010800-1710010800@info.mesip.pl
SUMMARY:Ania Rusowicz - koncert
DESCRIPTION:Ania Rusowicz – koncert
URL:https://info.mesip.pl/event/ania-rusowicz-koncert/
LOCATION:ul.  Piłsudskiego 3\, ul.  Piłsudskiego 3   \, Koziegłowy\, Poland
CATEGORIES:Kultura i sztuka
END:VEVENT
BEGIN:VEVENT
DTSTART;VALUE=DATE:20240310
DTEND;VALUE=DATE:20240311
DTSTAMP:20260424T035454
CREATED:20240325T081124Z
LAST-MODIFIED:20251222T222538Z
UID:21049-1710028800-1710115140@info.mesip.pl
SUMMARY:Wielkopolanki za kółkiem
DESCRIPTION:
URL:https://info.mesip.pl/event/wielkopolanki-za-kolkiem/
LOCATION:ul. Głogowska 14\, ul. Głogowska 14   \, Poznań\, Poland
CATEGORIES:Turystyka i rekreacja
END:VEVENT
BEGIN:VEVENT
DTSTART;TZID=Europe/Helsinki:20240310T110000
DTEND;TZID=Europe/Helsinki:20240310T110000
DTSTAMP:20260424T035454
CREATED:20240325T115242Z
LAST-MODIFIED:20251222T222602Z
UID:22058-1710068400-1710068400@info.mesip.pl
SUMMARY:Poranek z Orkiestrą
DESCRIPTION:„Poranek z Orkiestrą. Muzyka filmowa” – koncert Młodzieżowej Orkiestry Dętej Gminy Tarnowo Podgórne
URL:https://info.mesip.pl/event/poranek-z-orkiestra/
LOCATION:ul. Ogrodowa 13a\, ul. Ogrodowa 13a   \, Przeźmierowo\, Poland
CATEGORIES:Rozrywka
END:VEVENT
BEGIN:VEVENT
DTSTART;TZID=Europe/Helsinki:20240310T160000
DTEND;TZID=Europe/Helsinki:20240310T160000
DTSTAMP:20260424T035454
CREATED:20240325T081124Z
LAST-MODIFIED:20251222T222542Z
UID:21052-1710086400-1710086400@info.mesip.pl
SUMMARY:ART IS A WOMAN
DESCRIPTION:
URL:https://info.mesip.pl/event/art-is-a-woman/
LOCATION:Plac Parkowy 1\, Plac Parkowy 1   \, Skrzynki\, gm. Stęszew\, Poland
CATEGORIES:Kultura i sztuka
END:VEVENT
BEGIN:VEVENT
DTSTART;TZID=Europe/Helsinki:20240310T160000
DTEND;TZID=Europe/Helsinki:20240310T160000
DTSTAMP:20260424T035454
CREATED:20240325T115242Z
LAST-MODIFIED:20251222T222605Z
UID:22061-1710086400-1710086400@info.mesip.pl
SUMMARY:Cztery Siostry – Malarstwo i Fotografia
DESCRIPTION:CZTERY SIOSTRY – MALARSTWO i FOTOGRAFIA
URL:https://info.mesip.pl/event/cztery-siostry-malarstwo-i-fotografia/
LOCATION:ul. Ogrodowa 2\, ul. Ogrodowa 2   \, Jankowice\, Poland
CATEGORIES:Kultura i sztuka
END:VEVENT
BEGIN:VEVENT
DTSTART;VALUE=DATE:20240311
DTEND;VALUE=DATE:20240313
DTSTAMP:20260424T035454
CREATED:20240325T115301Z
LAST-MODIFIED:20251112T210112Z
UID:22084-1710115200-1710287940@info.mesip.pl
SUMMARY:Matematyczna wystawa Kopernika w Skórzewie
DESCRIPTION:
URL:https://info.mesip.pl/event/matematyczna-wystawa-kopernika-w-skorzewie/
LOCATION:Skórzewo\, Skórzewo   \, 60-185 Skórzewo\, Poland
CATEGORIES:Edukacja
END:VEVENT
BEGIN:VEVENT
DTSTART;TZID=Europe/Helsinki:20240312T173000
DTEND;TZID=Europe/Helsinki:20240312T173000
DTSTAMP:20260424T035454
CREATED:20240325T115243Z
LAST-MODIFIED:20251222T222606Z
UID:22064-1710264600-1710264600@info.mesip.pl
SUMMARY:Entlik-pętlik – wiosny pamiętnik
DESCRIPTION:„Entlik-pętlik – wiosny pamiętnik” – Teatr MOZAIKA
URL:https://info.mesip.pl/event/entlik-petlik-wiosny-pamietnik/
LOCATION:ul. Ogrodowa 14\, ul. Ogrodowa 14   \, Tarnowo Podgórne\, Poland
CATEGORIES:Kultura i sztuka
END:VEVENT
BEGIN:VEVENT
DTSTART;TZID=Europe/Helsinki:20240316T140000
DTEND;TZID=Europe/Helsinki:20240316T140000
DTSTAMP:20260424T035454
CREATED:20240325T115247Z
LAST-MODIFIED:20251112T210111Z
UID:22077-1710597600-1710597600@info.mesip.pl
SUMMARY:Turniej kwalifikacyjny do Mistrzostw Europy
DESCRIPTION:
URL:https://info.mesip.pl/event/turniej-kwalifikacyjny-do-mistrzostw-europy/
LOCATION:ul. Szkolna 64\, ul. Szkolna 64   \, Plewiska\, Poland
CATEGORIES:Sport
END:VEVENT
BEGIN:VEVENT
DTSTART;TZID=Europe/Helsinki:20240316T180000
DTEND;TZID=Europe/Helsinki:20240316T180000
DTSTAMP:20260424T035454
CREATED:20240325T081130Z
LAST-MODIFIED:20251222T222551Z
UID:21073-1710612000-1710612000@info.mesip.pl
SUMMARY:Adam Woronowicz - Spotkanie Autorskie
DESCRIPTION:
URL:https://info.mesip.pl/event/adam-woronowicz-spotkanie-autorskie/
LOCATION:ul. Poznańska 10\, ul. Poznańska 10   \, Kleszczewo\, Poland
CATEGORIES:Kultura i sztuka
END:VEVENT
BEGIN:VEVENT
DTSTART;TZID=Europe/Helsinki:20240317T083000
DTEND;TZID=Europe/Helsinki:20240317T083000
DTSTAMP:20260424T035454
CREATED:20240325T115235Z
LAST-MODIFIED:20251222T222552Z
UID:22031-1710664200-1710664200@info.mesip.pl
SUMMARY:Charytatywny Turniej Piłki Nożnej
DESCRIPTION:Amatorski Charytatywny Turniej Piłki Nożnej
URL:https://info.mesip.pl/event/charytatywny-turniej-pilki-noznej/
LOCATION:ulica Leśna 6\, ulica Leśna 6   \, 62-004 Czerwonak\, Poland
CATEGORIES:Brak kategorii
END:VEVENT
BEGIN:VEVENT
DTSTART;TZID=Europe/Helsinki:20240317T170000
DTEND;TZID=Europe/Helsinki:20240317T170000
DTSTAMP:20260424T035454
CREATED:20240325T081101Z
LAST-MODIFIED:20251222T222517Z
UID:20984-1710694800-1710694800@info.mesip.pl
SUMMARY:Kabaret Chyba!
DESCRIPTION:
URL:https://info.mesip.pl/event/kabaret-chyba/
LOCATION:ul. Jana Heweliusza 26\, ul. Jana Heweliusza 26   \, Zalasewo\, Poland
CATEGORIES:Kultura i sztuka
END:VEVENT
BEGIN:VEVENT
DTSTART;TZID=Europe/Helsinki:20240317T170000
DTEND;TZID=Europe/Helsinki:20240317T170000
DTSTAMP:20260424T035454
CREATED:20240325T115235Z
LAST-MODIFIED:20251222T222552Z
UID:22034-1710694800-1710694800@info.mesip.pl
SUMMARY:Dni Muzyki Pasyjnej w Powiecie Poznańskim
DESCRIPTION:
URL:https://info.mesip.pl/event/dni-muzyki-pasyjnej-w-powiecie-poznanskim/
LOCATION:ul. Źródlana 4/21\, ul. Źródlana 4/21   \, Luboń\, Poland
CATEGORIES:Kultura i sztuka
END:VEVENT
BEGIN:VEVENT
DTSTART;TZID=Europe/Helsinki:20240317T173000
DTEND;TZID=Europe/Helsinki:20240317T173000
DTSTAMP:20260424T035454
CREATED:20240325T081120Z
LAST-MODIFIED:20251222T222525Z
UID:21025-1710696600-1710696600@info.mesip.pl
SUMMARY:Koncert Szmaragdowa Wyspa
DESCRIPTION:
URL:https://info.mesip.pl/event/koncert-szmaragdowa-wyspa/
LOCATION:Plac Parkowy 1\, Plac Parkowy 1   \, Skrzynki\, gm. Stęszew\, Poland
CATEGORIES:Kultura i sztuka
END:VEVENT
BEGIN:VEVENT
DTSTART;TZID=Europe/Helsinki:20240317T190000
DTEND;TZID=Europe/Helsinki:20240317T190000
DTSTAMP:20260424T035455
CREATED:20240325T115236Z
LAST-MODIFIED:20251222T222554Z
UID:22037-1710702000-1710702000@info.mesip.pl
SUMMARY:Występ kabaretowy Ewy Błachnio
DESCRIPTION:Występ kabaretowy Ewy Błachnio
URL:https://info.mesip.pl/event/wystep-kabaretowy-ewy-blachnio/
LOCATION:ul.  Piłsudskiego 3\, ul.  Piłsudskiego 3   \, Koziegłowy\, Poland
CATEGORIES:Rozrywka
END:VEVENT
BEGIN:VEVENT
DTSTART;TZID=Europe/Helsinki:20240320T000000
DTEND;TZID=Europe/Helsinki:20240324T000000
DTSTAMP:20260424T035455
CREATED:20240325T115308Z
LAST-MODIFIED:20251112T210118Z
UID:22106-1710892800-1711238400@info.mesip.pl
SUMMARY:5. memoriał Ryszarda Bonka
DESCRIPTION:5. Memoriał Ryszarda Bonka
URL:https://info.mesip.pl/event/5-memorial-ryszarda-bonka/
LOCATION:ul. Rokietnicka 21\, ul. Rokietnicka 21   \, Tarnowo Podgórne\, Poland
CATEGORIES:Sport
END:VEVENT
BEGIN:VEVENT
DTSTART;VALUE=DATE:20240322
DTEND;VALUE=DATE:20240325
DTSTAMP:20260424T035455
CREATED:20240325T115301Z
LAST-MODIFIED:20251112T210112Z
UID:22087-1711065600-1711324740@info.mesip.pl
SUMMARY:Euro Target Show
DESCRIPTION:
URL:https://info.mesip.pl/event/euro-target-show/
LOCATION:ul. Głogowska 14\, ul. Głogowska 14   \, Poznań\, Poland
CATEGORIES:Edukacja
END:VEVENT
BEGIN:VEVENT
DTSTART;TZID=Europe/Helsinki:20240322T170000
DTEND;TZID=Europe/Helsinki:20240322T190000
DTSTAMP:20260424T035455
CREATED:20240325T115238Z
LAST-MODIFIED:20251222T222555Z
UID:22040-1711126800-1711134000@info.mesip.pl
SUMMARY:Warsztaty Wielkanocne
DESCRIPTION:Warsztaty Wielkanocne
URL:https://info.mesip.pl/event/warsztaty-wielkanocne/
LOCATION:Ignacego Krasickiego 1\,  Ignacego Krasickiego 1   \, Kórnik\, Poland
CATEGORIES:Kultura i sztuka
END:VEVENT
BEGIN:VEVENT
DTSTART;TZID=Europe/Helsinki:20240323T160000
DTEND;TZID=Europe/Helsinki:20240323T160000
DTSTAMP:20260424T035455
CREATED:20240325T115309Z
LAST-MODIFIED:20251112T210122Z
UID:22109-1711209600-1711209600@info.mesip.pl
SUMMARY:Spektakl teatralno-muzyczny „Ich troje”
DESCRIPTION:
URL:https://info.mesip.pl/event/spektakl-teatralno-muzyczny-ich-troje/
LOCATION:ul. Ogrodowa 2\, ul. Ogrodowa 2   \, Jankowice\, Poland
CATEGORIES:Kultura i sztuka
END:VEVENT
BEGIN:VEVENT
DTSTART;TZID=Europe/Helsinki:20240323T170000
DTEND;TZID=Europe/Helsinki:20240323T170000
DTSTAMP:20260424T035455
CREATED:20240325T081101Z
LAST-MODIFIED:20251222T222518Z
UID:20981-1711213200-1711213200@info.mesip.pl
SUMMARY:Konarzewski Festiwal Muzyczny 2024
DESCRIPTION:
URL:https://info.mesip.pl/event/konarzewski-festiwal-muzyczny-2024/
LOCATION:ul. Poznańska 19\, ul. Poznańska 19   \, 62-070 Konarzewo\, Poland
CATEGORIES:Kultura i sztuka
END:VEVENT
BEGIN:VEVENT
DTSTART;TZID=Europe/Helsinki:20240323T183000
DTEND;TZID=Europe/Helsinki:20240323T183000
DTSTAMP:20260424T035455
CREATED:20240325T081124Z
LAST-MODIFIED:20251222T222537Z
UID:21046-1711218600-1711218600@info.mesip.pl
SUMMARY:Koncert wiosenny „FORSYCJE I JAZZ”
DESCRIPTION:
URL:https://info.mesip.pl/event/koncert-wiosenny-forsycje-i-jazz/
LOCATION:Plac Parkowy 1\, Plac Parkowy 1   \, Skrzynki\, gm. Stęszew\, Poland
CATEGORIES:Kultura i sztuka
END:VEVENT
BEGIN:VEVENT
DTSTART;TZID=Europe/Helsinki:20240324T100000
DTEND;TZID=Europe/Helsinki:20240324T100000
DTSTAMP:20260424T035455
CREATED:20240325T081104Z
LAST-MODIFIED:20251222T222519Z
UID:20988-1711274400-1711274400@info.mesip.pl
SUMMARY:Turniej Szachowy WIOSNA
DESCRIPTION:III Turniej Szachowy WIOSNA
URL:https://info.mesip.pl/event/turniej-szachowy-wiosna/
LOCATION:ul. Szkolna 16\, ul. Szkolna 16   \, Suchy Las\, Poland
CATEGORIES:Sport
END:VEVENT
BEGIN:VEVENT
DTSTART;TZID=Europe/Helsinki:20240324T180000
DTEND;TZID=Europe/Helsinki:20240324T180000
DTSTAMP:20260424T035455
CREATED:20240325T115310Z
LAST-MODIFIED:20251112T210122Z
UID:22112-1711303200-1711303200@info.mesip.pl
SUMMARY:Koncert Muzyki Filmowej
DESCRIPTION:Koncert Muzyki Filmowej
URL:https://info.mesip.pl/event/koncert-muzyki-filmowej/
LOCATION:ul. Św. Marcin 28\, ul. Św. Marcin 28   \, 62-020 Swarzędz\, Poland
CATEGORIES:Rozrywka
END:VEVENT
BEGIN:VEVENT
DTSTART;TZID=Europe/Helsinki:20240324T190000
DTEND;TZID=Europe/Helsinki:20240324T190000
DTSTAMP:20260424T035455
CREATED:20240325T115308Z
LAST-MODIFIED:20251112T210118Z
UID:22103-1711306800-1711306800@info.mesip.pl
SUMMARY:Koncert - Muzyczne TETE a TETE
DESCRIPTION:
URL:https://info.mesip.pl/event/koncert-muzyczne-tete-a-tete/
LOCATION:ul. Kostrzyńska 21\, ul. Kostrzyńska 21   \, Pobiedziska\, Poland
CATEGORIES:Kultura i sztuka
END:VEVENT
BEGIN:VEVENT
DTSTART;VALUE=DATE:20240325
DTEND;VALUE=DATE:20240326
DTSTAMP:20260424T035455
CREATED:20240325T115310Z
LAST-MODIFIED:20251112T210123Z
UID:22115-1711324800-1711411140@info.mesip.pl
SUMMARY:Biesiada poetycka
DESCRIPTION:
URL:https://info.mesip.pl/event/biesiada-poetycka/
LOCATION:os. Czwartaków 1\, os. Czwartaków 1   \, Swarzędz\, Poland
CATEGORIES:Kultura i sztuka
END:VEVENT
BEGIN:VEVENT
DTSTART;TZID=Europe/Helsinki:20240326T190000
DTEND;TZID=Europe/Helsinki:20240326T190000
DTSTAMP:20260424T035455
CREATED:20240325T115311Z
LAST-MODIFIED:20251112T210124Z
UID:22118-1711479600-1711479600@info.mesip.pl
SUMMARY:Koncert piosenek Marka Grechuty
DESCRIPTION:Ośrodek Kultury w Swarzędzu zaprasza na koncert – Piosenki Marka Grechuty w wykonaniu Zespołu ARETE. Koncert odbędzie się 26.04.2024 r. o godz. 19:00 w Sali Kameralnej Ośrodka Kultury (ul. Poznańska 14\, Swarzędz). Bilety w cenie 25 zł dostępne na portalu\nWśród wielu propozycji artystycznych ARETE od maja 2023 roku proponuje koncerty z piosenkami Marka Grechuty w autorskiej aranżacji. To wyjątkowy projekt gorąco przyjęty przez słuchaczy\, poświęcony twórczości jednego z najwybitniejszych polskich artystów XX wieku. Koncert autorski obejmuje największe przeboje Mistrza Piosenki Poetyckiej jak również mniej znane utwory\, by ukazać wszechstronność wybitnego kompozytora. Artyści zapraszają publiczność do wspólnego zaśpiewania takich przebojów jak „\, „\, „\, „ czy „Podczas koncertu można usłyszeć kilka utworów autorskich powstałych z inspiracji twórczością wspaniałego Krakowskiego Artysty. Piosenki przeplatane są interesującymi opowieściami\, wydarzeniami i anegdotami z życia Marka Grechuty.
URL:https://info.mesip.pl/event/koncert-piosenek-marka-grechuty/
LOCATION:ul. Poznańska 14\, ul. Poznańska 14   \, Swarzędz\, Poland
CATEGORIES:Kultura i sztuka
END:VEVENT
END:VCALENDAR