BEGIN:VCALENDAR
VERSION:2.0
PRODID:-//MeSIP - ECPv6.15.13//NONSGML v1.0//EN
CALSCALE:GREGORIAN
METHOD:PUBLISH
X-WR-CALNAME:MeSIP
X-ORIGINAL-URL:https://info.mesip.pl
X-WR-CALDESC:Wydarzenia dla MeSIP
REFRESH-INTERVAL;VALUE=DURATION:PT1H
X-Robots-Tag:noindex
X-PUBLISHED-TTL:PT1H
BEGIN:VTIMEZONE
TZID:Europe/Helsinki
BEGIN:DAYLIGHT
TZOFFSETFROM:+0200
TZOFFSETTO:+0300
TZNAME:EEST
DTSTART:20220327T010000
END:DAYLIGHT
BEGIN:STANDARD
TZOFFSETFROM:+0300
TZOFFSETTO:+0200
TZNAME:EET
DTSTART:20221030T010000
END:STANDARD
BEGIN:DAYLIGHT
TZOFFSETFROM:+0200
TZOFFSETTO:+0300
TZNAME:EEST
DTSTART:20230326T010000
END:DAYLIGHT
BEGIN:STANDARD
TZOFFSETFROM:+0300
TZOFFSETTO:+0200
TZNAME:EET
DTSTART:20231029T010000
END:STANDARD
BEGIN:DAYLIGHT
TZOFFSETFROM:+0200
TZOFFSETTO:+0300
TZNAME:EEST
DTSTART:20240331T010000
END:DAYLIGHT
BEGIN:STANDARD
TZOFFSETFROM:+0300
TZOFFSETTO:+0200
TZNAME:EET
DTSTART:20241027T010000
END:STANDARD
BEGIN:DAYLIGHT
TZOFFSETFROM:+0200
TZOFFSETTO:+0300
TZNAME:EEST
DTSTART:20250330T010000
END:DAYLIGHT
BEGIN:STANDARD
TZOFFSETFROM:+0300
TZOFFSETTO:+0200
TZNAME:EET
DTSTART:20251026T010000
END:STANDARD
END:VTIMEZONE
BEGIN:VEVENT
DTSTART;VALUE=DATE:20231028
DTEND;VALUE=DATE:20240101
DTSTAMP:20260424T084618
CREATED:20240112T072618Z
LAST-MODIFIED:20240502T050016Z
UID:19081-1698451200-1704067140@info.mesip.pl
SUMMARY:Rogalin - wystawa
DESCRIPTION:
URL:https://info.mesip.pl/event/rogalin-wystawa/
LOCATION:Plac Parkowy 1\, Plac Parkowy 1   \, Skrzynki\, gm. Stęszew\, Poland
CATEGORIES:Kultura i sztuka
END:VEVENT
BEGIN:VEVENT
DTSTART;TZID=Europe/Helsinki:20231107T101500
DTEND;TZID=Europe/Helsinki:20240430T101500
DTSTAMP:20260424T084618
CREATED:20240112T072618Z
LAST-MODIFIED:20251222T222304Z
UID:19084-1699352100-1714472100@info.mesip.pl
SUMMARY:Wystawa - Nigdy Wojny
DESCRIPTION:Muzeum Martyrologiczne w Żabikowie zaprasza na nową wystawę oraz wydarzenia towarzyszące
URL:https://info.mesip.pl/event/wystawa-nigdy-wojny/
LOCATION:ul. Niezłomnych 2\, ul. Niezłomnych 2   \, Luboń\, Poland
CATEGORIES:Społeczne
END:VEVENT
BEGIN:VEVENT
DTSTART;TZID=Europe/Helsinki:20231127T090000
DTEND;TZID=Europe/Helsinki:20240131T150000
DTSTAMP:20260424T084618
CREATED:20240112T141439Z
LAST-MODIFIED:20251222T222305Z
UID:19600-1701075600-1706713200@info.mesip.pl
SUMMARY:Wystawa z okazji 105 Rocznicy Wybuchu Powstania Wielkopolskiego
DESCRIPTION:Wystawa z okazji 105 Rocznicy Wybuchu Powstania Wielkopolskiego
URL:https://info.mesip.pl/event/wystawa-z-okazji-105-rocznicy-wybuchu-powstania-wielkopolskiego/
LOCATION:Ratusz w Bninie\, Ratusz w Bninie   \, Kórnik\, Poland
CATEGORIES:Kultura i sztuka
END:VEVENT
BEGIN:VEVENT
DTSTART;TZID=Europe/Helsinki:20231206T173000
DTEND;TZID=Europe/Helsinki:20240105T173000
DTSTAMP:20260424T084618
CREATED:20240112T141741Z
LAST-MODIFIED:20251222T222312Z
UID:19845-1701883800-1704475800@info.mesip.pl
SUMMARY:„Zanim czas zatrze ślady. Owińska” – wystawa
DESCRIPTION:„Zanim czas zatrze ślady. Owińska” – wystawa
URL:https://info.mesip.pl/event/zanim-czas-zatrze-slady-owinska-wystawa/
LOCATION:ul.  Piłsudskiego 3\, ul.  Piłsudskiego 3   \, Koziegłowy\, Poland
CATEGORIES:Kultura i sztuka
END:VEVENT
BEGIN:VEVENT
DTSTART;TZID=Europe/Helsinki:20231230T170000
DTEND;TZID=Europe/Helsinki:20231230T170000
DTSTAMP:20260424T084618
CREATED:20240112T141908Z
LAST-MODIFIED:20240502T050152Z
UID:19995-1703955600-1703955600@info.mesip.pl
SUMMARY:Koncert Słowików w Dworze Skrzynki
DESCRIPTION:
URL:https://info.mesip.pl/event/koncert-slowikow-w-dworze-skrzynki/
LOCATION:Plac Parkowy 1\, Plac Parkowy 1   \, Skrzynki\, gm. Stęszew\, Poland
CATEGORIES:Kultura i sztuka
END:VEVENT
BEGIN:VEVENT
DTSTART;TZID=Europe/Helsinki:20231230T190000
DTEND;TZID=Europe/Helsinki:20231230T190000
DTSTAMP:20260424T084618
CREATED:20240112T141937Z
LAST-MODIFIED:20240502T050158Z
UID:20019-1703962800-1703962800@info.mesip.pl
SUMMARY:Koncert Przedsylwestrowy
DESCRIPTION:
URL:https://info.mesip.pl/event/koncert-przedsylwestrowy/
LOCATION:Spokojna 3\, Spokojna 3   \, Jerzykowo\, Poland
CATEGORIES:Kultura i sztuka
END:VEVENT
BEGIN:VEVENT
DTSTART;TZID=Europe/Helsinki:20231231T000000
DTEND;TZID=Europe/Helsinki:20231231T000000
DTSTAMP:20260424T084618
CREATED:20240112T141624Z
LAST-MODIFIED:20240502T050117Z
UID:19785-1703980800-1703980800@info.mesip.pl
SUMMARY:Sylwester w Dworze Skrzynki
DESCRIPTION:
URL:https://info.mesip.pl/event/sylwester-w-dworze-skrzynki/
LOCATION:Plac Parkowy 1\, Plac Parkowy 1   \, Skrzynki\, gm. Stęszew\, Poland
CATEGORIES:Rozrywka
END:VEVENT
BEGIN:VEVENT
DTSTART;TZID=Europe/Helsinki:20231231T140000
DTEND;TZID=Europe/Helsinki:20231231T140000
DTSTAMP:20260424T084618
CREATED:20240112T141515Z
LAST-MODIFIED:20240502T050053Z
UID:19665-1704031200-1704031200@info.mesip.pl
SUMMARY:Pałacowy Koncert Sylwestrowy
DESCRIPTION:
URL:https://info.mesip.pl/event/palacowy-koncert-sylwestrowy/
LOCATION:ul. Ogrodowa 2\, ul. Ogrodowa 2   \, Jankowice\, Poland
CATEGORIES:Kultura i sztuka
END:VEVENT
BEGIN:VEVENT
DTSTART;TZID=Europe/Helsinki:20231231T230000
DTEND;TZID=Europe/Helsinki:20240101T010000
DTSTAMP:20260424T084618
CREATED:20240112T141951Z
LAST-MODIFIED:20251222T222331Z
UID:20037-1704063600-1704070800@info.mesip.pl
SUMMARY:Sylwestrowa noc z DJ Mosquito
DESCRIPTION:Sylwestrowa noc z DJ Mosquito
URL:https://info.mesip.pl/event/sylwestrowa-noc-z-dj-mosquito/
LOCATION:ul. Kościuszki\, ul. Kościuszki   \, Pobiedziska\, Poland
CATEGORIES:Rozrywka
END:VEVENT
BEGIN:VEVENT
DTSTART;TZID=Europe/Helsinki:20240105T180000
DTEND;TZID=Europe/Helsinki:20240105T180000
DTSTAMP:20260424T084618
CREATED:20240112T141824Z
LAST-MODIFIED:20251222T222316Z
UID:19954-1704477600-1704477600@info.mesip.pl
SUMMARY:Koncert Noworoczny w Komornikach
DESCRIPTION:
URL:https://info.mesip.pl/event/koncert-noworoczny-w-komornikach/
LOCATION:ul. Polna 37\, ul. Polna 37   \, Komorniki\, Poland
CATEGORIES:Kultura i sztuka
END:VEVENT
BEGIN:VEVENT
DTSTART;TZID=Europe/Helsinki:20240106T180000
DTEND;TZID=Europe/Helsinki:20240106T180000
DTSTAMP:20260424T084618
CREATED:20240112T141921Z
LAST-MODIFIED:20251222T222326Z
UID:19998-1704564000-1704564000@info.mesip.pl
SUMMARY:Skrzynki pełne serca
DESCRIPTION:
URL:https://info.mesip.pl/event/skrzynki-pelne-serca/
LOCATION:Plac Parkowy 1\, Plac Parkowy 1   \, Skrzynki\, gm. Stęszew\, Poland
CATEGORIES:Społeczne
END:VEVENT
BEGIN:VEVENT
DTSTART;TZID=Europe/Helsinki:20240106T190000
DTEND;TZID=Europe/Helsinki:20240106T190000
DTSTAMP:20260424T084618
CREATED:20240112T141952Z
LAST-MODIFIED:20251222T222332Z
UID:20040-1704567600-1704567600@info.mesip.pl
SUMMARY:Kolędujmy Małemu
DESCRIPTION:Kolędujmy Małemu
URL:https://info.mesip.pl/event/koledujmy-malemu/
LOCATION:plac Powstańców Wielkopolskich 21\, plac Powstańców Wielkopolskich 21   \, Murowana Goślina\, Poland
CATEGORIES:Kultura i sztuka
END:VEVENT
BEGIN:VEVENT
DTSTART;TZID=Europe/Helsinki:20240109T180000
DTEND;TZID=Europe/Helsinki:20240109T180000
DTSTAMP:20260424T084618
CREATED:20240112T141708Z
LAST-MODIFIED:20251222T222310Z
UID:19820-1704823200-1704823200@info.mesip.pl
SUMMARY:Jeszcze zanim święta - koncert
DESCRIPTION:Koncert “Jeszcze zanim święta” – Andrzej Piaseczny / Kacper Dworniczak
URL:https://info.mesip.pl/event/jeszcze-zanim-swieta-koncert/
LOCATION:ul. Poznańska 22A\, ul. Poznańska 22A   \, Stęszew\, Poland
CATEGORIES:Kultura i sztuka
END:VEVENT
BEGIN:VEVENT
DTSTART;TZID=Europe/Helsinki:20240112T180000
DTEND;TZID=Europe/Helsinki:20240112T180000
DTSTAMP:20260424T084618
CREATED:20240112T141953Z
LAST-MODIFIED:20251222T222333Z
UID:20043-1705082400-1705082400@info.mesip.pl
SUMMARY:Koncert Jazzowy
DESCRIPTION:
URL:https://info.mesip.pl/event/koncert-jazzowy/
LOCATION:ul. Podgórna 21\, ul. Podgórna 21   \, Puszczykowo\, Poland
CATEGORIES:Kultura i sztuka
END:VEVENT
BEGIN:VEVENT
DTSTART;TZID=Europe/Helsinki:20240112T180000
DTEND;TZID=Europe/Helsinki:20240126T180000
DTSTAMP:20260424T084618
CREATED:20240112T141838Z
LAST-MODIFIED:20251222T222317Z
UID:19957-1705082400-1706292000@info.mesip.pl
SUMMARY:Wystawa malarstwa Tomasza Bukowskiego
DESCRIPTION:
URL:https://info.mesip.pl/event/wystawa-malarstwa-tomasza-bukowskiego/
LOCATION:ul. Szkolna 16\, ul. Szkolna 16   \, Suchy Las\, Poland
CATEGORIES:Kultura i sztuka
END:VEVENT
BEGIN:VEVENT
DTSTART;TZID=Europe/Helsinki:20240112T190000
DTEND;TZID=Europe/Helsinki:20240112T190000
DTSTAMP:20260424T084618
CREATED:20240112T141955Z
LAST-MODIFIED:20251222T222341Z
UID:20057-1705086000-1705086000@info.mesip.pl
SUMMARY:Koncert Kolęd
DESCRIPTION:Koncert Kolęd. Kiciński Chór Kameralny
URL:https://info.mesip.pl/event/koncert-koled/
LOCATION:ul.  Piłsudskiego 3\, ul.  Piłsudskiego 3   \, Koziegłowy\, Poland
CATEGORIES:Kultura i sztuka
END:VEVENT
BEGIN:VEVENT
DTSTART;TZID=Europe/Helsinki:20240113T170000
DTEND;TZID=Europe/Helsinki:20240113T170000
DTSTAMP:20260424T084618
CREATED:20240112T141954Z
LAST-MODIFIED:20251222T222339Z
UID:20051-1705165200-1705165200@info.mesip.pl
SUMMARY:Wystawa fotografii Krzysztofa Fabiańskiego
DESCRIPTION:
URL:https://info.mesip.pl/event/wystawa-fotografii-krzysztofa-fabianskiego/
LOCATION:Plac Parkowy 1\, Plac Parkowy 1   \, Skrzynki\, gm. Stęszew\, Poland
CATEGORIES:Kultura i sztuka
END:VEVENT
BEGIN:VEVENT
DTSTART;TZID=Europe/Helsinki:20240113T183000
DTEND;TZID=Europe/Helsinki:20240113T183000
DTSTAMP:20260424T084618
CREATED:20240112T141922Z
LAST-MODIFIED:20251222T222330Z
UID:20001-1705170600-1705170600@info.mesip.pl
SUMMARY:Wieczór Tanga
DESCRIPTION:
URL:https://info.mesip.pl/event/wieczor-tanga/
LOCATION:Plac Parkowy 1\, Plac Parkowy 1   \, Skrzynki\, gm. Stęszew\, Poland
CATEGORIES:Kultura i sztuka
END:VEVENT
BEGIN:VEVENT
DTSTART;TZID=Europe/Helsinki:20240113T201500
DTEND;TZID=Europe/Helsinki:20240113T201500
DTSTAMP:20260424T084618
CREATED:20240206T112551Z
LAST-MODIFIED:20251222T222342Z
UID:20282-1705176900-1705176900@info.mesip.pl
SUMMARY:Koncert świąteczny
DESCRIPTION:Koncert świąteczny zespołu PECTUS
URL:https://info.mesip.pl/event/koncert-swiateczny-2/
LOCATION:os. Mielżyńskiego 1a\, os. Mielżyńskiego 1a   \, Swarzędz\, Poland
CATEGORIES:Kultura i sztuka
END:VEVENT
BEGIN:VEVENT
DTSTART;TZID=Europe/Helsinki:20240114T120000
DTEND;TZID=Europe/Helsinki:20240114T120000
DTSTAMP:20260424T084618
CREATED:20240112T141954Z
LAST-MODIFIED:20251222T222339Z
UID:20054-1705233600-1705233600@info.mesip.pl
SUMMARY:Jasełka "Dnia jednego o północy"
DESCRIPTION:
URL:https://info.mesip.pl/event/jaselka-dnia-jednego-o-polnocy/
LOCATION:ul. Złotnicka\, ul. Złotnicka   \, Jelonek\, gmina Suchy Las\, Poland
CATEGORIES:Kultura i sztuka
END:VEVENT
BEGIN:VEVENT
DTSTART;TZID=Europe/Helsinki:20240114T160000
DTEND;TZID=Europe/Helsinki:20240114T160000
DTSTAMP:20260424T084618
CREATED:20240112T141953Z
LAST-MODIFIED:20251222T222334Z
UID:20048-1705248000-1705248000@info.mesip.pl
SUMMARY:Powiatowe Kolędowanie
DESCRIPTION:
URL:https://info.mesip.pl/event/powiatowe-koledowanie/
LOCATION:Mury 30\, Mury 30   \, Buk\, Poland
CATEGORIES:Uroczystości
END:VEVENT
BEGIN:VEVENT
DTSTART;TZID=Europe/Helsinki:20240115T054000
DTEND;TZID=Europe/Helsinki:20240115T090000
DTSTAMP:20260424T084618
CREATED:20240206T112551Z
LAST-MODIFIED:20251222T222341Z
UID:20279-1705297200-1705309200@info.mesip.pl
SUMMARY:Kawa w Blue Monday
DESCRIPTION:
URL:https://info.mesip.pl/event/kawa-w-blue-monday/
LOCATION:ul. Źródlana 39\, ul. Źródlana 39   \, Czerwonak\, Poland
CATEGORIES:Społeczne
END:VEVENT
BEGIN:VEVENT
DTSTART;TZID=Europe/Helsinki:20240119T190000
DTEND;TZID=Europe/Helsinki:20240119T190000
DTSTAMP:20260424T084618
CREATED:20240112T141838Z
LAST-MODIFIED:20251222T222319Z
UID:19961-1705690800-1705690800@info.mesip.pl
SUMMARY:Koncert Zwycięzców The Voice Senior
DESCRIPTION:Koncert Zwycięzców The Voice Senior!
URL:https://info.mesip.pl/event/koncert-zwyciezcow-the-voice-senior/
LOCATION:ul. Kostrzyńska 21\, ul. Kostrzyńska 21   \, Pobiedziska\, Poland
CATEGORIES:Kultura i sztuka
END:VEVENT
BEGIN:VEVENT
DTSTART;TZID=Europe/Helsinki:20240120T150000
DTEND;TZID=Europe/Helsinki:20240120T150000
DTSTAMP:20260424T084618
CREATED:20240112T141434Z
LAST-MODIFIED:20251222T222306Z
UID:19567-1705762800-1705762800@info.mesip.pl
SUMMARY:Luboń CUP
DESCRIPTION:
URL:https://info.mesip.pl/event/lubon-cup/
LOCATION:Hugona Kołłątaja 2\, Hugona Kołłątaja 2   \, Luboń\, Poland
CATEGORIES:Sport
END:VEVENT
BEGIN:VEVENT
DTSTART;TZID=Europe/Helsinki:20240120T183000
DTEND;TZID=Europe/Helsinki:20240120T183000
DTSTAMP:20260424T084618
CREATED:20240206T112552Z
LAST-MODIFIED:20251222T222347Z
UID:20285-1705775400-1705775400@info.mesip.pl
SUMMARY:Oratorium pastoralne
DESCRIPTION:
URL:https://info.mesip.pl/event/oratorium-pastoralne/
LOCATION:Plac Parkowy 1\, Plac Parkowy 1   \, Skrzynki\, gm. Stęszew\, Poland
CATEGORIES:Kultura i sztuka
END:VEVENT
BEGIN:VEVENT
DTSTART;TZID=Europe/Helsinki:20240120T190000
DTEND;TZID=Europe/Helsinki:20240120T190000
DTSTAMP:20260424T084618
CREATED:20240112T141747Z
LAST-MODIFIED:20251222T222312Z
UID:19878-1705777200-1705777200@info.mesip.pl
SUMMARY:Koncert Noworoczny Gminy Mosina
DESCRIPTION:
URL:https://info.mesip.pl/event/koncert-noworoczny-gminy-mosina/
LOCATION:Hala widowiskowa w Mosinie\, Hala widowiskowa w Mosinie   \, Mosina\, Poland
CATEGORIES:Kultura i sztuka
END:VEVENT
BEGIN:VEVENT
DTSTART;TZID=Europe/Helsinki:20240120T190000
DTEND;TZID=Europe/Helsinki:20240120T190000
DTSTAMP:20260424T084618
CREATED:20240112T141839Z
LAST-MODIFIED:20251222T222320Z
UID:19964-1705777200-1705777200@info.mesip.pl
SUMMARY:Andrzej Piaseczny w Suchym Lesie
DESCRIPTION:
URL:https://info.mesip.pl/event/andrzej-piaseczny-w-suchym-lesie/
LOCATION:ul. Szkolna 16\, ul. Szkolna 16   \, Suchy Las\, Poland
CATEGORIES:Kultura i sztuka
END:VEVENT
BEGIN:VEVENT
DTSTART;TZID=Europe/Helsinki:20240120T190000
DTEND;TZID=Europe/Helsinki:20240120T190000
DTSTAMP:20260424T084618
CREATED:20240206T112557Z
LAST-MODIFIED:20251222T222406Z
UID:20309-1705777200-1705777200@info.mesip.pl
SUMMARY:Recital fortepianowy
DESCRIPTION:
URL:https://info.mesip.pl/event/recital-fortepianowy/
LOCATION:Spokojna 3\, Spokojna 3   \, Jerzykowo\, Poland
CATEGORIES:Kultura i sztuka
END:VEVENT
BEGIN:VEVENT
DTSTART;TZID=Europe/Helsinki:20240121T150000
DTEND;TZID=Europe/Helsinki:20240121T150000
DTSTAMP:20260424T084618
CREATED:20240206T112552Z
LAST-MODIFIED:20251222T222349Z
UID:20288-1705849200-1705849200@info.mesip.pl
SUMMARY:Jasełka 2024
DESCRIPTION:Jasełka 2024
URL:https://info.mesip.pl/event/jaselka-2024/
LOCATION:ul.  Piłsudskiego 3\, ul.  Piłsudskiego 3   \, Koziegłowy\, Poland
CATEGORIES:Kultura i sztuka
END:VEVENT
BEGIN:VEVENT
DTSTART;TZID=Europe/Helsinki:20240127T110000
DTEND;TZID=Europe/Helsinki:20240127T110000
DTSTAMP:20260424T084618
CREATED:20240206T112557Z
LAST-MODIFIED:20251222T222411Z
UID:20315-1706353200-1706353200@info.mesip.pl
SUMMARY:WOŚP w Pobiedziskach
DESCRIPTION:
URL:https://info.mesip.pl/event/wosp-w-pobiedziskach/
LOCATION:ul. Dworcowa 2A\, ul. Dworcowa 2A   \, Pobiedziska\, Poland
CATEGORIES:Społeczne
END:VEVENT
END:VCALENDAR