BEGIN:VCALENDAR
VERSION:2.0
PRODID:-//MeSIP - ECPv6.15.13//NONSGML v1.0//EN
CALSCALE:GREGORIAN
METHOD:PUBLISH
X-WR-CALNAME:MeSIP
X-ORIGINAL-URL:https://info.mesip.pl
X-WR-CALDESC:Wydarzenia dla MeSIP
REFRESH-INTERVAL;VALUE=DURATION:PT1H
X-Robots-Tag:noindex
X-PUBLISHED-TTL:PT1H
BEGIN:VTIMEZONE
TZID:Europe/Helsinki
BEGIN:DAYLIGHT
TZOFFSETFROM:+0200
TZOFFSETTO:+0300
TZNAME:EEST
DTSTART:20220327T010000
END:DAYLIGHT
BEGIN:STANDARD
TZOFFSETFROM:+0300
TZOFFSETTO:+0200
TZNAME:EET
DTSTART:20221030T010000
END:STANDARD
BEGIN:DAYLIGHT
TZOFFSETFROM:+0200
TZOFFSETTO:+0300
TZNAME:EEST
DTSTART:20230326T010000
END:DAYLIGHT
BEGIN:STANDARD
TZOFFSETFROM:+0300
TZOFFSETTO:+0200
TZNAME:EET
DTSTART:20231029T010000
END:STANDARD
BEGIN:DAYLIGHT
TZOFFSETFROM:+0200
TZOFFSETTO:+0300
TZNAME:EEST
DTSTART:20240331T010000
END:DAYLIGHT
BEGIN:STANDARD
TZOFFSETFROM:+0300
TZOFFSETTO:+0200
TZNAME:EET
DTSTART:20241027T010000
END:STANDARD
BEGIN:DAYLIGHT
TZOFFSETFROM:+0200
TZOFFSETTO:+0300
TZNAME:EEST
DTSTART:20250330T010000
END:DAYLIGHT
BEGIN:STANDARD
TZOFFSETFROM:+0300
TZOFFSETTO:+0200
TZNAME:EET
DTSTART:20251026T010000
END:STANDARD
END:VTIMEZONE
BEGIN:VEVENT
DTSTART;VALUE=DATE:20231028
DTEND;VALUE=DATE:20240101
DTSTAMP:20260424T084618
CREATED:20240112T072618Z
LAST-MODIFIED:20240502T050016Z
UID:19081-1698451200-1704067140@info.mesip.pl
SUMMARY:Rogalin - wystawa
DESCRIPTION:
URL:https://info.mesip.pl/event/rogalin-wystawa/
LOCATION:Plac Parkowy 1\, Plac Parkowy 1   \, Skrzynki\, gm. Stęszew\, Poland
CATEGORIES:Kultura i sztuka
END:VEVENT
BEGIN:VEVENT
DTSTART;TZID=Europe/Helsinki:20231107T101500
DTEND;TZID=Europe/Helsinki:20240430T101500
DTSTAMP:20260424T084618
CREATED:20240112T072618Z
LAST-MODIFIED:20251222T222304Z
UID:19084-1699352100-1714472100@info.mesip.pl
SUMMARY:Wystawa - Nigdy Wojny
DESCRIPTION:Muzeum Martyrologiczne w Żabikowie zaprasza na nową wystawę oraz wydarzenia towarzyszące
URL:https://info.mesip.pl/event/wystawa-nigdy-wojny/
LOCATION:ul. Niezłomnych 2\, ul. Niezłomnych 2   \, Luboń\, Poland
CATEGORIES:Społeczne
END:VEVENT
BEGIN:VEVENT
DTSTART;VALUE=DATE:20231118
DTEND;VALUE=DATE:20231223
DTSTAMP:20260424T084618
CREATED:20240112T072646Z
LAST-MODIFIED:20240502T050020Z
UID:19103-1700265600-1703289540@info.mesip.pl
SUMMARY:Jarmark Świąteczny
DESCRIPTION:
URL:https://info.mesip.pl/event/jarmark-swiateczny/
LOCATION:ul. Głogowska 14\, ul. Głogowska 14   \, Poznań\, Poland
CATEGORIES:Rozrywka
END:VEVENT
BEGIN:VEVENT
DTSTART;TZID=Europe/Helsinki:20231127T090000
DTEND;TZID=Europe/Helsinki:20240131T150000
DTSTAMP:20260424T084618
CREATED:20240112T141439Z
LAST-MODIFIED:20251222T222305Z
UID:19600-1701075600-1706713200@info.mesip.pl
SUMMARY:Wystawa z okazji 105 Rocznicy Wybuchu Powstania Wielkopolskiego
DESCRIPTION:Wystawa z okazji 105 Rocznicy Wybuchu Powstania Wielkopolskiego
URL:https://info.mesip.pl/event/wystawa-z-okazji-105-rocznicy-wybuchu-powstania-wielkopolskiego/
LOCATION:Ratusz w Bninie\, Ratusz w Bninie   \, Kórnik\, Poland
CATEGORIES:Kultura i sztuka
END:VEVENT
BEGIN:VEVENT
DTSTART;TZID=Europe/Helsinki:20231206T173000
DTEND;TZID=Europe/Helsinki:20240105T173000
DTSTAMP:20260424T084618
CREATED:20240112T141741Z
LAST-MODIFIED:20251222T222312Z
UID:19845-1701883800-1704475800@info.mesip.pl
SUMMARY:„Zanim czas zatrze ślady. Owińska” – wystawa
DESCRIPTION:„Zanim czas zatrze ślady. Owińska” – wystawa
URL:https://info.mesip.pl/event/zanim-czas-zatrze-slady-owinska-wystawa/
LOCATION:ul.  Piłsudskiego 3\, ul.  Piłsudskiego 3   \, Koziegłowy\, Poland
CATEGORIES:Kultura i sztuka
END:VEVENT
BEGIN:VEVENT
DTSTART;TZID=Europe/Helsinki:20231226T171400
DTEND;TZID=Europe/Helsinki:20231226T171400
DTSTAMP:20260424T084618
CREATED:20240112T141937Z
LAST-MODIFIED:20240502T050158Z
UID:20022-1703610840-1703610840@info.mesip.pl
SUMMARY:Paderewski w Swarzędzu
DESCRIPTION:Przyjazd Ignacego Paderewskiego do Swarzędza – inscenizacja
URL:https://info.mesip.pl/event/paderewski-w-swarzedzu/
LOCATION:ul. Dworcowa\, ul. Dworcowa   \, 62-020 Swarzędz\, Poland
CATEGORIES:Kultura i sztuka
END:VEVENT
BEGIN:VEVENT
DTSTART;TZID=Europe/Helsinki:20231227T000000
DTEND;TZID=Europe/Helsinki:20231227T000000
DTSTAMP:20260424T084618
CREATED:20240112T141908Z
LAST-MODIFIED:20251222T222321Z
UID:19992-1703635200-1703635200@info.mesip.pl
SUMMARY:Obchody wybuchu Powstania Wielkopolskiego w Swarzędzu
DESCRIPTION:
URL:https://info.mesip.pl/event/obchody-wybuchu-powstania-wielkopolskiego-w-swarzedzu/
LOCATION:   \, Poland
CATEGORIES:Uroczystości
END:VEVENT
BEGIN:VEVENT
DTSTART;TZID=Europe/Helsinki:20231227T083000
DTEND;TZID=Europe/Helsinki:20231227T083000
DTSTAMP:20260424T084618
CREATED:20240112T141922Z
LAST-MODIFIED:20240502T050155Z
UID:20004-1703665800-1703665800@info.mesip.pl
SUMMARY:Obchody Powstania Wielkopolskiego w Puszczykowie
DESCRIPTION:
URL:https://info.mesip.pl/event/obchody-powstania-wielkopolskiego-w-puszczykowie/
LOCATION:ul. Jana Kasprowicza 1\, ul. Jana Kasprowicza 1   \, Puszczykowo\, Poland
CATEGORIES:Uroczystości
END:VEVENT
BEGIN:VEVENT
DTSTART;TZID=Europe/Helsinki:20231227T100000
DTEND;TZID=Europe/Helsinki:20231227T100000
DTSTAMP:20260424T084618
CREATED:20240112T141937Z
LAST-MODIFIED:20240502T050158Z
UID:20025-1703671200-1703671200@info.mesip.pl
SUMMARY:Obchody Powstania Wielkopolskiego w Dopiewie
DESCRIPTION:
URL:https://info.mesip.pl/event/obchody-powstania-wielkopolskiego-w-dopiewie/
LOCATION:ul. Leśna 1c\,\, ul. Leśna 1c\,   \, Dopiewo\, Poland
CATEGORIES:Uroczystości
END:VEVENT
BEGIN:VEVENT
DTSTART;TZID=Europe/Helsinki:20231227T140000
DTEND;TZID=Europe/Helsinki:20231227T140000
DTSTAMP:20260424T084618
CREATED:20240112T141823Z
LAST-MODIFIED:20240502T050142Z
UID:19945-1703685600-1703685600@info.mesip.pl
SUMMARY:Obchody Powstania Wielkopolskiego w Komornikach
DESCRIPTION:
URL:https://info.mesip.pl/event/obchody-powstania-wielkopolskiego-w-komornikach/
LOCATION:Kościelna 37\, Kościelna 37   \, Komorniki\, Poland
CATEGORIES:Uroczystości
END:VEVENT
BEGIN:VEVENT
DTSTART;TZID=Europe/Helsinki:20231227T154500
DTEND;TZID=Europe/Helsinki:20231227T154500
DTSTAMP:20260424T084618
CREATED:20240112T141824Z
LAST-MODIFIED:20240502T050142Z
UID:19948-1703691900-1703691900@info.mesip.pl
SUMMARY:Powstanie Wielkopolskie w Murowanej Goślinie
DESCRIPTION:Narodowy Dzień Zwycięskiego Powstania Wielkopolskiego
URL:https://info.mesip.pl/event/powstanie-wielkopolskie-w-murowanej-goslinie/
LOCATION:Pl. Powstańców Wielkopolskich\, Pl. Powstańców Wielkopolskich   \, Murowana Goślina\, Poland
CATEGORIES:Uroczystości
END:VEVENT
BEGIN:VEVENT
DTSTART;TZID=Europe/Helsinki:20231227T170000
DTEND;TZID=Europe/Helsinki:20231227T170000
DTSTAMP:20260424T084618
CREATED:20240112T141922Z
LAST-MODIFIED:20240502T050155Z
UID:20007-1703696400-1703696400@info.mesip.pl
SUMMARY:Obchody Powstania Wielkopolskiego w Buku
DESCRIPTION:
URL:https://info.mesip.pl/event/obchody-powstania-wielkopolskiego-w-buku/
LOCATION:ul. Bohaterów Bukowskich 20\, ul. Bohaterów Bukowskich 20   \, Buk\, Poland
CATEGORIES:Uroczystości
END:VEVENT
BEGIN:VEVENT
DTSTART;TZID=Europe/Helsinki:20231227T170000
DTEND;TZID=Europe/Helsinki:20231227T170000
DTSTAMP:20260424T084618
CREATED:20240112T141950Z
LAST-MODIFIED:20240502T050158Z
UID:20028-1703696400-1703696400@info.mesip.pl
SUMMARY:Obchody Powstania Wielkopolskiego w Pobiedziskach
DESCRIPTION:
URL:https://info.mesip.pl/event/obchody-powstania-wielkopolskiego-w-pobiedziskach/
LOCATION:ul. Kościuszki\, ul. Kościuszki   \, Pobiedziska\, Poland
CATEGORIES:Uroczystości
END:VEVENT
BEGIN:VEVENT
DTSTART;TZID=Europe/Helsinki:20231227T173000
DTEND;TZID=Europe/Helsinki:20231227T173000
DTSTAMP:20260424T084618
CREATED:20240112T141653Z
LAST-MODIFIED:20240502T050124Z
UID:19807-1703698200-1703698200@info.mesip.pl
SUMMARY:Obchody Powstania Wielkopolskiego
DESCRIPTION:
URL:https://info.mesip.pl/event/obchody-powstania-wielkopolskiego/
LOCATION:ul.  Piłsudskiego 3\, ul.  Piłsudskiego 3   \, Koziegłowy\, Poland
CATEGORIES:Kultura i sztuka
END:VEVENT
BEGIN:VEVENT
DTSTART;TZID=Europe/Helsinki:20231227T173000
DTEND;TZID=Europe/Helsinki:20231227T173000
DTSTAMP:20260424T084618
CREATED:20240112T141923Z
LAST-MODIFIED:20240502T050157Z
UID:20010-1703698200-1703698200@info.mesip.pl
SUMMARY:Obchody Powstania Wielkopolskiego w Luboniu
DESCRIPTION:
URL:https://info.mesip.pl/event/obchody-powstania-wielkopolskiego-w-luboniu/
LOCATION:Plac Powstańców Wielkopolskich\, Plac Powstańców Wielkopolskich    \, Luboń\, Poland
CATEGORIES:Uroczystości
END:VEVENT
BEGIN:VEVENT
DTSTART;TZID=Europe/Helsinki:20231227T173000
DTEND;TZID=Europe/Helsinki:20231227T173000
DTSTAMP:20260424T084618
CREATED:20240112T141951Z
LAST-MODIFIED:20251222T222331Z
UID:20031-1703698200-1703698200@info.mesip.pl
SUMMARY:Obchody Powstania Wielkopolskiego w Mosinie
DESCRIPTION:
URL:https://info.mesip.pl/event/obchody-powstania-wielkopolskiego-w-mosinie/
LOCATION:   \, Poland
CATEGORIES:Uroczystości
END:VEVENT
BEGIN:VEVENT
DTSTART;TZID=Europe/Helsinki:20231227T180000
DTEND;TZID=Europe/Helsinki:20231227T180000
DTSTAMP:20260424T084618
CREATED:20240112T141936Z
LAST-MODIFIED:20240502T050157Z
UID:20013-1703700000-1703700000@info.mesip.pl
SUMMARY:Obchody Powstania Wielkopolskiego w Suchym Lesie
DESCRIPTION:
URL:https://info.mesip.pl/event/obchody-powstania-wielkopolskiego-w-suchym-lesie/
LOCATION:ul. Poziomkowa\, ul. Poziomkowa   \, Suchy Las\, Poland
CATEGORIES:Uroczystości
END:VEVENT
BEGIN:VEVENT
DTSTART;TZID=Europe/Helsinki:20231227T180000
DTEND;TZID=Europe/Helsinki:20231227T180000
DTSTAMP:20260424T084618
CREATED:20240112T141951Z
LAST-MODIFIED:20240502T050159Z
UID:20034-1703700000-1703700000@info.mesip.pl
SUMMARY:Obchody Powstania Wielkopolskiego w Stęszewie
DESCRIPTION:
URL:https://info.mesip.pl/event/obchody-powstania-wielkopolskiego-w-steszewie/
LOCATION:Rynek\, Rynek   \, Stęszew\, Poland
CATEGORIES:Uroczystości
END:VEVENT
BEGIN:VEVENT
DTSTART;TZID=Europe/Helsinki:20231227T181500
DTEND;TZID=Europe/Helsinki:20231227T181500
DTSTAMP:20260424T084618
CREATED:20240112T141936Z
LAST-MODIFIED:20240502T050157Z
UID:20016-1703700900-1703700900@info.mesip.pl
SUMMARY:Patriotyczne śpiewanie w Czerlejnie
DESCRIPTION:
URL:https://info.mesip.pl/event/patriotyczne-spiewanie-w-czerlejnie/
LOCATION:ul. Szkolna 5\, ul. Szkolna 5   \, Czerlejno\, gmina Kostrzyn Wlkp\, Poland
CATEGORIES:Uroczystości
END:VEVENT
BEGIN:VEVENT
DTSTART;TZID=Europe/Helsinki:20231227T190500
DTEND;TZID=Europe/Helsinki:20231227T190500
DTSTAMP:20260424T084618
CREATED:20240112T141747Z
LAST-MODIFIED:20240502T050134Z
UID:19875-1703703900-1703703900@info.mesip.pl
SUMMARY:Koncert z okazji Powstania Wielkopolskiego
DESCRIPTION:“Dziękujemy\, że mamy jutro” koncert z okazji Powstania Wielkopolskiego
URL:https://info.mesip.pl/event/koncert-z-okazji-powstania-wielkopolskiego/
LOCATION:ul.  Piłsudskiego 3\, ul.  Piłsudskiego 3   \, Koziegłowy\, Poland
CATEGORIES:Społeczne
END:VEVENT
BEGIN:VEVENT
DTSTART;TZID=Europe/Helsinki:20231230T170000
DTEND;TZID=Europe/Helsinki:20231230T170000
DTSTAMP:20260424T084618
CREATED:20240112T141908Z
LAST-MODIFIED:20240502T050152Z
UID:19995-1703955600-1703955600@info.mesip.pl
SUMMARY:Koncert Słowików w Dworze Skrzynki
DESCRIPTION:
URL:https://info.mesip.pl/event/koncert-slowikow-w-dworze-skrzynki/
LOCATION:Plac Parkowy 1\, Plac Parkowy 1   \, Skrzynki\, gm. Stęszew\, Poland
CATEGORIES:Kultura i sztuka
END:VEVENT
BEGIN:VEVENT
DTSTART;TZID=Europe/Helsinki:20231230T190000
DTEND;TZID=Europe/Helsinki:20231230T190000
DTSTAMP:20260424T084618
CREATED:20240112T141937Z
LAST-MODIFIED:20240502T050158Z
UID:20019-1703962800-1703962800@info.mesip.pl
SUMMARY:Koncert Przedsylwestrowy
DESCRIPTION:
URL:https://info.mesip.pl/event/koncert-przedsylwestrowy/
LOCATION:Spokojna 3\, Spokojna 3   \, Jerzykowo\, Poland
CATEGORIES:Kultura i sztuka
END:VEVENT
BEGIN:VEVENT
DTSTART;TZID=Europe/Helsinki:20231231T000000
DTEND;TZID=Europe/Helsinki:20231231T000000
DTSTAMP:20260424T084618
CREATED:20240112T141624Z
LAST-MODIFIED:20240502T050117Z
UID:19785-1703980800-1703980800@info.mesip.pl
SUMMARY:Sylwester w Dworze Skrzynki
DESCRIPTION:
URL:https://info.mesip.pl/event/sylwester-w-dworze-skrzynki/
LOCATION:Plac Parkowy 1\, Plac Parkowy 1   \, Skrzynki\, gm. Stęszew\, Poland
CATEGORIES:Rozrywka
END:VEVENT
BEGIN:VEVENT
DTSTART;TZID=Europe/Helsinki:20231231T140000
DTEND;TZID=Europe/Helsinki:20231231T140000
DTSTAMP:20260424T084618
CREATED:20240112T141515Z
LAST-MODIFIED:20240502T050053Z
UID:19665-1704031200-1704031200@info.mesip.pl
SUMMARY:Pałacowy Koncert Sylwestrowy
DESCRIPTION:
URL:https://info.mesip.pl/event/palacowy-koncert-sylwestrowy/
LOCATION:ul. Ogrodowa 2\, ul. Ogrodowa 2   \, Jankowice\, Poland
CATEGORIES:Kultura i sztuka
END:VEVENT
BEGIN:VEVENT
DTSTART;TZID=Europe/Helsinki:20231231T230000
DTEND;TZID=Europe/Helsinki:20240101T010000
DTSTAMP:20260424T084618
CREATED:20240112T141951Z
LAST-MODIFIED:20251222T222331Z
UID:20037-1704063600-1704070800@info.mesip.pl
SUMMARY:Sylwestrowa noc z DJ Mosquito
DESCRIPTION:Sylwestrowa noc z DJ Mosquito
URL:https://info.mesip.pl/event/sylwestrowa-noc-z-dj-mosquito/
LOCATION:ul. Kościuszki\, ul. Kościuszki   \, Pobiedziska\, Poland
CATEGORIES:Rozrywka
END:VEVENT
BEGIN:VEVENT
DTSTART;TZID=Europe/Helsinki:20240105T180000
DTEND;TZID=Europe/Helsinki:20240105T180000
DTSTAMP:20260424T084618
CREATED:20240112T141824Z
LAST-MODIFIED:20251222T222316Z
UID:19954-1704477600-1704477600@info.mesip.pl
SUMMARY:Koncert Noworoczny w Komornikach
DESCRIPTION:
URL:https://info.mesip.pl/event/koncert-noworoczny-w-komornikach/
LOCATION:ul. Polna 37\, ul. Polna 37   \, Komorniki\, Poland
CATEGORIES:Kultura i sztuka
END:VEVENT
BEGIN:VEVENT
DTSTART;TZID=Europe/Helsinki:20240106T180000
DTEND;TZID=Europe/Helsinki:20240106T180000
DTSTAMP:20260424T084618
CREATED:20240112T141921Z
LAST-MODIFIED:20251222T222326Z
UID:19998-1704564000-1704564000@info.mesip.pl
SUMMARY:Skrzynki pełne serca
DESCRIPTION:
URL:https://info.mesip.pl/event/skrzynki-pelne-serca/
LOCATION:Plac Parkowy 1\, Plac Parkowy 1   \, Skrzynki\, gm. Stęszew\, Poland
CATEGORIES:Społeczne
END:VEVENT
BEGIN:VEVENT
DTSTART;TZID=Europe/Helsinki:20240106T190000
DTEND;TZID=Europe/Helsinki:20240106T190000
DTSTAMP:20260424T084618
CREATED:20240112T141952Z
LAST-MODIFIED:20251222T222332Z
UID:20040-1704567600-1704567600@info.mesip.pl
SUMMARY:Kolędujmy Małemu
DESCRIPTION:Kolędujmy Małemu
URL:https://info.mesip.pl/event/koledujmy-malemu/
LOCATION:plac Powstańców Wielkopolskich 21\, plac Powstańców Wielkopolskich 21   \, Murowana Goślina\, Poland
CATEGORIES:Kultura i sztuka
END:VEVENT
BEGIN:VEVENT
DTSTART;TZID=Europe/Helsinki:20240109T180000
DTEND;TZID=Europe/Helsinki:20240109T180000
DTSTAMP:20260424T084618
CREATED:20240112T141708Z
LAST-MODIFIED:20251222T222310Z
UID:19820-1704823200-1704823200@info.mesip.pl
SUMMARY:Jeszcze zanim święta - koncert
DESCRIPTION:Koncert “Jeszcze zanim święta” – Andrzej Piaseczny / Kacper Dworniczak
URL:https://info.mesip.pl/event/jeszcze-zanim-swieta-koncert/
LOCATION:ul. Poznańska 22A\, ul. Poznańska 22A   \, Stęszew\, Poland
CATEGORIES:Kultura i sztuka
END:VEVENT
BEGIN:VEVENT
DTSTART;TZID=Europe/Helsinki:20240112T180000
DTEND;TZID=Europe/Helsinki:20240112T180000
DTSTAMP:20260424T084618
CREATED:20240112T141953Z
LAST-MODIFIED:20251222T222333Z
UID:20043-1705082400-1705082400@info.mesip.pl
SUMMARY:Koncert Jazzowy
DESCRIPTION:
URL:https://info.mesip.pl/event/koncert-jazzowy/
LOCATION:ul. Podgórna 21\, ul. Podgórna 21   \, Puszczykowo\, Poland
CATEGORIES:Kultura i sztuka
END:VEVENT
END:VCALENDAR