BEGIN:VCALENDAR
VERSION:2.0
PRODID:-//MeSIP - ECPv6.15.13//NONSGML v1.0//EN
CALSCALE:GREGORIAN
METHOD:PUBLISH
X-WR-CALNAME:MeSIP
X-ORIGINAL-URL:https://info.mesip.pl
X-WR-CALDESC:Wydarzenia dla MeSIP
REFRESH-INTERVAL;VALUE=DURATION:PT1H
X-Robots-Tag:noindex
X-PUBLISHED-TTL:PT1H
BEGIN:VTIMEZONE
TZID:Europe/Helsinki
BEGIN:DAYLIGHT
TZOFFSETFROM:+0200
TZOFFSETTO:+0300
TZNAME:EEST
DTSTART:20220327T010000
END:DAYLIGHT
BEGIN:STANDARD
TZOFFSETFROM:+0300
TZOFFSETTO:+0200
TZNAME:EET
DTSTART:20221030T010000
END:STANDARD
BEGIN:DAYLIGHT
TZOFFSETFROM:+0200
TZOFFSETTO:+0300
TZNAME:EEST
DTSTART:20230326T010000
END:DAYLIGHT
BEGIN:STANDARD
TZOFFSETFROM:+0300
TZOFFSETTO:+0200
TZNAME:EET
DTSTART:20231029T010000
END:STANDARD
BEGIN:DAYLIGHT
TZOFFSETFROM:+0200
TZOFFSETTO:+0300
TZNAME:EEST
DTSTART:20240331T010000
END:DAYLIGHT
BEGIN:STANDARD
TZOFFSETFROM:+0300
TZOFFSETTO:+0200
TZNAME:EET
DTSTART:20241027T010000
END:STANDARD
BEGIN:DAYLIGHT
TZOFFSETFROM:+0200
TZOFFSETTO:+0300
TZNAME:EEST
DTSTART:20250330T010000
END:DAYLIGHT
BEGIN:STANDARD
TZOFFSETFROM:+0300
TZOFFSETTO:+0200
TZNAME:EET
DTSTART:20251026T010000
END:STANDARD
END:VTIMEZONE
BEGIN:VEVENT
DTSTART;VALUE=DATE:20231028
DTEND;VALUE=DATE:20240101
DTSTAMP:20260424T084650
CREATED:20240112T072618Z
LAST-MODIFIED:20240502T050016Z
UID:19081-1698451200-1704067140@info.mesip.pl
SUMMARY:Rogalin - wystawa
DESCRIPTION:
URL:https://info.mesip.pl/event/rogalin-wystawa/
LOCATION:Plac Parkowy 1\, Plac Parkowy 1   \, Skrzynki\, gm. Stęszew\, Poland
CATEGORIES:Kultura i sztuka
END:VEVENT
BEGIN:VEVENT
DTSTART;TZID=Europe/Helsinki:20231107T101500
DTEND;TZID=Europe/Helsinki:20240430T101500
DTSTAMP:20260424T084650
CREATED:20240112T072618Z
LAST-MODIFIED:20251222T222304Z
UID:19084-1699352100-1714472100@info.mesip.pl
SUMMARY:Wystawa - Nigdy Wojny
DESCRIPTION:Muzeum Martyrologiczne w Żabikowie zaprasza na nową wystawę oraz wydarzenia towarzyszące
URL:https://info.mesip.pl/event/wystawa-nigdy-wojny/
LOCATION:ul. Niezłomnych 2\, ul. Niezłomnych 2   \, Luboń\, Poland
CATEGORIES:Społeczne
END:VEVENT
BEGIN:VEVENT
DTSTART;VALUE=DATE:20231118
DTEND;VALUE=DATE:20231223
DTSTAMP:20260424T084650
CREATED:20240112T072646Z
LAST-MODIFIED:20240502T050020Z
UID:19103-1700265600-1703289540@info.mesip.pl
SUMMARY:Jarmark Świąteczny
DESCRIPTION:
URL:https://info.mesip.pl/event/jarmark-swiateczny/
LOCATION:ul. Głogowska 14\, ul. Głogowska 14   \, Poznań\, Poland
CATEGORIES:Rozrywka
END:VEVENT
BEGIN:VEVENT
DTSTART;TZID=Europe/Helsinki:20231127T090000
DTEND;TZID=Europe/Helsinki:20240131T150000
DTSTAMP:20260424T084650
CREATED:20240112T141439Z
LAST-MODIFIED:20251222T222305Z
UID:19600-1701075600-1706713200@info.mesip.pl
SUMMARY:Wystawa z okazji 105 Rocznicy Wybuchu Powstania Wielkopolskiego
DESCRIPTION:Wystawa z okazji 105 Rocznicy Wybuchu Powstania Wielkopolskiego
URL:https://info.mesip.pl/event/wystawa-z-okazji-105-rocznicy-wybuchu-powstania-wielkopolskiego/
LOCATION:Ratusz w Bninie\, Ratusz w Bninie   \, Kórnik\, Poland
CATEGORIES:Kultura i sztuka
END:VEVENT
BEGIN:VEVENT
DTSTART;TZID=Europe/Helsinki:20231206T173000
DTEND;TZID=Europe/Helsinki:20240105T173000
DTSTAMP:20260424T084650
CREATED:20240112T141741Z
LAST-MODIFIED:20251222T222312Z
UID:19845-1701883800-1704475800@info.mesip.pl
SUMMARY:„Zanim czas zatrze ślady. Owińska” – wystawa
DESCRIPTION:„Zanim czas zatrze ślady. Owińska” – wystawa
URL:https://info.mesip.pl/event/zanim-czas-zatrze-slady-owinska-wystawa/
LOCATION:ul.  Piłsudskiego 3\, ul.  Piłsudskiego 3   \, Koziegłowy\, Poland
CATEGORIES:Kultura i sztuka
END:VEVENT
BEGIN:VEVENT
DTSTART;TZID=Europe/Helsinki:20231211T160000
DTEND;TZID=Europe/Helsinki:20231211T173000
DTSTAMP:20260424T084650
CREATED:20240112T141853Z
LAST-MODIFIED:20240502T050149Z
UID:19977-1702310400-1702315800@info.mesip.pl
SUMMARY:Montownia wyobraźni - warsztaty
DESCRIPTION:
URL:https://info.mesip.pl/event/montownia-wyobrazni-warsztaty/
LOCATION:ul. Szkolna 16\, ul. Szkolna 16   \, Suchy Las\, Poland
CATEGORIES:Kultura i sztuka
END:VEVENT
BEGIN:VEVENT
DTSTART;TZID=Europe/Helsinki:20231211T180000
DTEND;TZID=Europe/Helsinki:20231211T180000
DTSTAMP:20260424T084650
CREATED:20240112T141854Z
LAST-MODIFIED:20240502T050150Z
UID:19980-1702317600-1702317600@info.mesip.pl
SUMMARY:Bankierzy tajemnic
DESCRIPTION:
URL:https://info.mesip.pl/event/bankierzy-tajemnic/
LOCATION:ul. Dworcowa 2A\, ul. Dworcowa 2A   \, Pobiedziska\, Poland
CATEGORIES:Kultura i sztuka
END:VEVENT
BEGIN:VEVENT
DTSTART;TZID=Europe/Helsinki:20231212T170000
DTEND;TZID=Europe/Helsinki:20231212T170000
DTSTAMP:20260424T084650
CREATED:20240112T141755Z
LAST-MODIFIED:20240502T050139Z
UID:19925-1702400400-1702400400@info.mesip.pl
SUMMARY:Wieczornica z kolędami w Iwnie
DESCRIPTION:
URL:https://info.mesip.pl/event/wieczornica-z-koledami-w-iwnie/
LOCATION:Park Mielżyńskich 1\, Park Mielżyńskich 1   \, Iwno\, Poland
CATEGORIES:Kultura i sztuka
END:VEVENT
BEGIN:VEVENT
DTSTART;TZID=Europe/Helsinki:20231212T170000
DTEND;TZID=Europe/Helsinki:20231212T180000
DTSTAMP:20260424T084650
CREATED:20240112T141610Z
LAST-MODIFIED:20240502T050115Z
UID:19770-1702400400-1702404000@info.mesip.pl
SUMMARY:Choinka i jej wigilijne kreacje - koncert
DESCRIPTION:“Choinka i jej wigilijne kreacje” – koncert dla najmłodszych. Teatr Mozaika
URL:https://info.mesip.pl/event/choinka-i-jej-wigilijne-kreacje-koncert/
LOCATION:ul. Ogrodowa 14\, ul. Ogrodowa 14   \, Tarnowo Podgórne\, Poland
CATEGORIES:Kultura i sztuka
END:VEVENT
BEGIN:VEVENT
DTSTART;TZID=Europe/Helsinki:20231212T180000
DTEND;TZID=Europe/Helsinki:20231212T180000
DTSTAMP:20260424T084650
CREATED:20240112T141907Z
LAST-MODIFIED:20240502T050150Z
UID:19983-1702404000-1702404000@info.mesip.pl
SUMMARY:Pan Belfer w Koziegłowach
DESCRIPTION:
URL:https://info.mesip.pl/event/pan-belfer-w-kozieglowach/
LOCATION:ul.  Piłsudskiego 3\, ul.  Piłsudskiego 3   \, Koziegłowy\, Poland
CATEGORIES:Społeczne
END:VEVENT
BEGIN:VEVENT
DTSTART;TZID=Europe/Helsinki:20231215T180000
DTEND;TZID=Europe/Helsinki:20231215T180000
DTSTAMP:20260424T084650
CREATED:20240112T141755Z
LAST-MODIFIED:20240502T050139Z
UID:19928-1702663200-1702663200@info.mesip.pl
SUMMARY:Nocne Granie w Puszczykowie
DESCRIPTION:
URL:https://info.mesip.pl/event/nocne-granie-w-puszczykowie/
LOCATION:ul. Podgórna 21\, ul. Podgórna 21   \, Puszczykowo\, Poland
CATEGORIES:Edukacja
END:VEVENT
BEGIN:VEVENT
DTSTART;TZID=Europe/Helsinki:20231215T190000
DTEND;TZID=Europe/Helsinki:20231215T190000
DTSTAMP:20260424T084650
CREATED:20240112T141610Z
LAST-MODIFIED:20240502T050116Z
UID:19773-1702666800-1702666800@info.mesip.pl
SUMMARY:Voo Voo
DESCRIPTION:
URL:https://info.mesip.pl/event/voo-voo/
LOCATION:ul. Szkolna 16\, ul. Szkolna 16   \, Suchy Las\, Poland
CATEGORIES:Kultura i sztuka
END:VEVENT
BEGIN:VEVENT
DTSTART;TZID=Europe/Helsinki:20231216T000000
DTEND;TZID=Europe/Helsinki:20231217T000000
DTSTAMP:20260424T084650
CREATED:20240112T141808Z
LAST-MODIFIED:20240502T050140Z
UID:19931-1702684800-1702771200@info.mesip.pl
SUMMARY:Mikołajkowy Turniej Tenisowy
DESCRIPTION:
URL:https://info.mesip.pl/event/mikolajkowy-turniej-tenisowy/
LOCATION:ul. Sportowa 2\, ul. Sportowa 2   \, Puszczykowo\, Poland
CATEGORIES:Sport
END:VEVENT
BEGIN:VEVENT
DTSTART;TZID=Europe/Helsinki:20231216T130000
DTEND;TZID=Europe/Helsinki:20231216T170000
DTSTAMP:20260424T084650
CREATED:20240112T141623Z
LAST-MODIFIED:20240502T050116Z
UID:19776-1702731600-1702746000@info.mesip.pl
SUMMARY:Kiermasz świąteczny
DESCRIPTION:Kiermasz świąteczny
URL:https://info.mesip.pl/event/kiermasz-swiateczny-2/
LOCATION:ul. Jana III Sobieskiego 97\, ul. Jana III Sobieskiego 97   \, Luboń\, Poland
CATEGORIES:Społeczne
END:VEVENT
BEGIN:VEVENT
DTSTART;TZID=Europe/Helsinki:20231216T140000
DTEND;TZID=Europe/Helsinki:20231216T160000
DTSTAMP:20260424T084650
CREATED:20240112T141624Z
LAST-MODIFIED:20240502T050116Z
UID:19779-1702735200-1702742400@info.mesip.pl
SUMMARY:Warsztaty piernikowe
DESCRIPTION:Warsztaty piernikowe
URL:https://info.mesip.pl/event/warsztaty-piernikowe/
LOCATION:ul. Jana III Sobieskiego 97\, ul. Jana III Sobieskiego 97   \, Luboń\, Poland
CATEGORIES:Edukacja
END:VEVENT
BEGIN:VEVENT
DTSTART;TZID=Europe/Helsinki:20231216T153000
DTEND;TZID=Europe/Helsinki:20231216T193000
DTSTAMP:20260424T084650
CREATED:20240112T141744Z
LAST-MODIFIED:20240502T050132Z
UID:19863-1702740600-1702755000@info.mesip.pl
SUMMARY:Świąteczna Warsztatownia
DESCRIPTION:Świąteczna Warsztatownia – wianki II spotkanie
URL:https://info.mesip.pl/event/swiateczna-warsztatownia/
LOCATION:ul. Gdyńska 47\, ul. Gdyńska 47   \, Czerwonak\, Poland
CATEGORIES:Kultura i sztuka
END:VEVENT
BEGIN:VEVENT
DTSTART;TZID=Europe/Helsinki:20231216T160000
DTEND;TZID=Europe/Helsinki:20231216T160000
DTSTAMP:20260424T084650
CREATED:20240112T141501Z
LAST-MODIFIED:20240502T050052Z
UID:19659-1702742400-1702742400@info.mesip.pl
SUMMARY:Święta od kuchni
DESCRIPTION:
URL:https://info.mesip.pl/event/swieta-od-kuchni/
LOCATION:ul. Ogrodowa 2\, ul. Ogrodowa 2   \, Jankowice\, Poland
CATEGORIES:Kultura i sztuka
END:VEVENT
BEGIN:VEVENT
DTSTART;TZID=Europe/Helsinki:20231216T160000
DTEND;TZID=Europe/Helsinki:20231216T160000
DTSTAMP:20260424T084650
CREATED:20240112T141809Z
LAST-MODIFIED:20240502T050140Z
UID:19934-1702742400-1702742400@info.mesip.pl
SUMMARY:Festiwal młodzieżowy
DESCRIPTION:
URL:https://info.mesip.pl/event/festiwal-mlodziezowy/
LOCATION:ul. Podgórna 21\, ul. Podgórna 21   \, Puszczykowo\, Poland
CATEGORIES:Kultura i sztuka
END:VEVENT
BEGIN:VEVENT
DTSTART;TZID=Europe/Helsinki:20231216T160000
DTEND;TZID=Europe/Helsinki:20231216T180000
DTSTAMP:20260424T084650
CREATED:20240112T141745Z
LAST-MODIFIED:20240502T050132Z
UID:19866-1702742400-1702749600@info.mesip.pl
SUMMARY:Mikołajki Sportowe w Śródce
DESCRIPTION:
URL:https://info.mesip.pl/event/mikolajki-sportowe-w-srodce/
LOCATION:Kleszczewo\, Kleszczewo   \, Śródka\, Poland
CATEGORIES:Sport
END:VEVENT
BEGIN:VEVENT
DTSTART;TZID=Europe/Helsinki:20231216T170000
DTEND;TZID=Europe/Helsinki:20231216T170000
DTSTAMP:20260424T084650
CREATED:20240112T141746Z
LAST-MODIFIED:20240502T050133Z
UID:19872-1702746000-1702746000@info.mesip.pl
SUMMARY:Świąteczne Kolędowanie
DESCRIPTION:
URL:https://info.mesip.pl/event/swiateczne-koledowanie/
LOCATION:ul. Poznańska 33\, ul. Poznańska 33   \, Kostrzyn Wielkopolski\, Poland
CATEGORIES:Kultura i sztuka
END:VEVENT
BEGIN:VEVENT
DTSTART;TZID=Europe/Helsinki:20231216T180000
DTEND;TZID=Europe/Helsinki:20231216T180000
DTSTAMP:20260424T084650
CREATED:20240112T141518Z
LAST-MODIFIED:20240502T050140Z
UID:19682-1702749600-1702749600@info.mesip.pl
SUMMARY:Spotkanie autorskie z Tomaszem Raczkiem
DESCRIPTION:
URL:https://info.mesip.pl/event/spotkanie-autorskie-z-tomaszem-raczkiem/
LOCATION:ul. Szkolna 16\, ul. Szkolna 16   \, Suchy Las\, Poland
CATEGORIES:Kultura i sztuka
END:VEVENT
BEGIN:VEVENT
DTSTART;TZID=Europe/Helsinki:20231216T180000
DTEND;TZID=Europe/Helsinki:20231216T193000
DTSTAMP:20260424T084650
CREATED:20240112T141624Z
LAST-MODIFIED:20240502T050117Z
UID:19782-1702749600-1702755000@info.mesip.pl
SUMMARY:Choinkowa przygoda
DESCRIPTION:“Choinkowa przygoda” Teatr Tańca Sortownia
URL:https://info.mesip.pl/event/choinkowa-przygoda/
LOCATION:ul. Ogrodowa 13a\, ul. Ogrodowa 13a   \, Przeźmierowo\, Poland
CATEGORIES:Kultura i sztuka
END:VEVENT
BEGIN:VEVENT
DTSTART;TZID=Europe/Helsinki:20231216T190000
DTEND;TZID=Europe/Helsinki:20231216T190000
DTSTAMP:20260424T084650
CREATED:20240112T141750Z
LAST-MODIFIED:20240502T050136Z
UID:19893-1702753200-1702753200@info.mesip.pl
SUMMARY:Koncert Świąteczny
DESCRIPTION:
URL:https://info.mesip.pl/event/koncert-swiateczny/
LOCATION:Plac Parkowy 1\, Plac Parkowy 1   \, Skrzynki\, gm. Stęszew\, Poland
CATEGORIES:Kultura i sztuka
END:VEVENT
BEGIN:VEVENT
DTSTART;TZID=Europe/Helsinki:20231217T100000
DTEND;TZID=Europe/Helsinki:20231217T100000
DTSTAMP:20260424T084650
CREATED:20240112T141515Z
LAST-MODIFIED:20240502T050053Z
UID:19662-1702807200-1702807200@info.mesip.pl
SUMMARY:Dance mania - Turniej Taneczny
DESCRIPTION:Dance mania – Turniej Taneczny
URL:https://info.mesip.pl/event/dance-mania-turniej-taneczny/
LOCATION:ul. Polna\, ul. Polna   \, Dopiewo\, Poland
CATEGORIES:Sport
END:VEVENT
BEGIN:VEVENT
DTSTART;TZID=Europe/Helsinki:20231217T100000
DTEND;TZID=Europe/Helsinki:20231217T100000
DTSTAMP:20260424T084650
CREATED:20240112T141809Z
LAST-MODIFIED:20240502T050141Z
UID:19938-1702807200-1702807200@info.mesip.pl
SUMMARY:Świąteczny Turniej Szachowy
DESCRIPTION:Świąteczny Turniej Szachowy
URL:https://info.mesip.pl/event/swiateczny-turniej-szachowy/
LOCATION:ul. Mściszewska 10\, ul. Mściszewska 10   \, Murowana Goślina\, Poland
CATEGORIES:Sport
END:VEVENT
BEGIN:VEVENT
DTSTART;TZID=Europe/Helsinki:20231217T180000
DTEND;TZID=Europe/Helsinki:20231217T180000
DTSTAMP:20260424T084650
CREATED:20240112T141750Z
LAST-MODIFIED:20240502T050135Z
UID:19890-1702836000-1702836000@info.mesip.pl
SUMMARY:Vivaldi w Dworze Skrzynki
DESCRIPTION:
URL:https://info.mesip.pl/event/vivaldi-w-dworze-skrzynki/
LOCATION:Plac Parkowy 1\, Plac Parkowy 1   \, Skrzynki\, gm. Stęszew\, Poland
CATEGORIES:Kultura i sztuka
END:VEVENT
BEGIN:VEVENT
DTSTART;TZID=Europe/Helsinki:20231217T180000
DTEND;TZID=Europe/Helsinki:20231217T180000
DTSTAMP:20260424T084650
CREATED:20240112T141907Z
LAST-MODIFIED:20240502T050151Z
UID:19986-1702836000-1702836000@info.mesip.pl
SUMMARY:Wielkopolska Gra dla Muzeum
DESCRIPTION:
URL:https://info.mesip.pl/event/wielkopolska-gra-dla-muzeum/
LOCATION:ul. Głogowska 14\, ul. Głogowska 14   \, Poznań\, Poland
CATEGORIES:Społeczne
END:VEVENT
BEGIN:VEVENT
DTSTART;TZID=Europe/Helsinki:20231219T160000
DTEND;TZID=Europe/Helsinki:20231219T160000
DTSTAMP:20260424T084650
CREATED:20240112T141810Z
LAST-MODIFIED:20240502T050142Z
UID:19941-1703001600-1703001600@info.mesip.pl
SUMMARY:Świąteczne spotkanie z książką
DESCRIPTION:Świąteczne spotkanie z książką
URL:https://info.mesip.pl/event/swiateczne-spotkanie-z-ksiazka/
LOCATION:ul. Malinowa 41\, ul. Malinowa 41   \, Dąbrówka\, Poland
CATEGORIES:Edukacja
END:VEVENT
BEGIN:VEVENT
DTSTART;TZID=Europe/Helsinki:20231226T171400
DTEND;TZID=Europe/Helsinki:20231226T171400
DTSTAMP:20260424T084650
CREATED:20240112T141937Z
LAST-MODIFIED:20240502T050158Z
UID:20022-1703610840-1703610840@info.mesip.pl
SUMMARY:Paderewski w Swarzędzu
DESCRIPTION:Przyjazd Ignacego Paderewskiego do Swarzędza – inscenizacja
URL:https://info.mesip.pl/event/paderewski-w-swarzedzu/
LOCATION:ul. Dworcowa\, ul. Dworcowa   \, 62-020 Swarzędz\, Poland
CATEGORIES:Kultura i sztuka
END:VEVENT
BEGIN:VEVENT
DTSTART;TZID=Europe/Helsinki:20231227T000000
DTEND;TZID=Europe/Helsinki:20231227T000000
DTSTAMP:20260424T084650
CREATED:20240112T141908Z
LAST-MODIFIED:20251222T222321Z
UID:19992-1703635200-1703635200@info.mesip.pl
SUMMARY:Obchody wybuchu Powstania Wielkopolskiego w Swarzędzu
DESCRIPTION:
URL:https://info.mesip.pl/event/obchody-wybuchu-powstania-wielkopolskiego-w-swarzedzu/
LOCATION:   \, Poland
CATEGORIES:Uroczystości
END:VEVENT
END:VCALENDAR