BEGIN:VCALENDAR
VERSION:2.0
PRODID:-//MeSIP - ECPv6.15.13//NONSGML v1.0//EN
CALSCALE:GREGORIAN
METHOD:PUBLISH
X-ORIGINAL-URL:https://info.mesip.pl
X-WR-CALDESC:Wydarzenia dla MeSIP
REFRESH-INTERVAL;VALUE=DURATION:PT1H
X-Robots-Tag:noindex
X-PUBLISHED-TTL:PT1H
BEGIN:VTIMEZONE
TZID:Europe/Helsinki
BEGIN:DAYLIGHT
TZOFFSETFROM:+0200
TZOFFSETTO:+0300
TZNAME:EEST
DTSTART:20230326T010000
END:DAYLIGHT
BEGIN:STANDARD
TZOFFSETFROM:+0300
TZOFFSETTO:+0200
TZNAME:EET
DTSTART:20231029T010000
END:STANDARD
BEGIN:DAYLIGHT
TZOFFSETFROM:+0200
TZOFFSETTO:+0300
TZNAME:EEST
DTSTART:20240331T010000
END:DAYLIGHT
BEGIN:STANDARD
TZOFFSETFROM:+0300
TZOFFSETTO:+0200
TZNAME:EET
DTSTART:20241027T010000
END:STANDARD
BEGIN:DAYLIGHT
TZOFFSETFROM:+0200
TZOFFSETTO:+0300
TZNAME:EEST
DTSTART:20250330T010000
END:DAYLIGHT
BEGIN:STANDARD
TZOFFSETFROM:+0300
TZOFFSETTO:+0200
TZNAME:EET
DTSTART:20251026T010000
END:STANDARD
END:VTIMEZONE
BEGIN:VEVENT
DTSTART;TZID=Europe/Helsinki:20240419T100000
DTEND;TZID=Europe/Helsinki:20240831T100000
DTSTAMP:20260423T182358
CREATED:20240618T050232Z
LAST-MODIFIED:20251112T210410Z
UID:50183-1713520800-1725098400@info.mesip.pl
SUMMARY:Wystawa o czasach PRL
DESCRIPTION:
URL:https://info.mesip.pl/event/wystawa-o-czasach-prl/
LOCATION:ul. Słupska 62\, ul. Słupska 62   \, Poznań\, Poland
CATEGORIES:Kultura i sztuka
END:VEVENT
BEGIN:VEVENT
DTSTART;TZID=Europe/Helsinki:20240716T000000
DTEND;TZID=Europe/Helsinki:20241020T000000
DTSTAMP:20260423T182358
CREATED:20240711T050443Z
LAST-MODIFIED:20251112T210929Z
UID:62132-1721088000-1729382400@info.mesip.pl
SUMMARY:Wystawa czasowa: "Gatunki inwazyjne w faunie Polski"
DESCRIPTION:
URL:https://info.mesip.pl/event/wystawa-czasowa-gatunki-inwazyjne-w-faunie-polski/
LOCATION:ul. Akacjowa 12\, ul. Akacjowa 12   \, 62-006 Uzarzewo\, Poland
CATEGORIES:Edukacja
END:VEVENT
BEGIN:VEVENT
DTSTART;TZID=Europe/Helsinki:20240801T000000
DTEND;TZID=Europe/Helsinki:20240831T000000
DTSTAMP:20260423T182358
CREATED:20240702T050400Z
LAST-MODIFIED:20251112T210824Z
UID:56903-1722470400-1725062400@info.mesip.pl
SUMMARY:Wystawa figurek "Warhammer"
DESCRIPTION:Swarzędzkie Centrum Historii i Sztuki zaprasza na wystawę figurek “Warhammera” z kolekcji Jeremiego Murka\, którą będzie można oglądać w muzeum przy ul. Bramkowej 6 przez cały sierpień (1-31.08).\nSerdecznie zapraszamy!
URL:https://info.mesip.pl/event/wystawa-figurek-warhammer/
LOCATION:ul. Bramkowa 6\, ul. Bramkowa 6   \, 62-020 Swarzędz\, Poland
CATEGORIES:Kultura i sztuka
END:VEVENT
BEGIN:VEVENT
DTSTART;TZID=Europe/Helsinki:20240803T100000
DTEND;TZID=Europe/Helsinki:20240804T180000
DTSTAMP:20260423T182358
CREATED:20240803T050552Z
LAST-MODIFIED:20251112T211028Z
UID:76004-1722679200-1722794400@info.mesip.pl
SUMMARY:Graffiti Jam - warsztaty
DESCRIPTION:
URL:https://info.mesip.pl/event/graffiti-jam-warsztaty/
LOCATION:ul. Fabryczna 19\, ul. Fabryczna 19   \, 62-010 Pobiedziska\, Poland
CATEGORIES:Warsztaty
END:VEVENT
BEGIN:VEVENT
DTSTART;TZID=Europe/Helsinki:20240804T110000
DTEND;TZID=Europe/Helsinki:20240804T170000
DTSTAMP:20260423T182358
CREATED:20240713T050448Z
LAST-MODIFIED:20251112T210938Z
UID:63323-1722769200-1722790800@info.mesip.pl
SUMMARY:Miodowe lato w Swarzędzu
DESCRIPTION:“Miodowe lato w skansenie” – festyn pszczelarski
URL:https://info.mesip.pl/event/miodowe-lato-w-swarzedzu/
LOCATION:ul. Poznańska 35\, ul. Poznańska 35   \, Swarzędz\, Poland
CATEGORIES:Ekologia
END:VEVENT
BEGIN:VEVENT
DTSTART;TZID=Europe/Helsinki:20240804T150000
DTEND;TZID=Europe/Helsinki:20240804T150000
DTSTAMP:20260423T182358
CREATED:20240801T050539Z
LAST-MODIFIED:20251112T211018Z
UID:74763-1722783600-1722783600@info.mesip.pl
SUMMARY:Piknik Trzech Pokoleń
DESCRIPTION:
URL:https://info.mesip.pl/event/piknik-trzech-pokolen/
LOCATION:ul. Kosynierów 1\, ul. Kosynierów 1   \, Swarzędz\, Poland
CATEGORIES:Rozrywka
END:VEVENT
BEGIN:VEVENT
DTSTART;TZID=Europe/Helsinki:20240804T150000
DTEND;TZID=Europe/Helsinki:20240804T150000
DTSTAMP:20260423T182358
CREATED:20240803T050554Z
LAST-MODIFIED:20251112T211032Z
UID:76008-1722783600-1722783600@info.mesip.pl
SUMMARY:Czyja to walizka? - spektakl.
DESCRIPTION:
URL:https://info.mesip.pl/event/czyja-to-walizka-spektakl/
LOCATION:ul. Ogrodowa 2\, ul. Ogrodowa 2   \, Jankowice\, Poland
CATEGORIES:Dla dzieci
END:VEVENT
BEGIN:VEVENT
DTSTART;TZID=Europe/Helsinki:20240804T150000
DTEND;TZID=Europe/Helsinki:20240825T180000
DTSTAMP:20260423T182358
CREATED:20240727T050520Z
LAST-MODIFIED:20251112T211001Z
UID:71703-1722783600-1724608800@info.mesip.pl
SUMMARY:Zabytek otwarty
DESCRIPTION:
URL:https://info.mesip.pl/event/zabytek-otwarty/
LOCATION:Mury 30\, Mury 30   \, Buk\, Poland
CATEGORIES:Edukacja
END:VEVENT
END:VCALENDAR