BEGIN:VCALENDAR
VERSION:2.0
PRODID:-//MeSIP - ECPv6.15.13//NONSGML v1.0//EN
CALSCALE:GREGORIAN
METHOD:PUBLISH
X-ORIGINAL-URL:https://info.mesip.pl
X-WR-CALDESC:Wydarzenia dla MeSIP
REFRESH-INTERVAL;VALUE=DURATION:PT1H
X-Robots-Tag:noindex
X-PUBLISHED-TTL:PT1H
BEGIN:VTIMEZONE
TZID:Europe/Helsinki
BEGIN:DAYLIGHT
TZOFFSETFROM:+0200
TZOFFSETTO:+0300
TZNAME:EEST
DTSTART:20230326T010000
END:DAYLIGHT
BEGIN:STANDARD
TZOFFSETFROM:+0300
TZOFFSETTO:+0200
TZNAME:EET
DTSTART:20231029T010000
END:STANDARD
BEGIN:DAYLIGHT
TZOFFSETFROM:+0200
TZOFFSETTO:+0300
TZNAME:EEST
DTSTART:20240331T010000
END:DAYLIGHT
BEGIN:STANDARD
TZOFFSETFROM:+0300
TZOFFSETTO:+0200
TZNAME:EET
DTSTART:20241027T010000
END:STANDARD
BEGIN:DAYLIGHT
TZOFFSETFROM:+0200
TZOFFSETTO:+0300
TZNAME:EEST
DTSTART:20250330T010000
END:DAYLIGHT
BEGIN:STANDARD
TZOFFSETFROM:+0300
TZOFFSETTO:+0200
TZNAME:EET
DTSTART:20251026T010000
END:STANDARD
END:VTIMEZONE
BEGIN:VEVENT
DTSTART;TZID=Europe/Helsinki:20240419T100000
DTEND;TZID=Europe/Helsinki:20240831T100000
DTSTAMP:20260423T182500
CREATED:20240618T050232Z
LAST-MODIFIED:20251112T210410Z
UID:50183-1713520800-1725098400@info.mesip.pl
SUMMARY:Wystawa o czasach PRL
DESCRIPTION:
URL:https://info.mesip.pl/event/wystawa-o-czasach-prl/
LOCATION:ul. Słupska 62\, ul. Słupska 62   \, Poznań\, Poland
CATEGORIES:Kultura i sztuka
END:VEVENT
BEGIN:VEVENT
DTSTART;TZID=Europe/Helsinki:20240716T000000
DTEND;TZID=Europe/Helsinki:20241020T000000
DTSTAMP:20260423T182500
CREATED:20240711T050443Z
LAST-MODIFIED:20251112T210929Z
UID:62132-1721088000-1729382400@info.mesip.pl
SUMMARY:Wystawa czasowa: "Gatunki inwazyjne w faunie Polski"
DESCRIPTION:
URL:https://info.mesip.pl/event/wystawa-czasowa-gatunki-inwazyjne-w-faunie-polski/
LOCATION:ul. Akacjowa 12\, ul. Akacjowa 12   \, 62-006 Uzarzewo\, Poland
CATEGORIES:Edukacja
END:VEVENT
BEGIN:VEVENT
DTSTART;TZID=Europe/Helsinki:20240722T180000
DTEND;TZID=Europe/Helsinki:20240802T180000
DTSTAMP:20260423T182500
CREATED:20240731T050542Z
LAST-MODIFIED:20251112T211017Z
UID:74144-1721671200-1722621600@info.mesip.pl
SUMMARY:Plener sztuki w Dworze Skrzynki
DESCRIPTION:
URL:https://info.mesip.pl/event/plener-sztuki-w-dworze-skrzynki/
LOCATION:Plac Parkowy 1\, Plac Parkowy 1   \, Skrzynki\, gm. Stęszew\, Poland
CATEGORIES:Kultura i sztuka
END:VEVENT
BEGIN:VEVENT
DTSTART;TZID=Europe/Helsinki:20240801T000000
DTEND;TZID=Europe/Helsinki:20240831T000000
DTSTAMP:20260423T182500
CREATED:20240702T050400Z
LAST-MODIFIED:20251112T210824Z
UID:56903-1722470400-1725062400@info.mesip.pl
SUMMARY:Wystawa figurek "Warhammer"
DESCRIPTION:Swarzędzkie Centrum Historii i Sztuki zaprasza na wystawę figurek “Warhammera” z kolekcji Jeremiego Murka\, którą będzie można oglądać w muzeum przy ul. Bramkowej 6 przez cały sierpień (1-31.08).\nSerdecznie zapraszamy!
URL:https://info.mesip.pl/event/wystawa-figurek-warhammer/
LOCATION:ul. Bramkowa 6\, ul. Bramkowa 6   \, 62-020 Swarzędz\, Poland
CATEGORIES:Kultura i sztuka
END:VEVENT
BEGIN:VEVENT
DTSTART;TZID=Europe/Helsinki:20240802T210000
DTEND;TZID=Europe/Helsinki:20240803T210000
DTSTAMP:20260423T182500
CREATED:20240727T050519Z
LAST-MODIFIED:20251112T211000Z
UID:71697-1722632400-1722718800@info.mesip.pl
SUMMARY:Noc ciemNa
DESCRIPTION:
URL:https://info.mesip.pl/event/noc-ciemna/
LOCATION:Dziewicza Góra 4\, Dziewicza Góra 4   \, Czerwonak\, Poland
CATEGORIES:Turystyka i rekreacja
END:VEVENT
END:VCALENDAR