BEGIN:VCALENDAR
VERSION:2.0
PRODID:-//MeSIP - ECPv6.15.13//NONSGML v1.0//EN
CALSCALE:GREGORIAN
METHOD:PUBLISH
X-WR-CALNAME:MeSIP
X-ORIGINAL-URL:https://info.mesip.pl
X-WR-CALDESC:Wydarzenia dla MeSIP
REFRESH-INTERVAL;VALUE=DURATION:PT1H
X-Robots-Tag:noindex
X-PUBLISHED-TTL:PT1H
BEGIN:VTIMEZONE
TZID:Europe/Helsinki
BEGIN:DAYLIGHT
TZOFFSETFROM:+0200
TZOFFSETTO:+0300
TZNAME:EEST
DTSTART:20230326T010000
END:DAYLIGHT
BEGIN:STANDARD
TZOFFSETFROM:+0300
TZOFFSETTO:+0200
TZNAME:EET
DTSTART:20231029T010000
END:STANDARD
BEGIN:DAYLIGHT
TZOFFSETFROM:+0200
TZOFFSETTO:+0300
TZNAME:EEST
DTSTART:20240331T010000
END:DAYLIGHT
BEGIN:STANDARD
TZOFFSETFROM:+0300
TZOFFSETTO:+0200
TZNAME:EET
DTSTART:20241027T010000
END:STANDARD
BEGIN:DAYLIGHT
TZOFFSETFROM:+0200
TZOFFSETTO:+0300
TZNAME:EEST
DTSTART:20250330T010000
END:DAYLIGHT
BEGIN:STANDARD
TZOFFSETFROM:+0300
TZOFFSETTO:+0200
TZNAME:EET
DTSTART:20251026T010000
END:STANDARD
END:VTIMEZONE
BEGIN:VEVENT
DTSTART;TZID=Europe/Helsinki:20240304T000000
DTEND;TZID=Europe/Helsinki:20240630T000000
DTSTAMP:20260423T215515
CREATED:20240325T115243Z
LAST-MODIFIED:20251222T222606Z
UID:22067-1709510400-1719705600@info.mesip.pl
SUMMARY:Zajęcia na sportowo
DESCRIPTION:
URL:https://info.mesip.pl/event/zajecia-na-sportowo/
LOCATION:Centrum Tenisowe Sobota\, Centrum Tenisowe Sobota   \, Sobota\, Poland
CATEGORIES:Sport
END:VEVENT
BEGIN:VEVENT
DTSTART;TZID=Europe/Helsinki:20240419T100000
DTEND;TZID=Europe/Helsinki:20240831T100000
DTSTAMP:20260423T215515
CREATED:20240618T050232Z
LAST-MODIFIED:20251112T210410Z
UID:50183-1713520800-1725098400@info.mesip.pl
SUMMARY:Wystawa o czasach PRL
DESCRIPTION:
URL:https://info.mesip.pl/event/wystawa-o-czasach-prl/
LOCATION:ul. Słupska 62\, ul. Słupska 62   \, Poznań\, Poland
CATEGORIES:Kultura i sztuka
END:VEVENT
BEGIN:VEVENT
DTSTART;VALUE=DATE:20240607
DTEND;VALUE=DATE:20240610
DTSTAMP:20260423T215515
CREATED:20240605T050223Z
LAST-MODIFIED:20251112T210322Z
UID:45720-1717718400-1717977540@info.mesip.pl
SUMMARY:Dni Gminy Buk
DESCRIPTION:
URL:https://info.mesip.pl/event/dni-gminy-buk/
LOCATION:ul. Sportowa 14\, ul. Sportowa 14   \, Buk\, Poland
CATEGORIES:Rozrywka
END:VEVENT
BEGIN:VEVENT
DTSTART;TZID=Europe/Helsinki:20240607T150000
DTEND;TZID=Europe/Helsinki:20240609T150000
DTSTAMP:20260423T215515
CREATED:20240606T050228Z
LAST-MODIFIED:20251112T210336Z
UID:46098-1717772400-1717945200@info.mesip.pl
SUMMARY:Festiwal Smaków Food Trucków
DESCRIPTION:Festiwal Smaków Food Trucków
URL:https://info.mesip.pl/event/festiwal-smakow-food-truckow/
LOCATION:ul. Szkolna\, ul. Szkolna   \, Tarnowo Podgórne\, Poland
CATEGORIES:Zdrowie
END:VEVENT
BEGIN:VEVENT
DTSTART;VALUE=DATE:20240608
DTEND;VALUE=DATE:20240610
DTSTAMP:20260423T215515
CREATED:20240605T050223Z
LAST-MODIFIED:20251112T210323Z
UID:45726-1717804800-1717977540@info.mesip.pl
SUMMARY:Kórnickie Spotkania z Białą Damą 2024
DESCRIPTION:Kórnickie Spotkania z Białą Damą 2024
URL:https://info.mesip.pl/event/kornickie-spotkania-z-biala-dama-2024/
LOCATION:ul. Prowent\, ul. Prowent   \, Kórnik\, Poland
CATEGORIES:Kultura i sztuka
END:VEVENT
BEGIN:VEVENT
DTSTART;TZID=Europe/Helsinki:20240608T160000
DTEND;TZID=Europe/Helsinki:20240609T160000
DTSTAMP:20260423T215515
CREATED:20240524T050203Z
LAST-MODIFIED:20251112T210307Z
UID:42270-1717862400-1717948800@info.mesip.pl
SUMMARY:Dni Lubonia
DESCRIPTION:
URL:https://info.mesip.pl/event/dni-lubonia/
LOCATION:ul. Unijna\, ul. Unijna   \, Luboń\, Poland
CATEGORIES:Rozrywka
END:VEVENT
BEGIN:VEVENT
DTSTART;TZID=Europe/Helsinki:20240608T170000
DTEND;TZID=Europe/Helsinki:20240609T100000
DTSTAMP:20260423T215515
CREATED:20240606T050230Z
LAST-MODIFIED:20251112T210341Z
UID:46107-1717866000-1717927200@info.mesip.pl
SUMMARY:Rodzinne nocowanie na polanie
DESCRIPTION:Rodzinne nocowanie na polanie
URL:https://info.mesip.pl/event/rodzinne-nocowanie-na-polanie/
LOCATION:ul. Bogusławskiego\, ul. Bogusławskiego   \, Suchy Las\, Poland
CATEGORIES:Kultura i sztuka
END:VEVENT
BEGIN:VEVENT
DTSTART;TZID=Europe/Helsinki:20240609T090000
DTEND;TZID=Europe/Helsinki:20240609T090000
DTSTAMP:20260423T215515
CREATED:20240606T050231Z
LAST-MODIFIED:20251112T210341Z
UID:46110-1717923600-1717923600@info.mesip.pl
SUMMARY:Zlot Rowerów Zabytkowych
DESCRIPTION:
URL:https://info.mesip.pl/event/zlot-rowerow-zabytkowych/
LOCATION:ul. Koszalińska 15\, ul. Koszalińska 15   \, Poznań\, Poland
CATEGORIES:Turystyka i rekreacja
END:VEVENT
BEGIN:VEVENT
DTSTART;TZID=Europe/Helsinki:20240609T100000
DTEND;TZID=Europe/Helsinki:20240609T100000
DTSTAMP:20260423T215515
CREATED:20240605T050227Z
LAST-MODIFIED:20251112T210326Z
UID:45750-1717927200-1717927200@info.mesip.pl
SUMMARY:Warsztaty edukacyjne "Zioła Puszczy Zielonki”
DESCRIPTION:Warsztaty edukacyjne “Zioła Puszczy Zielonki”
URL:https://info.mesip.pl/event/warsztaty-edukacyjne-ziola-puszczy-zielonki/
LOCATION:Mściszewo\, Mściszewo   \, Mściszewo\, Poland
CATEGORIES:Edukacja
END:VEVENT
BEGIN:VEVENT
DTSTART;TZID=Europe/Helsinki:20240609T100000
DTEND;TZID=Europe/Helsinki:20240609T150000
DTSTAMP:20260423T215515
CREATED:20240605T050226Z
LAST-MODIFIED:20251112T210326Z
UID:45747-1717927200-1717945200@info.mesip.pl
SUMMARY:"Pchli targ i Rękodzieło"
DESCRIPTION:“Pchli targ i Rękodzieło”
URL:https://info.mesip.pl/event/pchli-targ-i-rekodzielo/
LOCATION:   \, Poland
CATEGORIES:Społeczne
END:VEVENT
BEGIN:VEVENT
DTSTART;TZID=Europe/Helsinki:20240609T110000
DTEND;TZID=Europe/Helsinki:20240609T140000
DTSTAMP:20260423T215515
CREATED:20240605T050227Z
LAST-MODIFIED:20251112T210327Z
UID:45753-1717930800-1717941600@info.mesip.pl
SUMMARY:Plenerowy Dzień Dziecka i oficjalne otwarcie Integracyjnego placu zabaw
DESCRIPTION:Plenerowy Dzień Dziecka i oficjalne otwarcie Integracyjnego placu zabaw
URL:https://info.mesip.pl/event/plenerowy-dzien-dziecka-i-oficjalne-otwarcie-integracyjnego-placu-zabaw/
LOCATION:ul. Trakt Napolitański\, ul. Trakt Napolitański   \, Rokietnica\, Poland
CATEGORIES:Rozrywka
END:VEVENT
BEGIN:VEVENT
DTSTART;TZID=Europe/Helsinki:20240609T130000
DTEND;TZID=Europe/Helsinki:20240609T130000
DTSTAMP:20260423T215515
CREATED:20240606T050232Z
LAST-MODIFIED:20251112T210345Z
UID:46113-1717938000-1717938000@info.mesip.pl
SUMMARY:AtmoSFERA Poezji z Danielą Popławską
DESCRIPTION:
URL:https://info.mesip.pl/event/atmosfera-poezji-z-daniela-poplawska/
LOCATION:ul. Ogrodowa 2\, ul. Ogrodowa 2   \, Jankowice\, Poland
CATEGORIES:Kultura i sztuka
END:VEVENT
BEGIN:VEVENT
DTSTART;TZID=Europe/Helsinki:20240609T150000
DTEND;TZID=Europe/Helsinki:20240609T150000
DTSTAMP:20260423T215515
CREATED:20240605T050227Z
LAST-MODIFIED:20251112T210327Z
UID:45756-1717945200-1717945200@info.mesip.pl
SUMMARY:Festyn Rodzinny w Trzeku
DESCRIPTION:Festyn Rodzinny w Trzeku
URL:https://info.mesip.pl/event/festyn-rodzinny-w-trzeku/
LOCATION:ul. Wydzierzewice\, ul. Wydzierzewice   \, Trzek\, gmina Kostrzyn Wlkp.\, Poland
CATEGORIES:Społeczne
END:VEVENT
BEGIN:VEVENT
DTSTART;TZID=Europe/Helsinki:20240609T170000
DTEND;TZID=Europe/Helsinki:20240609T170000
DTSTAMP:20260423T215515
CREATED:20240521T112432Z
LAST-MODIFIED:20251112T210224Z
UID:41364-1717952400-1717952400@info.mesip.pl
SUMMARY:Festiwal Kabaretów 2024
DESCRIPTION:
URL:https://info.mesip.pl/event/festiwal-kabaretow-2024/
LOCATION:ul. Rybaki/Strzałowa\, ul. Rybaki/Strzałowa   \, Poznań\, Poland
CATEGORIES:Dla seniora
END:VEVENT
END:VCALENDAR