BEGIN:VCALENDAR
VERSION:2.0
PRODID:-//MeSIP - ECPv6.15.13//NONSGML v1.0//EN
CALSCALE:GREGORIAN
METHOD:PUBLISH
X-ORIGINAL-URL:https://info.mesip.pl
X-WR-CALDESC:Wydarzenia dla MeSIP
REFRESH-INTERVAL;VALUE=DURATION:PT1H
X-Robots-Tag:noindex
X-PUBLISHED-TTL:PT1H
BEGIN:VTIMEZONE
TZID:Europe/Helsinki
BEGIN:DAYLIGHT
TZOFFSETFROM:+0200
TZOFFSETTO:+0300
TZNAME:EEST
DTSTART:20230326T010000
END:DAYLIGHT
BEGIN:STANDARD
TZOFFSETFROM:+0300
TZOFFSETTO:+0200
TZNAME:EET
DTSTART:20231029T010000
END:STANDARD
BEGIN:DAYLIGHT
TZOFFSETFROM:+0200
TZOFFSETTO:+0300
TZNAME:EEST
DTSTART:20240331T010000
END:DAYLIGHT
BEGIN:STANDARD
TZOFFSETFROM:+0300
TZOFFSETTO:+0200
TZNAME:EET
DTSTART:20241027T010000
END:STANDARD
BEGIN:DAYLIGHT
TZOFFSETFROM:+0200
TZOFFSETTO:+0300
TZNAME:EEST
DTSTART:20250330T010000
END:DAYLIGHT
BEGIN:STANDARD
TZOFFSETFROM:+0300
TZOFFSETTO:+0200
TZNAME:EET
DTSTART:20251026T010000
END:STANDARD
END:VTIMEZONE
BEGIN:VEVENT
DTSTART;TZID=Europe/Helsinki:20240304T000000
DTEND;TZID=Europe/Helsinki:20240630T000000
DTSTAMP:20260423T231348
CREATED:20240325T115243Z
LAST-MODIFIED:20251222T222606Z
UID:22067-1709510400-1719705600@info.mesip.pl
SUMMARY:Zajęcia na sportowo
DESCRIPTION:
URL:https://info.mesip.pl/event/zajecia-na-sportowo/
LOCATION:Centrum Tenisowe Sobota\, Centrum Tenisowe Sobota   \, Sobota\, Poland
CATEGORIES:Sport
END:VEVENT
BEGIN:VEVENT
DTSTART;TZID=Europe/Helsinki:20240419T100000
DTEND;TZID=Europe/Helsinki:20240831T100000
DTSTAMP:20260423T231348
CREATED:20240618T050232Z
LAST-MODIFIED:20251112T210410Z
UID:50183-1713520800-1725098400@info.mesip.pl
SUMMARY:Wystawa o czasach PRL
DESCRIPTION:
URL:https://info.mesip.pl/event/wystawa-o-czasach-prl/
LOCATION:ul. Słupska 62\, ul. Słupska 62   \, Poznań\, Poland
CATEGORIES:Kultura i sztuka
END:VEVENT
BEGIN:VEVENT
DTSTART;VALUE=DATE:20240510
DTEND;VALUE=DATE:20240527
DTSTAMP:20260423T231348
CREATED:20240521T112436Z
LAST-MODIFIED:20251112T210230Z
UID:41390-1715299200-1716767940@info.mesip.pl
SUMMARY:Pablo Picasso - wystawa
DESCRIPTION:
URL:https://info.mesip.pl/event/pablo-picasso-wystawa/
LOCATION:ul. Bramkowa 6\, ul. Bramkowa 6   \, Swarzędz\, Poland
CATEGORIES:Kultura i sztuka
END:VEVENT
BEGIN:VEVENT
DTSTART;VALUE=DATE:20240521
DTEND;VALUE=DATE:20240526
DTSTAMP:20260423T231348
CREATED:20240522T050152Z
LAST-MODIFIED:20251112T210244Z
UID:41691-1716249600-1716681540@info.mesip.pl
SUMMARY:Festiwal Fabuły
DESCRIPTION:
URL:https://info.mesip.pl/event/festiwal-fabuly/
LOCATION:ul. Św. Marcin 80/82\, ul. Św. Marcin 80/82   \, Poznań\, Poland
CATEGORIES:Kultura i sztuka
END:VEVENT
BEGIN:VEVENT
DTSTART;TZID=Europe/Helsinki:20240524T000000
DTEND;TZID=Europe/Helsinki:20240526T000000
DTSTAMP:20260423T231348
CREATED:20240510T050132Z
LAST-MODIFIED:20251112T210215Z
UID:40673-1716508800-1716681600@info.mesip.pl
SUMMARY:Dni Gminy Czerwonak
DESCRIPTION:Dni Gminy Czerwonak
URL:https://info.mesip.pl/event/dni-gminy-czerwonak/
LOCATION:ul. Portowa 1\, ul. Portowa 1   \, Czerwonak\, Poland
CATEGORIES:Rozrywka
END:VEVENT
BEGIN:VEVENT
DTSTART;VALUE=DATE:20240525
DTEND;VALUE=DATE:20240526
DTSTAMP:20260423T231348
CREATED:20240510T050132Z
LAST-MODIFIED:20251112T210216Z
UID:40679-1716595200-1716681540@info.mesip.pl
SUMMARY:Dni Mosiny 2024
DESCRIPTION:
URL:https://info.mesip.pl/event/dni-mosiny-2024/
LOCATION:Plac 20 Października\, Plac 20 Października   \, Mosina\, Poland
CATEGORIES:Społeczne
END:VEVENT
BEGIN:VEVENT
DTSTART;TZID=Europe/Helsinki:20240525T100000
DTEND;TZID=Europe/Helsinki:20240525T100000
DTSTAMP:20260423T231348
CREATED:20240521T112433Z
LAST-MODIFIED:20251112T210225Z
UID:41370-1716631200-1716631200@info.mesip.pl
SUMMARY:Grand Prix w Mölkky
DESCRIPTION:
URL:https://info.mesip.pl/event/grand-prix-w-molkky/
LOCATION:ul. Podgórna 21\, ul. Podgórna 21   \, Puszczykowo\, Poland
CATEGORIES:Dla seniora
END:VEVENT
BEGIN:VEVENT
DTSTART;TZID=Europe/Helsinki:20240525T100000
DTEND;TZID=Europe/Helsinki:20240525T100000
DTSTAMP:20260423T231348
CREATED:20240521T112441Z
LAST-MODIFIED:20251112T210236Z
UID:41423-1716631200-1716631200@info.mesip.pl
SUMMARY:Rodzinna Gra Miejska
DESCRIPTION:
URL:https://info.mesip.pl/event/rodzinna-gra-miejska/
LOCATION:ul. Konopnickiej 11\, ul. Konopnickiej 11   \, 62-020 Swarzędz\, Poland
CATEGORIES:Społeczne
END:VEVENT
BEGIN:VEVENT
DTSTART;TZID=Europe/Helsinki:20240525T100000
DTEND;TZID=Europe/Helsinki:20240525T130000
DTSTAMP:20260423T231348
CREATED:20240524T050158Z
LAST-MODIFIED:20251112T210301Z
UID:42230-1716631200-1716642000@info.mesip.pl
SUMMARY:Rajd "Puszca Wpuszcza"
DESCRIPTION:Rajd “Puszca Wpuszcza”
URL:https://info.mesip.pl/event/rajd-puszca-wpuszcza/
LOCATION:   \, Poland
CATEGORIES:Turystyka i rekreacja
END:VEVENT
BEGIN:VEVENT
DTSTART;TZID=Europe/Helsinki:20240525T100000
DTEND;TZID=Europe/Helsinki:20240525T140000
DTSTAMP:20260423T231348
CREATED:20240524T050158Z
LAST-MODIFIED:20251112T210301Z
UID:42227-1716631200-1716645600@info.mesip.pl
SUMMARY:Dzień Dziecka z Panem Kleksem
DESCRIPTION:Dzień Dziecka z Panem Kleksem
URL:https://info.mesip.pl/event/dzien-dziecka-z-panem-kleksem/
LOCATION:ul. Szkolna 16\, ul. Szkolna 16   \, Suchy Las\, Poland
CATEGORIES:Kultura i sztuka
END:VEVENT
BEGIN:VEVENT
DTSTART;TZID=Europe/Helsinki:20240525T100000
DTEND;TZID=Europe/Helsinki:20240526T200000
DTSTAMP:20260423T231348
CREATED:20240521T112435Z
LAST-MODIFIED:20251112T210229Z
UID:41387-1716631200-1716753600@info.mesip.pl
SUMMARY:Festyn w Kórniku
DESCRIPTION:
URL:https://info.mesip.pl/event/festyn-w-korniku/
LOCATION:ul. Zamkowa 5\, ul. Zamkowa 5   \, Kórnik\, Poland
CATEGORIES:Społeczne
END:VEVENT
BEGIN:VEVENT
DTSTART;TZID=Europe/Helsinki:20240525T110000
DTEND;TZID=Europe/Helsinki:20240525T150000
DTSTAMP:20260423T231348
CREATED:20240521T112443Z
LAST-MODIFIED:20251112T210243Z
UID:41438-1716634800-1716649200@info.mesip.pl
SUMMARY:Piknik Roxkije
DESCRIPTION:
URL:https://info.mesip.pl/event/piknik-roxkije/
LOCATION:ul. Trakt Napolitański\, ul. Trakt Napolitański   \, Rokietnica\, Poland
CATEGORIES:Sport
END:VEVENT
BEGIN:VEVENT
DTSTART;TZID=Europe/Helsinki:20240525T120000
DTEND;TZID=Europe/Helsinki:20240525T120000
DTSTAMP:20260423T231348
CREATED:20240524T050159Z
LAST-MODIFIED:20251112T210301Z
UID:42233-1716638400-1716638400@info.mesip.pl
SUMMARY:Spotkanie z pszczelarzem
DESCRIPTION:
URL:https://info.mesip.pl/event/spotkanie-z-pszczelarzem/
LOCATION:ul. Poznańska 16\, ul. Poznańska 16   \, 62-095 Murowana Goślina\, Poland
CATEGORIES:Edukacja
END:VEVENT
BEGIN:VEVENT
DTSTART;TZID=Europe/Helsinki:20240525T130000
DTEND;TZID=Europe/Helsinki:20240525T130000
DTSTAMP:20260423T231348
CREATED:20240524T050159Z
LAST-MODIFIED:20251112T210302Z
UID:42236-1716642000-1716642000@info.mesip.pl
SUMMARY:Rodzinny Festyn Majowy w Zielątkowie
DESCRIPTION:Rodzinny Festyn Majowy w Zielątkowie
URL:https://info.mesip.pl/event/rodzinny-festyn-majowy-w-zielatkowie/
LOCATION:   \, Poland
CATEGORIES:Rozrywka
END:VEVENT
BEGIN:VEVENT
DTSTART;TZID=Europe/Helsinki:20240525T130000
DTEND;TZID=Europe/Helsinki:20240526T170000
DTSTAMP:20260423T231348
CREATED:20240523T050213Z
LAST-MODIFIED:20251112T210258Z
UID:41961-1716642000-1716742800@info.mesip.pl
SUMMARY:Dzień Matki w Dworze Skrzynki
DESCRIPTION:
URL:https://info.mesip.pl/event/dzien-matki-w-dworze-skrzynki/
LOCATION:Plac Parkowy 1\, Plac Parkowy 1   \, Skrzynki\, gm. Stęszew\, Poland
CATEGORIES:Uroczystości
END:VEVENT
BEGIN:VEVENT
DTSTART;TZID=Europe/Helsinki:20240525T140000
DTEND;TZID=Europe/Helsinki:20240525T140000
DTSTAMP:20260423T231348
CREATED:20240510T050133Z
LAST-MODIFIED:20251112T210217Z
UID:40682-1716645600-1716645600@info.mesip.pl
SUMMARY:Dni Gminy Komorniki
DESCRIPTION:
URL:https://info.mesip.pl/event/dni-gminy-komorniki/
LOCATION:ul. Dworcowa 5\, ul. Dworcowa 5   \, Szreniawa\, Poland
CATEGORIES:Rozrywka
END:VEVENT
END:VCALENDAR