BEGIN:VCALENDAR
VERSION:2.0
PRODID:-//MeSIP - ECPv6.15.13//NONSGML v1.0//EN
CALSCALE:GREGORIAN
METHOD:PUBLISH
X-WR-CALNAME:MeSIP
X-ORIGINAL-URL:https://info.mesip.pl
X-WR-CALDESC:Wydarzenia dla MeSIP
REFRESH-INTERVAL;VALUE=DURATION:PT1H
X-Robots-Tag:noindex
X-PUBLISHED-TTL:PT1H
BEGIN:VTIMEZONE
TZID:Europe/Helsinki
BEGIN:DAYLIGHT
TZOFFSETFROM:+0200
TZOFFSETTO:+0300
TZNAME:EEST
DTSTART:20230326T010000
END:DAYLIGHT
BEGIN:STANDARD
TZOFFSETFROM:+0300
TZOFFSETTO:+0200
TZNAME:EET
DTSTART:20231029T010000
END:STANDARD
BEGIN:DAYLIGHT
TZOFFSETFROM:+0200
TZOFFSETTO:+0300
TZNAME:EEST
DTSTART:20240331T010000
END:DAYLIGHT
BEGIN:STANDARD
TZOFFSETFROM:+0300
TZOFFSETTO:+0200
TZNAME:EET
DTSTART:20241027T010000
END:STANDARD
BEGIN:DAYLIGHT
TZOFFSETFROM:+0200
TZOFFSETTO:+0300
TZNAME:EEST
DTSTART:20250330T010000
END:DAYLIGHT
BEGIN:STANDARD
TZOFFSETFROM:+0300
TZOFFSETTO:+0200
TZNAME:EET
DTSTART:20251026T010000
END:STANDARD
END:VTIMEZONE
BEGIN:VEVENT
DTSTART;TZID=Europe/Helsinki:20240304T000000
DTEND;TZID=Europe/Helsinki:20240630T000000
DTSTAMP:20260423T230959
CREATED:20240325T115243Z
LAST-MODIFIED:20251222T222606Z
UID:22067-1709510400-1719705600@info.mesip.pl
SUMMARY:Zajęcia na sportowo
DESCRIPTION:
URL:https://info.mesip.pl/event/zajecia-na-sportowo/
LOCATION:Centrum Tenisowe Sobota\, Centrum Tenisowe Sobota   \, Sobota\, Poland
CATEGORIES:Sport
END:VEVENT
BEGIN:VEVENT
DTSTART;TZID=Europe/Helsinki:20240419T100000
DTEND;TZID=Europe/Helsinki:20240831T100000
DTSTAMP:20260423T230959
CREATED:20240618T050232Z
LAST-MODIFIED:20251112T210410Z
UID:50183-1713520800-1725098400@info.mesip.pl
SUMMARY:Wystawa o czasach PRL
DESCRIPTION:
URL:https://info.mesip.pl/event/wystawa-o-czasach-prl/
LOCATION:ul. Słupska 62\, ul. Słupska 62   \, Poznań\, Poland
CATEGORIES:Kultura i sztuka
END:VEVENT
BEGIN:VEVENT
DTSTART;VALUE=DATE:20240510
DTEND;VALUE=DATE:20240527
DTSTAMP:20260423T230959
CREATED:20240521T112436Z
LAST-MODIFIED:20251112T210230Z
UID:41390-1715299200-1716767940@info.mesip.pl
SUMMARY:Pablo Picasso - wystawa
DESCRIPTION:
URL:https://info.mesip.pl/event/pablo-picasso-wystawa/
LOCATION:ul. Bramkowa 6\, ul. Bramkowa 6   \, Swarzędz\, Poland
CATEGORIES:Kultura i sztuka
END:VEVENT
BEGIN:VEVENT
DTSTART;VALUE=DATE:20240521
DTEND;VALUE=DATE:20240526
DTSTAMP:20260423T230959
CREATED:20240522T050152Z
LAST-MODIFIED:20251112T210244Z
UID:41691-1716249600-1716681540@info.mesip.pl
SUMMARY:Festiwal Fabuły
DESCRIPTION:
URL:https://info.mesip.pl/event/festiwal-fabuly/
LOCATION:ul. Św. Marcin 80/82\, ul. Św. Marcin 80/82   \, Poznań\, Poland
CATEGORIES:Kultura i sztuka
END:VEVENT
BEGIN:VEVENT
DTSTART;TZID=Europe/Helsinki:20240524T000000
DTEND;TZID=Europe/Helsinki:20240526T000000
DTSTAMP:20260423T230959
CREATED:20240510T050132Z
LAST-MODIFIED:20251112T210215Z
UID:40673-1716508800-1716681600@info.mesip.pl
SUMMARY:Dni Gminy Czerwonak
DESCRIPTION:Dni Gminy Czerwonak
URL:https://info.mesip.pl/event/dni-gminy-czerwonak/
LOCATION:ul. Portowa 1\, ul. Portowa 1   \, Czerwonak\, Poland
CATEGORIES:Rozrywka
END:VEVENT
BEGIN:VEVENT
DTSTART;TZID=Europe/Helsinki:20240524T093000
DTEND;TZID=Europe/Helsinki:20240524T093000
DTSTAMP:20260423T230959
CREATED:20240524T050157Z
LAST-MODIFIED:20251112T210259Z
UID:42224-1716543000-1716543000@info.mesip.pl
SUMMARY:Teatr Atofri w Starym Barze
DESCRIPTION:Spotkanie z Okazji Dnia Dziecka Teatr Atofri w Starym Barze
URL:https://info.mesip.pl/event/teatr-atofri-w-starym-barze/
LOCATION:ul. Poznańska 11\, ul. Poznańska 11   \, Chludowo\, Poland
CATEGORIES:Kultura i sztuka
END:VEVENT
BEGIN:VEVENT
DTSTART;TZID=Europe/Helsinki:20240524T170000
DTEND;TZID=Europe/Helsinki:20240524T170000
DTSTAMP:20260423T230959
CREATED:20240510T050132Z
LAST-MODIFIED:20251112T210216Z
UID:40676-1716570000-1716570000@info.mesip.pl
SUMMARY:Piknik czytelniczy
DESCRIPTION:
URL:https://info.mesip.pl/event/piknik-czytelniczy/
LOCATION:ul. Strzelecka\, ul. Strzelecka   \, Swarzędz\, Poland
CATEGORIES:Edukacja
END:VEVENT
END:VCALENDAR