BEGIN:VCALENDAR
VERSION:2.0
PRODID:-//MeSIP - ECPv6.15.13//NONSGML v1.0//EN
CALSCALE:GREGORIAN
METHOD:PUBLISH
X-ORIGINAL-URL:https://info.mesip.pl
X-WR-CALDESC:Wydarzenia dla MeSIP
REFRESH-INTERVAL;VALUE=DURATION:PT1H
X-Robots-Tag:noindex
X-PUBLISHED-TTL:PT1H
BEGIN:VTIMEZONE
TZID:Europe/Helsinki
BEGIN:DAYLIGHT
TZOFFSETFROM:+0200
TZOFFSETTO:+0300
TZNAME:EEST
DTSTART:20230326T010000
END:DAYLIGHT
BEGIN:STANDARD
TZOFFSETFROM:+0300
TZOFFSETTO:+0200
TZNAME:EET
DTSTART:20231029T010000
END:STANDARD
BEGIN:DAYLIGHT
TZOFFSETFROM:+0200
TZOFFSETTO:+0300
TZNAME:EEST
DTSTART:20240331T010000
END:DAYLIGHT
BEGIN:STANDARD
TZOFFSETFROM:+0300
TZOFFSETTO:+0200
TZNAME:EET
DTSTART:20241027T010000
END:STANDARD
BEGIN:DAYLIGHT
TZOFFSETFROM:+0200
TZOFFSETTO:+0300
TZNAME:EEST
DTSTART:20250330T010000
END:DAYLIGHT
BEGIN:STANDARD
TZOFFSETFROM:+0300
TZOFFSETTO:+0200
TZNAME:EET
DTSTART:20251026T010000
END:STANDARD
END:VTIMEZONE
BEGIN:VEVENT
DTSTART;TZID=Europe/Helsinki:20240304T000000
DTEND;TZID=Europe/Helsinki:20240630T000000
DTSTAMP:20260423T231347
CREATED:20240325T115243Z
LAST-MODIFIED:20251222T222606Z
UID:22067-1709510400-1719705600@info.mesip.pl
SUMMARY:Zajęcia na sportowo
DESCRIPTION:
URL:https://info.mesip.pl/event/zajecia-na-sportowo/
LOCATION:Centrum Tenisowe Sobota\, Centrum Tenisowe Sobota   \, Sobota\, Poland
CATEGORIES:Sport
END:VEVENT
BEGIN:VEVENT
DTSTART;TZID=Europe/Helsinki:20240419T100000
DTEND;TZID=Europe/Helsinki:20240831T100000
DTSTAMP:20260423T231347
CREATED:20240618T050232Z
LAST-MODIFIED:20251112T210410Z
UID:50183-1713520800-1725098400@info.mesip.pl
SUMMARY:Wystawa o czasach PRL
DESCRIPTION:
URL:https://info.mesip.pl/event/wystawa-o-czasach-prl/
LOCATION:ul. Słupska 62\, ul. Słupska 62   \, Poznań\, Poland
CATEGORIES:Kultura i sztuka
END:VEVENT
BEGIN:VEVENT
DTSTART;VALUE=DATE:20240510
DTEND;VALUE=DATE:20240527
DTSTAMP:20260423T231347
CREATED:20240521T112436Z
LAST-MODIFIED:20251112T210230Z
UID:41390-1715299200-1716767940@info.mesip.pl
SUMMARY:Pablo Picasso - wystawa
DESCRIPTION:
URL:https://info.mesip.pl/event/pablo-picasso-wystawa/
LOCATION:ul. Bramkowa 6\, ul. Bramkowa 6   \, Swarzędz\, Poland
CATEGORIES:Kultura i sztuka
END:VEVENT
BEGIN:VEVENT
DTSTART;VALUE=DATE:20240518
DTEND;VALUE=DATE:20240519
DTSTAMP:20260423T231347
CREATED:20240507T050206Z
LAST-MODIFIED:20251112T210205Z
UID:40030-1715990400-1716076740@info.mesip.pl
SUMMARY:Rajd Sprawni Inaczej
DESCRIPTION:
URL:https://info.mesip.pl/event/rajd-sprawni-inaczej/
LOCATION:plac Przemysława 9\,  plac Przemysława 9   \, Owińska\, Poland
CATEGORIES:Turystyka i rekreacja
END:VEVENT
BEGIN:VEVENT
DTSTART;VALUE=DATE:20240518
DTEND;VALUE=DATE:20240519
DTSTAMP:20260423T231347
CREATED:20240510T050129Z
LAST-MODIFIED:20251112T210210Z
UID:40654-1715990400-1716076740@info.mesip.pl
SUMMARY:Rajd bibliotekarza
DESCRIPTION:Promienisty Rajd Bibliotekarza
URL:https://info.mesip.pl/event/rajd-bibliotekarza/
LOCATION:Boduszewo\, Boduszewo   \, Boduszewo; gmina Murowana Goślina\, Poland
CATEGORIES:Turystyka i rekreacja
END:VEVENT
BEGIN:VEVENT
DTSTART;TZID=Europe/Helsinki:20240518T073000
DTEND;TZID=Europe/Helsinki:20240519T073000
DTSTAMP:20260423T231347
CREATED:20240510T050129Z
LAST-MODIFIED:20251112T210211Z
UID:40657-1716017400-1716103800@info.mesip.pl
SUMMARY:Solid MTB
DESCRIPTION:Czerwonacki Weekend Rowerowy – rywalizacja sportowa
URL:https://info.mesip.pl/event/solid-mtb/
LOCATION:ul. Plażowa 1\, ul. Plażowa 1   \, Owińska\, Poland
CATEGORIES:Sport
END:VEVENT
BEGIN:VEVENT
DTSTART;TZID=Europe/Helsinki:20240518T100000
DTEND;TZID=Europe/Helsinki:20240518T100000
DTSTAMP:20260423T231347
CREATED:20240510T050130Z
LAST-MODIFIED:20251112T210212Z
UID:40660-1716026400-1716026400@info.mesip.pl
SUMMARY:Swarzędzki Zlot Pojazdów Zabytkowych
DESCRIPTION:
URL:https://info.mesip.pl/event/swarzedzki-zlot-pojazdow-zabytkowych/
LOCATION:ul. Strzelecka\, ul. Strzelecka   \, Swarzędz\, Poland
CATEGORIES:Edukacja
END:VEVENT
BEGIN:VEVENT
DTSTART;TZID=Europe/Helsinki:20240518T100000
DTEND;TZID=Europe/Helsinki:20240518T100000
DTSTAMP:20260423T231347
CREATED:20240521T112433Z
LAST-MODIFIED:20251112T210224Z
UID:41367-1716026400-1716026400@info.mesip.pl
SUMMARY:Spotkanie z Disc Golfem
DESCRIPTION:
URL:https://info.mesip.pl/event/spotkanie-z-disc-golfem/
LOCATION:ul. Kościelna\, ul. Kościelna    \, Puszczykowo\, Poland
CATEGORIES:Dla dzieci
END:VEVENT
BEGIN:VEVENT
DTSTART;TZID=Europe/Helsinki:20240518T100000
DTEND;TZID=Europe/Helsinki:20240518T150000
DTSTAMP:20260423T231347
CREATED:20240521T112436Z
LAST-MODIFIED:20251112T210231Z
UID:41393-1716026400-1716044400@info.mesip.pl
SUMMARY:III Turniej Tenisa Stołowego
DESCRIPTION:III Turniej Tenisa Stołowego
URL:https://info.mesip.pl/event/iii-turniej-tenisa-stolowego/
LOCATION:Szkolna 2\, Szkolna 2   \, Biskupice\, Poland
CATEGORIES:Sport
END:VEVENT
BEGIN:VEVENT
DTSTART;TZID=Europe/Helsinki:20240518T110000
DTEND;TZID=Europe/Helsinki:20240518T110000
DTSTAMP:20260423T231347
CREATED:20240510T050130Z
LAST-MODIFIED:20251112T210212Z
UID:40663-1716030000-1716030000@info.mesip.pl
SUMMARY:Bieg Lwa
DESCRIPTION:Bieg Lwa
URL:https://info.mesip.pl/event/bieg-lwa/
LOCATION:ul. Nowa 15\, ul. Nowa 15   \, 62-080 Tarnowo Podgórne\, Poland
CATEGORIES:Sport
END:VEVENT
BEGIN:VEVENT
DTSTART;TZID=Europe/Helsinki:20240518T110000
DTEND;TZID=Europe/Helsinki:20240518T140000
DTSTAMP:20260423T231347
CREATED:20240521T112437Z
LAST-MODIFIED:20251112T210231Z
UID:41396-1716030000-1716040800@info.mesip.pl
SUMMARY:Międzynarodowy Turniej w Zapasach
DESCRIPTION:
URL:https://info.mesip.pl/event/miedzynarodowy-turniej-w-zapasach/
LOCATION:ul. Jana Heweliusza 26\, ul. Jana Heweliusza 26   \, Zalasewo\, Poland
CATEGORIES:Sport
END:VEVENT
BEGIN:VEVENT
DTSTART;TZID=Europe/Helsinki:20240518T120000
DTEND;TZID=Europe/Helsinki:20240518T160000
DTSTAMP:20260423T231347
CREATED:20240510T050130Z
LAST-MODIFIED:20251112T210213Z
UID:40666-1716033600-1716048000@info.mesip.pl
SUMMARY:Ekologiczne Integracje w Cerekwicy
DESCRIPTION:Ekologiczne Integracje w Cerekwicy
URL:https://info.mesip.pl/event/ekologiczne-integracje-w-cerekwicy/
LOCATION:ul. Przybrodzka 1\, ul. Przybrodzka 1   \, 62-090 Cerekwica\, Poland
CATEGORIES:Ekologia
END:VEVENT
BEGIN:VEVENT
DTSTART;TZID=Europe/Helsinki:20240518T140000
DTEND;TZID=Europe/Helsinki:20240518T170000
DTSTAMP:20260423T231347
CREATED:20240510T050131Z
LAST-MODIFIED:20251112T210213Z
UID:40669-1716040800-1716051600@info.mesip.pl
SUMMARY:Dzień dziecka i wyścig Hobby Horse
DESCRIPTION:Dzień dziecka i wyścig Hobby Horse
URL:https://info.mesip.pl/event/dzien-dziecka-i-wyscig-hobby-horse/
LOCATION:Park Mielżyńskich 1\, Park Mielżyńskich 1   \, Iwno\, Poland
CATEGORIES:Rozrywka
END:VEVENT
BEGIN:VEVENT
DTSTART;TZID=Europe/Helsinki:20240518T170000
DTEND;TZID=Europe/Helsinki:20240518T220000
DTSTAMP:20260423T231347
CREATED:20240521T112437Z
LAST-MODIFIED:20251112T210232Z
UID:41399-1716051600-1716069600@info.mesip.pl
SUMMARY:Noc Muzeów
DESCRIPTION:Kolejny już rok w ramach europejskiej akcji polegającej na udostępnianiu zwiedzającym muzeów\, galerii i instytucji kultury w danym dniu w godzinach nocnych Swarzędzkie Centrum Historii\ni Sztuki zaprasza wszystkich zainteresowanych w sobotę 18 maja w godz. 17:00-22:00. Jedną z atrakcji będą dwa seanse filmowe Krzysztofa Chomicza o przyrodzie obszaru Wielkopolski.\nSerdecznie zapraszamy!
URL:https://info.mesip.pl/event/noc-muzeow/
LOCATION:   \, Poland
CATEGORIES:Kultura i sztuka
END:VEVENT
END:VCALENDAR