BEGIN:VCALENDAR
VERSION:2.0
PRODID:-//MeSIP - ECPv6.15.13//NONSGML v1.0//EN
CALSCALE:GREGORIAN
METHOD:PUBLISH
X-WR-CALNAME:MeSIP
X-ORIGINAL-URL:https://info.mesip.pl
X-WR-CALDESC:Wydarzenia dla MeSIP
REFRESH-INTERVAL;VALUE=DURATION:PT1H
X-Robots-Tag:noindex
X-PUBLISHED-TTL:PT1H
BEGIN:VTIMEZONE
TZID:Europe/Helsinki
BEGIN:DAYLIGHT
TZOFFSETFROM:+0200
TZOFFSETTO:+0300
TZNAME:EEST
DTSTART:20220327T010000
END:DAYLIGHT
BEGIN:STANDARD
TZOFFSETFROM:+0300
TZOFFSETTO:+0200
TZNAME:EET
DTSTART:20221030T010000
END:STANDARD
BEGIN:DAYLIGHT
TZOFFSETFROM:+0200
TZOFFSETTO:+0300
TZNAME:EEST
DTSTART:20230326T010000
END:DAYLIGHT
BEGIN:STANDARD
TZOFFSETFROM:+0300
TZOFFSETTO:+0200
TZNAME:EET
DTSTART:20231029T010000
END:STANDARD
BEGIN:DAYLIGHT
TZOFFSETFROM:+0200
TZOFFSETTO:+0300
TZNAME:EEST
DTSTART:20240331T010000
END:DAYLIGHT
BEGIN:STANDARD
TZOFFSETFROM:+0300
TZOFFSETTO:+0200
TZNAME:EET
DTSTART:20241027T010000
END:STANDARD
BEGIN:DAYLIGHT
TZOFFSETFROM:+0200
TZOFFSETTO:+0300
TZNAME:EEST
DTSTART:20250330T010000
END:DAYLIGHT
BEGIN:STANDARD
TZOFFSETFROM:+0300
TZOFFSETTO:+0200
TZNAME:EET
DTSTART:20251026T010000
END:STANDARD
END:VTIMEZONE
BEGIN:VEVENT
DTSTART;TZID=Europe/Helsinki:20231107T101500
DTEND;TZID=Europe/Helsinki:20240430T101500
DTSTAMP:20260424T020404
CREATED:20240112T072618Z
LAST-MODIFIED:20251222T222304Z
UID:19084-1699352100-1714472100@info.mesip.pl
SUMMARY:Wystawa - Nigdy Wojny
DESCRIPTION:Muzeum Martyrologiczne w Żabikowie zaprasza na nową wystawę oraz wydarzenia towarzyszące
URL:https://info.mesip.pl/event/wystawa-nigdy-wojny/
LOCATION:ul. Niezłomnych 2\, ul. Niezłomnych 2   \, Luboń\, Poland
CATEGORIES:Społeczne
END:VEVENT
BEGIN:VEVENT
DTSTART;TZID=Europe/Helsinki:20240229T170000
DTEND;TZID=Europe/Helsinki:20240229T190000
DTSTAMP:20260424T020404
CREATED:20240325T081121Z
LAST-MODIFIED:20251222T222530Z
UID:21034-1709226000-1709233200@info.mesip.pl
SUMMARY:II Targi Edukacyjne w Buku
DESCRIPTION:II Targi Edukacyjne w gminie Buk
URL:https://info.mesip.pl/event/ii-targi-edukacyjne-w-buku/
LOCATION:ul. Szkolna 12\, ul. Szkolna 12   \, Buk\, Poland
CATEGORIES:Edukacja
END:VEVENT
BEGIN:VEVENT
DTSTART;TZID=Europe/Helsinki:20240229T180000
DTEND;TZID=Europe/Helsinki:20240229T180000
DTSTAMP:20260424T020404
CREATED:20240325T081100Z
LAST-MODIFIED:20251222T222514Z
UID:20975-1709229600-1709229600@info.mesip.pl
SUMMARY:Marszobieg Przestępny
DESCRIPTION:
URL:https://info.mesip.pl/event/marszobieg-przestepny/
LOCATION:ul. Mściszewska 10\, ul. Mściszewska 10   \, Murowana Goślina\, Poland
CATEGORIES:Sport
END:VEVENT
BEGIN:VEVENT
DTSTART;TZID=Europe/Helsinki:20240229T180000
DTEND;TZID=Europe/Helsinki:20240229T180000
DTSTAMP:20260424T020404
CREATED:20240325T081121Z
LAST-MODIFIED:20251222T222530Z
UID:21037-1709229600-1709229600@info.mesip.pl
SUMMARY:Spotkanie autorskie Ryszard Krawiec
DESCRIPTION:
URL:https://info.mesip.pl/event/spotkanie-autorskie-ryszard-krawiec/
LOCATION:Rynek 15\, Rynek 15   \, Puszczykowo\, Poland
CATEGORIES:Kultura i sztuka
END:VEVENT
END:VCALENDAR