BEGIN:VCALENDAR
VERSION:2.0
PRODID:-//MeSIP - ECPv6.15.13//NONSGML v1.0//EN
CALSCALE:GREGORIAN
METHOD:PUBLISH
X-ORIGINAL-URL:https://info.mesip.pl
X-WR-CALDESC:Wydarzenia dla MeSIP
REFRESH-INTERVAL;VALUE=DURATION:PT1H
X-Robots-Tag:noindex
X-PUBLISHED-TTL:PT1H
BEGIN:VTIMEZONE
TZID:Europe/Helsinki
BEGIN:DAYLIGHT
TZOFFSETFROM:+0200
TZOFFSETTO:+0300
TZNAME:EEST
DTSTART:20220327T010000
END:DAYLIGHT
BEGIN:STANDARD
TZOFFSETFROM:+0300
TZOFFSETTO:+0200
TZNAME:EET
DTSTART:20221030T010000
END:STANDARD
BEGIN:DAYLIGHT
TZOFFSETFROM:+0200
TZOFFSETTO:+0300
TZNAME:EEST
DTSTART:20230326T010000
END:DAYLIGHT
BEGIN:STANDARD
TZOFFSETFROM:+0300
TZOFFSETTO:+0200
TZNAME:EET
DTSTART:20231029T010000
END:STANDARD
BEGIN:DAYLIGHT
TZOFFSETFROM:+0200
TZOFFSETTO:+0300
TZNAME:EEST
DTSTART:20240331T010000
END:DAYLIGHT
BEGIN:STANDARD
TZOFFSETFROM:+0300
TZOFFSETTO:+0200
TZNAME:EET
DTSTART:20241027T010000
END:STANDARD
BEGIN:DAYLIGHT
TZOFFSETFROM:+0200
TZOFFSETTO:+0300
TZNAME:EEST
DTSTART:20250330T010000
END:DAYLIGHT
BEGIN:STANDARD
TZOFFSETFROM:+0300
TZOFFSETTO:+0200
TZNAME:EET
DTSTART:20251026T010000
END:STANDARD
END:VTIMEZONE
BEGIN:VEVENT
DTSTART;TZID=Europe/Helsinki:20231107T101500
DTEND;TZID=Europe/Helsinki:20240430T101500
DTSTAMP:20260424T033748
CREATED:20240112T072618Z
LAST-MODIFIED:20251222T222304Z
UID:19084-1699352100-1714472100@info.mesip.pl
SUMMARY:Wystawa - Nigdy Wojny
DESCRIPTION:Muzeum Martyrologiczne w Żabikowie zaprasza na nową wystawę oraz wydarzenia towarzyszące
URL:https://info.mesip.pl/event/wystawa-nigdy-wojny/
LOCATION:ul. Niezłomnych 2\, ul. Niezłomnych 2   \, Luboń\, Poland
CATEGORIES:Społeczne
END:VEVENT
BEGIN:VEVENT
DTSTART;TZID=Europe/Helsinki:20240212T000000
DTEND;TZID=Europe/Helsinki:20240223T000000
DTSTAMP:20260424T033748
CREATED:20240325T081032Z
LAST-MODIFIED:20251222T222449Z
UID:20873-1707696000-1708646400@info.mesip.pl
SUMMARY:Ferie Zimowe - gmina Czerwonak
DESCRIPTION:
URL:https://info.mesip.pl/event/ferie-zimowe-gmina-czerwonak/
LOCATION:ul. Gdyńska 47\, ul. Gdyńska 47   \, Czerwonak\, Poland
CATEGORIES:Dla dzieci
END:VEVENT
BEGIN:VEVENT
DTSTART;TZID=Europe/Helsinki:20240212T080000
DTEND;TZID=Europe/Helsinki:20240223T160000
DTSTAMP:20260424T033748
CREATED:20240325T081033Z
LAST-MODIFIED:20251222T222450Z
UID:20876-1707724800-1708704000@info.mesip.pl
SUMMARY:Ferie Zimowe - gmina Komorniki
DESCRIPTION:
URL:https://info.mesip.pl/event/ferie-zimowe-gmina-komorniki/
LOCATION:ul. Stawna 7/11\, ul. Stawna 7/11   \, Komorniki\, Poland
CATEGORIES:Dla dzieci
END:VEVENT
BEGIN:VEVENT
DTSTART;TZID=Europe/Helsinki:20240212T084500
DTEND;TZID=Europe/Helsinki:20240223T190000
DTSTAMP:20260424T033748
CREATED:20240325T081034Z
LAST-MODIFIED:20251222T222451Z
UID:20882-1707727500-1708714800@info.mesip.pl
SUMMARY:Ferie Zimowe - gmina Mosina
DESCRIPTION:
URL:https://info.mesip.pl/event/ferie-zimowe-gmina-mosina/
LOCATION:Dworcowa 4\,  Dworcowa 4   \, Mosina\, Poland
CATEGORIES:Dla dzieci
END:VEVENT
BEGIN:VEVENT
DTSTART;TZID=Europe/Helsinki:20240212T100000
DTEND;TZID=Europe/Helsinki:20240223T140000
DTSTAMP:20260424T033748
CREATED:20240325T081034Z
LAST-MODIFIED:20251222T222452Z
UID:20885-1707732000-1708696800@info.mesip.pl
SUMMARY:Ferie Zimowe - gmina Kórnik
DESCRIPTION:
URL:https://info.mesip.pl/event/ferie-zimowe-gmina-kornik/
LOCATION:ul. Prowent 6\, ul. Prowent 6   \, Kórnik\, Poland
CATEGORIES:Dla dzieci
END:VEVENT
BEGIN:VEVENT
DTSTART;TZID=Europe/Helsinki:20240219T000000
DTEND;TZID=Europe/Helsinki:20240223T000000
DTSTAMP:20260424T033748
CREATED:20240325T081036Z
LAST-MODIFIED:20251222T222453Z
UID:20891-1708300800-1708646400@info.mesip.pl
SUMMARY:Ferie Zimowe - gmina Dopiewo
DESCRIPTION:
URL:https://info.mesip.pl/event/ferie-zimowe-gmina-dopiewo/
LOCATION:ul. Poznańska 70\, ul. Poznańska 70   \, 60-185 Skórzewo\, Poland
CATEGORIES:Dla dzieci
END:VEVENT
BEGIN:VEVENT
DTSTART;TZID=Europe/Helsinki:20240219T000000
DTEND;TZID=Europe/Helsinki:20240225T000000
DTSTAMP:20260424T033748
CREATED:20240206T112618Z
LAST-MODIFIED:20251222T222424Z
UID:20363-1708300800-1708819200@info.mesip.pl
SUMMARY:Ferie w Szreniawie
DESCRIPTION:
URL:https://info.mesip.pl/event/ferie-w-szreniawie/
LOCATION:ul. Dworcowa 5\, ul. Dworcowa 5   \, Szreniawa\, Poland
CATEGORIES:Społeczne
END:VEVENT
BEGIN:VEVENT
DTSTART;TZID=Europe/Helsinki:20240219T100000
DTEND;TZID=Europe/Helsinki:20240220T130000
DTSTAMP:20260424T033748
CREATED:20240325T081037Z
LAST-MODIFIED:20251222T222454Z
UID:20897-1708336800-1708434000@info.mesip.pl
SUMMARY:Ferie Zimowe Buk - warsztaty
DESCRIPTION:
URL:https://info.mesip.pl/event/ferie-zimowe-buk-warsztaty/
LOCATION:ul. Dobieżyńska 27\, ul. Dobieżyńska 27   \, Buk\, Poland
CATEGORIES:Kultura i sztuka
END:VEVENT
BEGIN:VEVENT
DTSTART;TZID=Europe/Helsinki:20240219T100000
DTEND;TZID=Europe/Helsinki:20240223T130000
DTSTAMP:20260424T033748
CREATED:20240325T081036Z
LAST-MODIFIED:20251222T222454Z
UID:20894-1708336800-1708693200@info.mesip.pl
SUMMARY:Ferie Zimowe - gmina Kostrzyn
DESCRIPTION:
URL:https://info.mesip.pl/event/ferie-zimowe-gmina-kostrzyn/
LOCATION:ul. Poznańska 33\, ul. Poznańska 33   \, Kostrzyn\, Poland
CATEGORIES:Dla dzieci
END:VEVENT
BEGIN:VEVENT
DTSTART;TZID=Europe/Helsinki:20240220T100000
DTEND;TZID=Europe/Helsinki:20240220T120000
DTSTAMP:20260424T033748
CREATED:20240325T081052Z
LAST-MODIFIED:20251222T222502Z
UID:20934-1708423200-1708430400@info.mesip.pl
SUMMARY:Ferie w Bibliotece Tarnowo Podgórne
DESCRIPTION:Ferie w Bibliotece Tarnowo Podgórne
URL:https://info.mesip.pl/event/ferie-w-bibliotece-tarnowo-podgorne/
LOCATION:ul. Ogrodowa\, ul. Ogrodowa   \, 62-080 Tarnowo Podgórne\, Poland
CATEGORIES:Rozrywka
END:VEVENT
BEGIN:VEVENT
DTSTART;TZID=Europe/Helsinki:20240220T170000
DTEND;TZID=Europe/Helsinki:20240220T170000
DTSTAMP:20260424T033748
CREATED:20240325T081055Z
LAST-MODIFIED:20251222T222503Z
UID:20951-1708448400-1708448400@info.mesip.pl
SUMMARY:Kostrzyńskie spotkania z kulturą
DESCRIPTION:W DRODZE NA SZCZYT\, NATURA UCZY POKORY
URL:https://info.mesip.pl/event/kostrzynskie-spotkania-z-kultura/
LOCATION:ul. Rynek 9\, ul. Rynek 9   \, Kostrzyn Wielkopolski\, Poland
CATEGORIES:Edukacja
END:VEVENT
END:VCALENDAR