BEGIN:VCALENDAR
VERSION:2.0
PRODID:-//MeSIP - ECPv6.15.13//NONSGML v1.0//EN
CALSCALE:GREGORIAN
METHOD:PUBLISH
X-WR-CALNAME:MeSIP
X-ORIGINAL-URL:https://info.mesip.pl
X-WR-CALDESC:Wydarzenia dla MeSIP
REFRESH-INTERVAL;VALUE=DURATION:PT1H
X-Robots-Tag:noindex
X-PUBLISHED-TTL:PT1H
BEGIN:VTIMEZONE
TZID:Europe/Helsinki
BEGIN:DAYLIGHT
TZOFFSETFROM:+0200
TZOFFSETTO:+0300
TZNAME:EEST
DTSTART:20220327T010000
END:DAYLIGHT
BEGIN:STANDARD
TZOFFSETFROM:+0300
TZOFFSETTO:+0200
TZNAME:EET
DTSTART:20221030T010000
END:STANDARD
BEGIN:DAYLIGHT
TZOFFSETFROM:+0200
TZOFFSETTO:+0300
TZNAME:EEST
DTSTART:20230326T010000
END:DAYLIGHT
BEGIN:STANDARD
TZOFFSETFROM:+0300
TZOFFSETTO:+0200
TZNAME:EET
DTSTART:20231029T010000
END:STANDARD
BEGIN:DAYLIGHT
TZOFFSETFROM:+0200
TZOFFSETTO:+0300
TZNAME:EEST
DTSTART:20240331T010000
END:DAYLIGHT
BEGIN:STANDARD
TZOFFSETFROM:+0300
TZOFFSETTO:+0200
TZNAME:EET
DTSTART:20241027T010000
END:STANDARD
BEGIN:DAYLIGHT
TZOFFSETFROM:+0200
TZOFFSETTO:+0300
TZNAME:EEST
DTSTART:20250330T010000
END:DAYLIGHT
BEGIN:STANDARD
TZOFFSETFROM:+0300
TZOFFSETTO:+0200
TZNAME:EET
DTSTART:20251026T010000
END:STANDARD
END:VTIMEZONE
BEGIN:VEVENT
DTSTART;TZID=Europe/Helsinki:20231107T101500
DTEND;TZID=Europe/Helsinki:20240430T101500
DTSTAMP:20260424T033447
CREATED:20240112T072618Z
LAST-MODIFIED:20251222T222304Z
UID:19084-1699352100-1714472100@info.mesip.pl
SUMMARY:Wystawa - Nigdy Wojny
DESCRIPTION:Muzeum Martyrologiczne w Żabikowie zaprasza na nową wystawę oraz wydarzenia towarzyszące
URL:https://info.mesip.pl/event/wystawa-nigdy-wojny/
LOCATION:ul. Niezłomnych 2\, ul. Niezłomnych 2   \, Luboń\, Poland
CATEGORIES:Społeczne
END:VEVENT
BEGIN:VEVENT
DTSTART;TZID=Europe/Helsinki:20240204T100000
DTEND;TZID=Europe/Helsinki:20240204T160000
DTSTAMP:20260424T033447
CREATED:20240206T112632Z
LAST-MODIFIED:20251222T222430Z
UID:20373-1707040800-1707062400@info.mesip.pl
SUMMARY:Champion Cup Futsal Oldboys
DESCRIPTION:Champion Cup Futsal Oldboys
URL:https://info.mesip.pl/event/champion-cup-futsal-oldboys/
LOCATION:Szamotulska 29\, Szamotulska 29   \,  Rokietnica\, Poland
CATEGORIES:Sport
END:VEVENT
BEGIN:VEVENT
DTSTART;TZID=Europe/Helsinki:20240204T160000
DTEND;TZID=Europe/Helsinki:20240204T160000
DTSTAMP:20260424T033447
CREATED:20240206T112701Z
LAST-MODIFIED:20251222T222444Z
UID:20394-1707062400-1707062400@info.mesip.pl
SUMMARY:Koncert z okazji Jubileuszu 125-lecia Orkiestry Dętej OSP
DESCRIPTION:
URL:https://info.mesip.pl/event/koncert-z-okazji-jubileuszu-125-lecia-orkiestry-detej-osp/
LOCATION:ul. Mściszewska 10\, ul. Mściszewska 10   \, Murowana Goślina\, Poland
CATEGORIES:Uroczystości
END:VEVENT
BEGIN:VEVENT
DTSTART;TZID=Europe/Helsinki:20240204T170000
DTEND;TZID=Europe/Helsinki:20240204T170000
DTSTAMP:20260424T033447
CREATED:20240206T112632Z
LAST-MODIFIED:20251222T222431Z
UID:20376-1707066000-1707066000@info.mesip.pl
SUMMARY:Koncert Karnawałowy
DESCRIPTION:
URL:https://info.mesip.pl/event/koncert-karnawalowy/
LOCATION:ul. Świętego Marcina 1\, ul. Świętego Marcina 1   \, Swarzędz\, Poland
CATEGORIES:Rozrywka
END:VEVENT
END:VCALENDAR