BEGIN:VCALENDAR
VERSION:2.0
PRODID:-//MeSIP - ECPv6.15.13//NONSGML v1.0//EN
CALSCALE:GREGORIAN
METHOD:PUBLISH
X-WR-CALNAME:MeSIP
X-ORIGINAL-URL:https://info.mesip.pl
X-WR-CALDESC:Wydarzenia dla MeSIP
REFRESH-INTERVAL;VALUE=DURATION:PT1H
X-Robots-Tag:noindex
X-PUBLISHED-TTL:PT1H
BEGIN:VTIMEZONE
TZID:Europe/Helsinki
BEGIN:DAYLIGHT
TZOFFSETFROM:+0200
TZOFFSETTO:+0300
TZNAME:EEST
DTSTART:20220327T010000
END:DAYLIGHT
BEGIN:STANDARD
TZOFFSETFROM:+0300
TZOFFSETTO:+0200
TZNAME:EET
DTSTART:20221030T010000
END:STANDARD
BEGIN:DAYLIGHT
TZOFFSETFROM:+0200
TZOFFSETTO:+0300
TZNAME:EEST
DTSTART:20230326T010000
END:DAYLIGHT
BEGIN:STANDARD
TZOFFSETFROM:+0300
TZOFFSETTO:+0200
TZNAME:EET
DTSTART:20231029T010000
END:STANDARD
BEGIN:DAYLIGHT
TZOFFSETFROM:+0200
TZOFFSETTO:+0300
TZNAME:EEST
DTSTART:20240331T010000
END:DAYLIGHT
BEGIN:STANDARD
TZOFFSETFROM:+0300
TZOFFSETTO:+0200
TZNAME:EET
DTSTART:20241027T010000
END:STANDARD
BEGIN:DAYLIGHT
TZOFFSETFROM:+0200
TZOFFSETTO:+0300
TZNAME:EEST
DTSTART:20250330T010000
END:DAYLIGHT
BEGIN:STANDARD
TZOFFSETFROM:+0300
TZOFFSETTO:+0200
TZNAME:EET
DTSTART:20251026T010000
END:STANDARD
END:VTIMEZONE
BEGIN:VEVENT
DTSTART;VALUE=DATE:20231028
DTEND;VALUE=DATE:20240101
DTSTAMP:20260424T065329
CREATED:20240112T072618Z
LAST-MODIFIED:20240502T050016Z
UID:19081-1698451200-1704067140@info.mesip.pl
SUMMARY:Rogalin - wystawa
DESCRIPTION:
URL:https://info.mesip.pl/event/rogalin-wystawa/
LOCATION:Plac Parkowy 1\, Plac Parkowy 1   \, Skrzynki\, gm. Stęszew\, Poland
CATEGORIES:Kultura i sztuka
END:VEVENT
BEGIN:VEVENT
DTSTART;TZID=Europe/Helsinki:20231107T101500
DTEND;TZID=Europe/Helsinki:20240430T101500
DTSTAMP:20260424T065329
CREATED:20240112T072618Z
LAST-MODIFIED:20251222T222304Z
UID:19084-1699352100-1714472100@info.mesip.pl
SUMMARY:Wystawa - Nigdy Wojny
DESCRIPTION:Muzeum Martyrologiczne w Żabikowie zaprasza na nową wystawę oraz wydarzenia towarzyszące
URL:https://info.mesip.pl/event/wystawa-nigdy-wojny/
LOCATION:ul. Niezłomnych 2\, ul. Niezłomnych 2   \, Luboń\, Poland
CATEGORIES:Społeczne
END:VEVENT
BEGIN:VEVENT
DTSTART;VALUE=DATE:20231118
DTEND;VALUE=DATE:20231223
DTSTAMP:20260424T065329
CREATED:20240112T072646Z
LAST-MODIFIED:20240502T050020Z
UID:19103-1700265600-1703289540@info.mesip.pl
SUMMARY:Jarmark Świąteczny
DESCRIPTION:
URL:https://info.mesip.pl/event/jarmark-swiateczny/
LOCATION:ul. Głogowska 14\, ul. Głogowska 14   \, Poznań\, Poland
CATEGORIES:Rozrywka
END:VEVENT
BEGIN:VEVENT
DTSTART;TZID=Europe/Helsinki:20231127T090000
DTEND;TZID=Europe/Helsinki:20240131T150000
DTSTAMP:20260424T065329
CREATED:20240112T141439Z
LAST-MODIFIED:20251222T222305Z
UID:19600-1701075600-1706713200@info.mesip.pl
SUMMARY:Wystawa z okazji 105 Rocznicy Wybuchu Powstania Wielkopolskiego
DESCRIPTION:Wystawa z okazji 105 Rocznicy Wybuchu Powstania Wielkopolskiego
URL:https://info.mesip.pl/event/wystawa-z-okazji-105-rocznicy-wybuchu-powstania-wielkopolskiego/
LOCATION:Ratusz w Bninie\, Ratusz w Bninie   \, Kórnik\, Poland
CATEGORIES:Kultura i sztuka
END:VEVENT
BEGIN:VEVENT
DTSTART;TZID=Europe/Helsinki:20231206T173000
DTEND;TZID=Europe/Helsinki:20240105T173000
DTSTAMP:20260424T065329
CREATED:20240112T141741Z
LAST-MODIFIED:20251222T222312Z
UID:19845-1701883800-1704475800@info.mesip.pl
SUMMARY:„Zanim czas zatrze ślady. Owińska” – wystawa
DESCRIPTION:„Zanim czas zatrze ślady. Owińska” – wystawa
URL:https://info.mesip.pl/event/zanim-czas-zatrze-slady-owinska-wystawa/
LOCATION:ul.  Piłsudskiego 3\, ul.  Piłsudskiego 3   \, Koziegłowy\, Poland
CATEGORIES:Kultura i sztuka
END:VEVENT
BEGIN:VEVENT
DTSTART;TZID=Europe/Helsinki:20231207T080000
DTEND;TZID=Europe/Helsinki:20231210T220000
DTSTAMP:20260424T065329
CREATED:20240112T141540Z
LAST-MODIFIED:20240502T050108Z
UID:19742-1701936000-1702245600@info.mesip.pl
SUMMARY:CAVALIADA
DESCRIPTION:
URL:https://info.mesip.pl/event/cavaliada/
LOCATION:ul. Głogowska 14\, ul. Głogowska 14   \, Poznań\, Poland
CATEGORIES:Sport
END:VEVENT
BEGIN:VEVENT
DTSTART;TZID=Europe/Helsinki:20231208T160000
DTEND;TZID=Europe/Helsinki:20231208T160000
DTSTAMP:20260424T065329
CREATED:20240112T141750Z
LAST-MODIFIED:20240502T050136Z
UID:19896-1702051200-1702051200@info.mesip.pl
SUMMARY:Mikołajki w Żydowie
DESCRIPTION:Mikołajki w Żydowie
URL:https://info.mesip.pl/event/mikolajki-w-zydowie/
LOCATION:Świetlica wiejska w Żydowie\, Świetlica wiejska w Żydowie   \, Żydowo\, Poland
CATEGORIES:Kultura i sztuka
END:VEVENT
BEGIN:VEVENT
DTSTART;TZID=Europe/Helsinki:20231208T163000
DTEND;TZID=Europe/Helsinki:20231208T183000
DTSTAMP:20260424T065329
CREATED:20240112T141742Z
LAST-MODIFIED:20240502T050130Z
UID:19848-1702053000-1702060200@info.mesip.pl
SUMMARY:Mikołajki dla dzieci w Rosnówku
DESCRIPTION:Mikołajki dla dzieci
URL:https://info.mesip.pl/event/mikolajki-dla-dzieci-w-rosnowku/
LOCATION:ul. 1 Maja 50\, ul. 1 Maja 50   \, Rosnówko\, Poland
CATEGORIES:Kultura i sztuka
END:VEVENT
BEGIN:VEVENT
DTSTART;TZID=Europe/Helsinki:20231208T170000
DTEND;TZID=Europe/Helsinki:20231208T170000
DTSTAMP:20260424T065329
CREATED:20240112T141742Z
LAST-MODIFIED:20240502T050131Z
UID:19851-1702054800-1702054800@info.mesip.pl
SUMMARY:“Błyskławica” – spektakl dla dzieci
DESCRIPTION:“Błyskławica” – spektakl dla dzieci Teatru Gili Gili
URL:https://info.mesip.pl/event/blysklawica-spektakl-dla-dzieci/
LOCATION:ul.  Piłsudskiego 3\, ul.  Piłsudskiego 3   \, Koziegłowy\, Poland
CATEGORIES:Kultura i sztuka
END:VEVENT
BEGIN:VEVENT
DTSTART;TZID=Europe/Helsinki:20231208T170000
DTEND;TZID=Europe/Helsinki:20231208T170000
DTSTAMP:20260424T065329
CREATED:20240112T141748Z
LAST-MODIFIED:20240502T050134Z
UID:19884-1702054800-1702054800@info.mesip.pl
SUMMARY:Spotkanie autorskie w Swarzędzu
DESCRIPTION:
URL:https://info.mesip.pl/event/spotkanie-autorskie-w-swarzedzu/
LOCATION:os. Czwartaków 1\, os. Czwartaków 1   \, Swarzędz\, Poland
CATEGORIES:Kultura i sztuka
END:VEVENT
BEGIN:VEVENT
DTSTART;TZID=Europe/Helsinki:20231208T180000
DTEND;TZID=Europe/Helsinki:20231208T180000
DTSTAMP:20260424T065329
CREATED:20240112T141540Z
LAST-MODIFIED:20240502T050108Z
UID:19745-1702058400-1702058400@info.mesip.pl
SUMMARY:Warsztaty stroików świątecznych
DESCRIPTION:Warsztaty stroików świątecznych
URL:https://info.mesip.pl/event/warsztaty-stroikow-swiatecznych/
LOCATION:ul. Jana III Sobieskiego 97\, ul. Jana III Sobieskiego 97   \, Luboń\, Poland
CATEGORIES:Edukacja
END:VEVENT
END:VCALENDAR