BEGIN:VCALENDAR
VERSION:2.0
PRODID:-//MeSIP - ECPv6.15.13//NONSGML v1.0//EN
CALSCALE:GREGORIAN
METHOD:PUBLISH
X-WR-CALNAME:MeSIP
X-ORIGINAL-URL:https://info.mesip.pl
X-WR-CALDESC:Wydarzenia dla MeSIP
REFRESH-INTERVAL;VALUE=DURATION:PT1H
X-Robots-Tag:noindex
X-PUBLISHED-TTL:PT1H
BEGIN:VTIMEZONE
TZID:Europe/Helsinki
BEGIN:DAYLIGHT
TZOFFSETFROM:+0200
TZOFFSETTO:+0300
TZNAME:EEST
DTSTART:20220327T010000
END:DAYLIGHT
BEGIN:STANDARD
TZOFFSETFROM:+0300
TZOFFSETTO:+0200
TZNAME:EET
DTSTART:20221030T010000
END:STANDARD
BEGIN:DAYLIGHT
TZOFFSETFROM:+0200
TZOFFSETTO:+0300
TZNAME:EEST
DTSTART:20230326T010000
END:DAYLIGHT
BEGIN:STANDARD
TZOFFSETFROM:+0300
TZOFFSETTO:+0200
TZNAME:EET
DTSTART:20231029T010000
END:STANDARD
BEGIN:DAYLIGHT
TZOFFSETFROM:+0200
TZOFFSETTO:+0300
TZNAME:EEST
DTSTART:20240331T010000
END:DAYLIGHT
BEGIN:STANDARD
TZOFFSETFROM:+0300
TZOFFSETTO:+0200
TZNAME:EET
DTSTART:20241027T010000
END:STANDARD
BEGIN:DAYLIGHT
TZOFFSETFROM:+0200
TZOFFSETTO:+0300
TZNAME:EEST
DTSTART:20250330T010000
END:DAYLIGHT
BEGIN:STANDARD
TZOFFSETFROM:+0300
TZOFFSETTO:+0200
TZNAME:EET
DTSTART:20251026T010000
END:STANDARD
END:VTIMEZONE
BEGIN:VEVENT
DTSTART;VALUE=DATE:20231028
DTEND;VALUE=DATE:20240101
DTSTAMP:20260424T084350
CREATED:20240112T072618Z
LAST-MODIFIED:20240502T050016Z
UID:19081-1698451200-1704067140@info.mesip.pl
SUMMARY:Rogalin - wystawa
DESCRIPTION:
URL:https://info.mesip.pl/event/rogalin-wystawa/
LOCATION:Plac Parkowy 1\, Plac Parkowy 1   \, Skrzynki\, gm. Stęszew\, Poland
CATEGORIES:Kultura i sztuka
END:VEVENT
BEGIN:VEVENT
DTSTART;TZID=Europe/Helsinki:20231106T080000
DTEND;TZID=Europe/Helsinki:20231130T080000
DTSTAMP:20260424T084350
CREATED:20240112T141516Z
LAST-MODIFIED:20240502T050054Z
UID:19670-1699257600-1701331200@info.mesip.pl
SUMMARY:Ludzie – pytania – prawda - wystawa
DESCRIPTION:Wystawa obrazów i wierszy „Ludzie – pytania – prawda”
URL:https://info.mesip.pl/event/ludzie-pytania-prawda-wystawa/
LOCATION:ul. Mściszewska 10\, ul. Mściszewska 10   \, Murowana Goślina\, Poland
CATEGORIES:Kultura i sztuka
END:VEVENT
BEGIN:VEVENT
DTSTART;TZID=Europe/Helsinki:20231107T101500
DTEND;TZID=Europe/Helsinki:20240430T101500
DTSTAMP:20260424T084350
CREATED:20240112T072618Z
LAST-MODIFIED:20251222T222304Z
UID:19084-1699352100-1714472100@info.mesip.pl
SUMMARY:Wystawa - Nigdy Wojny
DESCRIPTION:Muzeum Martyrologiczne w Żabikowie zaprasza na nową wystawę oraz wydarzenia towarzyszące
URL:https://info.mesip.pl/event/wystawa-nigdy-wojny/
LOCATION:ul. Niezłomnych 2\, ul. Niezłomnych 2   \, Luboń\, Poland
CATEGORIES:Społeczne
END:VEVENT
BEGIN:VEVENT
DTSTART;TZID=Europe/Helsinki:20231108T173000
DTEND;TZID=Europe/Helsinki:20231129T173000
DTSTAMP:20260424T084350
CREATED:20240112T141517Z
LAST-MODIFIED:20240502T050055Z
UID:19673-1699464600-1701279000@info.mesip.pl
SUMMARY:Jakub Malinowski - wystawa w Mosinie
DESCRIPTION:
URL:https://info.mesip.pl/event/jakub-malinowski-wystawa-w-mosinie/
LOCATION:ul. Niezłomnych 1\, ul. Niezłomnych 1   \, Mosina\, Poland
CATEGORIES:Kultura i sztuka
END:VEVENT
BEGIN:VEVENT
DTSTART;VALUE=DATE:20231118
DTEND;VALUE=DATE:20231223
DTSTAMP:20260424T084350
CREATED:20240112T072646Z
LAST-MODIFIED:20240502T050020Z
UID:19103-1700265600-1703289540@info.mesip.pl
SUMMARY:Jarmark Świąteczny
DESCRIPTION:
URL:https://info.mesip.pl/event/jarmark-swiateczny/
LOCATION:ul. Głogowska 14\, ul. Głogowska 14   \, Poznań\, Poland
CATEGORIES:Rozrywka
END:VEVENT
BEGIN:VEVENT
DTSTART;TZID=Europe/Helsinki:20231124T173000
DTEND;TZID=Europe/Helsinki:20231126T173000
DTSTAMP:20260424T084350
CREATED:20240112T141419Z
LAST-MODIFIED:20240502T050032Z
UID:19546-1700847000-1701019800@info.mesip.pl
SUMMARY:9. Kleszczewskie Zaduszki z Kulturą
DESCRIPTION:
URL:https://info.mesip.pl/event/9-kleszczewskie-zaduszki-z-kultura/
LOCATION:ul. Poznańska 10\, ul. Poznańska 10   \, Kleszczewo\, Poland
CATEGORIES:Kultura i sztuka
END:VEVENT
BEGIN:VEVENT
DTSTART;TZID=Europe/Helsinki:20231126T090000
DTEND;TZID=Europe/Helsinki:20231126T090000
DTSTAMP:20260424T084350
CREATED:20240112T141437Z
LAST-MODIFIED:20240502T050039Z
UID:19585-1700989200-1700989200@info.mesip.pl
SUMMARY:Turniej Halowej Piłki Nożnej w Kostrzynie
DESCRIPTION:X Turniej Halowej Piłki Nożnej Walki Kostrzyn!
URL:https://info.mesip.pl/event/turniej-halowej-pilki-noznej-w-kostrzynie/
LOCATION:ul. Piasta 1\, ul. Piasta 1   \, Kostrzyn Wielkopolski\, Poland
CATEGORIES:Sport
END:VEVENT
BEGIN:VEVENT
DTSTART;TZID=Europe/Helsinki:20231126T093000
DTEND;TZID=Europe/Helsinki:20231126T093000
DTSTAMP:20260424T084350
CREATED:20240112T141519Z
LAST-MODIFIED:20240502T050059Z
UID:19688-1700991000-1700991000@info.mesip.pl
SUMMARY:Jesienny Turniej Piłki Siatkowej
DESCRIPTION:
URL:https://info.mesip.pl/event/jesienny-turniej-pilki-siatkowej/
LOCATION:ul. Polna\, ul. Polna   \, Dopiewo\, Poland
CATEGORIES:Sport
END:VEVENT
BEGIN:VEVENT
DTSTART;TZID=Europe/Helsinki:20231126T140000
DTEND;TZID=Europe/Helsinki:20231126T170000
DTSTAMP:20260424T084350
CREATED:20240112T141520Z
LAST-MODIFIED:20240502T050100Z
UID:19694-1701007200-1701018000@info.mesip.pl
SUMMARY:Zaczarowana zabawa
DESCRIPTION:Zaczarowana zabawa Andrzejkowo-Mikołajkowa
URL:https://info.mesip.pl/event/zaczarowana-zabawa/
LOCATION:ul. Przybrodzka 1\, ul. Przybrodzka 1   \, Cerekwica\, Poland
CATEGORIES:Rozrywka
END:VEVENT
BEGIN:VEVENT
DTSTART;TZID=Europe/Helsinki:20231126T160000
DTEND;TZID=Europe/Helsinki:20231126T160000
DTSTAMP:20260424T084350
CREATED:20240112T141437Z
LAST-MODIFIED:20240502T050040Z
UID:19588-1701014400-1701014400@info.mesip.pl
SUMMARY:Spotkanie autorskie z Marcinem Kostrzyńskim
DESCRIPTION:
URL:https://info.mesip.pl/event/spotkanie-autorskie-z-marcinem-kostrzynskim/
LOCATION:ul. Ogrodowa 2\, ul. Ogrodowa 2   \, Jankowice\, Poland
CATEGORIES:Ekologia
END:VEVENT
BEGIN:VEVENT
DTSTART;TZID=Europe/Helsinki:20231126T170000
DTEND;TZID=Europe/Helsinki:20231126T170000
DTSTAMP:20260424T084350
CREATED:20240112T141438Z
LAST-MODIFIED:20240502T050040Z
UID:19591-1701018000-1701018000@info.mesip.pl
SUMMARY:Max Cegielski - biesiada literacka
DESCRIPTION:
URL:https://info.mesip.pl/event/max-cegielski-biesiada-literacka/
LOCATION:Plac Parkowy 1\, Plac Parkowy 1   \, Skrzynki\, gm. Stęszew\, Poland
CATEGORIES:Kultura i sztuka
END:VEVENT
BEGIN:VEVENT
DTSTART;TZID=Europe/Helsinki:20231126T190000
DTEND;TZID=Europe/Helsinki:20231126T190000
DTSTAMP:20260424T084350
CREATED:20240112T141439Z
LAST-MODIFIED:20240502T050041Z
UID:19594-1701025200-1701025200@info.mesip.pl
SUMMARY:Koncert Czarno Czarni
DESCRIPTION:Koncert Czarno Czarni – Retro Party
URL:https://info.mesip.pl/event/koncert-czarno-czarni/
LOCATION:ul.  Piłsudskiego 3\, ul.  Piłsudskiego 3   \, Koziegłowy\, Poland
CATEGORIES:Kultura i sztuka
END:VEVENT
BEGIN:VEVENT
DTSTART;TZID=Europe/Helsinki:20231126T190000
DTEND;TZID=Europe/Helsinki:20231126T190000
DTSTAMP:20260424T084350
CREATED:20240112T141520Z
LAST-MODIFIED:20240502T050100Z
UID:19697-1701025200-1701025200@info.mesip.pl
SUMMARY:Colors of Jazz
DESCRIPTION:
URL:https://info.mesip.pl/event/colors-of-jazz/
LOCATION:Spokojna 3\, Spokojna 3   \, Jerzykowo\, Poland
CATEGORIES:Kultura i sztuka
END:VEVENT
END:VCALENDAR