BEGIN:VCALENDAR
VERSION:2.0
PRODID:-//MeSIP - ECPv6.15.13//NONSGML v1.0//EN
CALSCALE:GREGORIAN
METHOD:PUBLISH
X-WR-CALNAME:MeSIP
X-ORIGINAL-URL:https://info.mesip.pl
X-WR-CALDESC:Wydarzenia dla MeSIP
REFRESH-INTERVAL;VALUE=DURATION:PT1H
X-Robots-Tag:noindex
X-PUBLISHED-TTL:PT1H
BEGIN:VTIMEZONE
TZID:Europe/Helsinki
BEGIN:DAYLIGHT
TZOFFSETFROM:+0200
TZOFFSETTO:+0300
TZNAME:EEST
DTSTART:20220327T010000
END:DAYLIGHT
BEGIN:STANDARD
TZOFFSETFROM:+0300
TZOFFSETTO:+0200
TZNAME:EET
DTSTART:20221030T010000
END:STANDARD
BEGIN:DAYLIGHT
TZOFFSETFROM:+0200
TZOFFSETTO:+0300
TZNAME:EEST
DTSTART:20230326T010000
END:DAYLIGHT
BEGIN:STANDARD
TZOFFSETFROM:+0300
TZOFFSETTO:+0200
TZNAME:EET
DTSTART:20231029T010000
END:STANDARD
BEGIN:DAYLIGHT
TZOFFSETFROM:+0200
TZOFFSETTO:+0300
TZNAME:EEST
DTSTART:20240331T010000
END:DAYLIGHT
BEGIN:STANDARD
TZOFFSETFROM:+0300
TZOFFSETTO:+0200
TZNAME:EET
DTSTART:20241027T010000
END:STANDARD
BEGIN:DAYLIGHT
TZOFFSETFROM:+0200
TZOFFSETTO:+0300
TZNAME:EEST
DTSTART:20250330T010000
END:DAYLIGHT
BEGIN:STANDARD
TZOFFSETFROM:+0300
TZOFFSETTO:+0200
TZNAME:EET
DTSTART:20251026T010000
END:STANDARD
END:VTIMEZONE
BEGIN:VEVENT
DTSTART;VALUE=DATE:20231028
DTEND;VALUE=DATE:20240101
DTSTAMP:20260424T084350
CREATED:20240112T072618Z
LAST-MODIFIED:20240502T050016Z
UID:19081-1698451200-1704067140@info.mesip.pl
SUMMARY:Rogalin - wystawa
DESCRIPTION:
URL:https://info.mesip.pl/event/rogalin-wystawa/
LOCATION:Plac Parkowy 1\, Plac Parkowy 1   \, Skrzynki\, gm. Stęszew\, Poland
CATEGORIES:Kultura i sztuka
END:VEVENT
BEGIN:VEVENT
DTSTART;TZID=Europe/Helsinki:20231106T080000
DTEND;TZID=Europe/Helsinki:20231130T080000
DTSTAMP:20260424T084350
CREATED:20240112T141516Z
LAST-MODIFIED:20240502T050054Z
UID:19670-1699257600-1701331200@info.mesip.pl
SUMMARY:Ludzie – pytania – prawda - wystawa
DESCRIPTION:Wystawa obrazów i wierszy „Ludzie – pytania – prawda”
URL:https://info.mesip.pl/event/ludzie-pytania-prawda-wystawa/
LOCATION:ul. Mściszewska 10\, ul. Mściszewska 10   \, Murowana Goślina\, Poland
CATEGORIES:Kultura i sztuka
END:VEVENT
BEGIN:VEVENT
DTSTART;TZID=Europe/Helsinki:20231107T101500
DTEND;TZID=Europe/Helsinki:20240430T101500
DTSTAMP:20260424T084350
CREATED:20240112T072618Z
LAST-MODIFIED:20251222T222304Z
UID:19084-1699352100-1714472100@info.mesip.pl
SUMMARY:Wystawa - Nigdy Wojny
DESCRIPTION:Muzeum Martyrologiczne w Żabikowie zaprasza na nową wystawę oraz wydarzenia towarzyszące
URL:https://info.mesip.pl/event/wystawa-nigdy-wojny/
LOCATION:ul. Niezłomnych 2\, ul. Niezłomnych 2   \, Luboń\, Poland
CATEGORIES:Społeczne
END:VEVENT
BEGIN:VEVENT
DTSTART;TZID=Europe/Helsinki:20231108T173000
DTEND;TZID=Europe/Helsinki:20231129T173000
DTSTAMP:20260424T084350
CREATED:20240112T141517Z
LAST-MODIFIED:20240502T050055Z
UID:19673-1699464600-1701279000@info.mesip.pl
SUMMARY:Jakub Malinowski - wystawa w Mosinie
DESCRIPTION:
URL:https://info.mesip.pl/event/jakub-malinowski-wystawa-w-mosinie/
LOCATION:ul. Niezłomnych 1\, ul. Niezłomnych 1   \, Mosina\, Poland
CATEGORIES:Kultura i sztuka
END:VEVENT
BEGIN:VEVENT
DTSTART;VALUE=DATE:20231118
DTEND;VALUE=DATE:20231223
DTSTAMP:20260424T084350
CREATED:20240112T072646Z
LAST-MODIFIED:20240502T050020Z
UID:19103-1700265600-1703289540@info.mesip.pl
SUMMARY:Jarmark Świąteczny
DESCRIPTION:
URL:https://info.mesip.pl/event/jarmark-swiateczny/
LOCATION:ul. Głogowska 14\, ul. Głogowska 14   \, Poznań\, Poland
CATEGORIES:Rozrywka
END:VEVENT
BEGIN:VEVENT
DTSTART;TZID=Europe/Helsinki:20231124T173000
DTEND;TZID=Europe/Helsinki:20231126T173000
DTSTAMP:20260424T084350
CREATED:20240112T141419Z
LAST-MODIFIED:20240502T050032Z
UID:19546-1700847000-1701019800@info.mesip.pl
SUMMARY:9. Kleszczewskie Zaduszki z Kulturą
DESCRIPTION:
URL:https://info.mesip.pl/event/9-kleszczewskie-zaduszki-z-kultura/
LOCATION:ul. Poznańska 10\, ul. Poznańska 10   \, Kleszczewo\, Poland
CATEGORIES:Kultura i sztuka
END:VEVENT
BEGIN:VEVENT
DTSTART;TZID=Europe/Helsinki:20231125T090000
DTEND;TZID=Europe/Helsinki:20231125T140000
DTSTAMP:20260424T084350
CREATED:20240112T141518Z
LAST-MODIFIED:20240502T050059Z
UID:19685-1700902800-1700920800@info.mesip.pl
SUMMARY:Dzień Pluszowego Misia
DESCRIPTION:
URL:https://info.mesip.pl/event/dzien-pluszowego-misia/
LOCATION:ul. Szamotulska 29\, ul. Szamotulska 29   \, Rokietnica\, Poland
CATEGORIES:Społeczne
END:VEVENT
BEGIN:VEVENT
DTSTART;TZID=Europe/Helsinki:20231125T100000
DTEND;TZID=Europe/Helsinki:20231125T123000
DTSTAMP:20260424T084350
CREATED:20240112T141420Z
LAST-MODIFIED:20240502T050034Z
UID:19555-1700906400-1700915400@info.mesip.pl
SUMMARY:Spotkanie z trenerem psów
DESCRIPTION:Spotkanie z trenerem psów
URL:https://info.mesip.pl/event/spotkanie-z-trenerem-psow/
LOCATION:Osiedle Leśne\, Osiedle Leśne   \, Koziegłowy\, Poland
CATEGORIES:Edukacja
END:VEVENT
BEGIN:VEVENT
DTSTART;TZID=Europe/Helsinki:20231125T100000
DTEND;TZID=Europe/Helsinki:20231125T150000
DTSTAMP:20260424T084350
CREATED:20240112T141419Z
LAST-MODIFIED:20240502T050034Z
UID:19552-1700906400-1700924400@info.mesip.pl
SUMMARY:Festiwal Matematyki w Kórniku
DESCRIPTION:Festiwal Matematyki w Kórniku
URL:https://info.mesip.pl/event/festiwal-matematyki-w-korniku/
LOCATION:Ignacego Krasickiego 1\,  Ignacego Krasickiego 1   \, Kórnik\, Poland
CATEGORIES:Edukacja
END:VEVENT
BEGIN:VEVENT
DTSTART;TZID=Europe/Helsinki:20231125T110000
DTEND;TZID=Europe/Helsinki:20231125T110000
DTSTAMP:20260424T084350
CREATED:20240112T141420Z
LAST-MODIFIED:20240502T050035Z
UID:19558-1700910000-1700910000@info.mesip.pl
SUMMARY:Jesienne warsztaty w Trzeku
DESCRIPTION:Jesienne warsztaty w Trzeku
URL:https://info.mesip.pl/event/jesienne-warsztaty-w-trzeku/
LOCATION:ul. Czereśniowa 3\, ul. Czereśniowa 3   \, Trzek\, gmina Kostrzyn\, Poland
CATEGORIES:Ekologia
END:VEVENT
BEGIN:VEVENT
DTSTART;TZID=Europe/Helsinki:20231125T120000
DTEND;TZID=Europe/Helsinki:20231125T150000
DTSTAMP:20260424T084350
CREATED:20240112T141433Z
LAST-MODIFIED:20240502T050035Z
UID:19561-1700913600-1700924400@info.mesip.pl
SUMMARY:Moje korzenie moje tradycje - warsztaty
DESCRIPTION:
URL:https://info.mesip.pl/event/moje-korzenie-moje-tradycje-warsztaty/
LOCATION:Plac Parkowy 1\, Plac Parkowy 1   \, Skrzynki\, gm. Stęszew\, Poland
CATEGORIES:Rozrywka
END:VEVENT
BEGIN:VEVENT
DTSTART;TZID=Europe/Helsinki:20231125T120000
DTEND;TZID=Europe/Helsinki:20231125T150000
DTSTAMP:20260424T084350
CREATED:20240112T141433Z
LAST-MODIFIED:20240502T050036Z
UID:19564-1700913600-1700924400@info.mesip.pl
SUMMARY:Portret Kobiety - warsztaty arteterapeutyczne
DESCRIPTION:
URL:https://info.mesip.pl/event/portret-kobiety-warsztaty-arteterapeutyczne/
LOCATION:Plac Parkowy 1\, Plac Parkowy 1   \, Skrzynki\, gm. Stęszew\, Poland
CATEGORIES:Edukacja
END:VEVENT
BEGIN:VEVENT
DTSTART;TZID=Europe/Helsinki:20231125T160000
DTEND;TZID=Europe/Helsinki:20231125T180000
DTSTAMP:20260424T084350
CREATED:20240112T141434Z
LAST-MODIFIED:20240502T050037Z
UID:19570-1700928000-1700935200@info.mesip.pl
SUMMARY:Zabawa Andrzejkowa
DESCRIPTION:Zabawa Andrzejkowa
URL:https://info.mesip.pl/event/zabawa-andrzejkowa/
LOCATION:ul. Mściszewska 10\, ul. Mściszewska 10   \, Murowana Goślina\, Poland
CATEGORIES:Rozrywka
END:VEVENT
BEGIN:VEVENT
DTSTART;TZID=Europe/Helsinki:20231125T180000
DTEND;TZID=Europe/Helsinki:20231125T180000
DTSTAMP:20260424T084350
CREATED:20240112T141436Z
LAST-MODIFIED:20240502T050038Z
UID:19576-1700935200-1700935200@info.mesip.pl
SUMMARY:Andrzejkowy koncert Stanisławy Celińskiej
DESCRIPTION:Andrzejkowy koncert Stanisławy Celińskiej
URL:https://info.mesip.pl/event/andrzejkowy-koncert-stanislawy-celinskiej/
LOCATION:ul. Poznańska 33\, ul. Poznańska 33   \, Kostrzyn Wielkopolski\, Poland
CATEGORIES:Kultura i sztuka
END:VEVENT
BEGIN:VEVENT
DTSTART;TZID=Europe/Helsinki:20231125T180000
DTEND;TZID=Europe/Helsinki:20231125T180000
DTSTAMP:20260424T084350
CREATED:20240112T141436Z
LAST-MODIFIED:20240502T050038Z
UID:19579-1700935200-1700935200@info.mesip.pl
SUMMARY:Katarzynki
DESCRIPTION:
URL:https://info.mesip.pl/event/katarzynki/
LOCATION:ul. Szkolna 16\, ul. Szkolna 16   \, Suchy Las\, Poland
CATEGORIES:Kultura i sztuka
END:VEVENT
BEGIN:VEVENT
DTSTART;TZID=Europe/Helsinki:20231125T180000
DTEND;TZID=Europe/Helsinki:20231125T193000
DTSTAMP:20260424T084350
CREATED:20240112T141435Z
LAST-MODIFIED:20240502T050037Z
UID:19573-1700935200-1700940600@info.mesip.pl
SUMMARY:„Życie Jadzi według mnie”
DESCRIPTION:„Życie Jadzi według mnie”
URL:https://info.mesip.pl/event/zycie-jadzi-wedlug-mnie/
LOCATION:ul. Jana III Sobieskiego 97\, ul. Jana III Sobieskiego 97   \, Luboń\, Poland
CATEGORIES:Rozrywka
END:VEVENT
BEGIN:VEVENT
DTSTART;TZID=Europe/Helsinki:20231125T183000
DTEND;TZID=Europe/Helsinki:20231125T183000
DTSTAMP:20260424T084350
CREATED:20240112T141436Z
LAST-MODIFIED:20240502T050039Z
UID:19582-1700937000-1700937000@info.mesip.pl
SUMMARY:Farida w Dworze Skrzynki
DESCRIPTION:
URL:https://info.mesip.pl/event/farida-w-dworze-skrzynki/
LOCATION:Plac Parkowy 1\, Plac Parkowy 1   \, Skrzynki\, gm. Stęszew\, Poland
CATEGORIES:Kultura i sztuka
END:VEVENT
END:VCALENDAR