BEGIN:VCALENDAR
VERSION:2.0
PRODID:-//MeSIP - ECPv6.15.13//NONSGML v1.0//EN
CALSCALE:GREGORIAN
METHOD:PUBLISH
X-ORIGINAL-URL:https://info.mesip.pl
X-WR-CALDESC:Wydarzenia dla MeSIP
REFRESH-INTERVAL;VALUE=DURATION:PT1H
X-Robots-Tag:noindex
X-PUBLISHED-TTL:PT1H
BEGIN:VTIMEZONE
TZID:Europe/Helsinki
BEGIN:DAYLIGHT
TZOFFSETFROM:+0200
TZOFFSETTO:+0300
TZNAME:EEST
DTSTART:20220327T010000
END:DAYLIGHT
BEGIN:STANDARD
TZOFFSETFROM:+0300
TZOFFSETTO:+0200
TZNAME:EET
DTSTART:20221030T010000
END:STANDARD
BEGIN:DAYLIGHT
TZOFFSETFROM:+0200
TZOFFSETTO:+0300
TZNAME:EEST
DTSTART:20230326T010000
END:DAYLIGHT
BEGIN:STANDARD
TZOFFSETFROM:+0300
TZOFFSETTO:+0200
TZNAME:EET
DTSTART:20231029T010000
END:STANDARD
BEGIN:DAYLIGHT
TZOFFSETFROM:+0200
TZOFFSETTO:+0300
TZNAME:EEST
DTSTART:20240331T010000
END:DAYLIGHT
BEGIN:STANDARD
TZOFFSETFROM:+0300
TZOFFSETTO:+0200
TZNAME:EET
DTSTART:20241027T010000
END:STANDARD
BEGIN:DAYLIGHT
TZOFFSETFROM:+0200
TZOFFSETTO:+0300
TZNAME:EEST
DTSTART:20250330T010000
END:DAYLIGHT
BEGIN:STANDARD
TZOFFSETFROM:+0300
TZOFFSETTO:+0200
TZNAME:EET
DTSTART:20251026T010000
END:STANDARD
END:VTIMEZONE
BEGIN:VEVENT
DTSTART;TZID=Europe/Helsinki:20230916T000000
DTEND;TZID=Europe/Helsinki:20231120T000000
DTSTAMP:20260424T084451
CREATED:20230912T141835Z
LAST-MODIFIED:20240502T050014Z
UID:18764-1694822400-1700438400@info.mesip.pl
SUMMARY:Wystawa i wernisaż
DESCRIPTION:
URL:https://info.mesip.pl/event/wystawa-i-wernisaz/
LOCATION:Wierzbowa 162\, Wierzbowa 162   \, Wysogotowo\, Poland
CATEGORIES:Kultura i sztuka
END:VEVENT
BEGIN:VEVENT
DTSTART;VALUE=DATE:20231028
DTEND;VALUE=DATE:20240101
DTSTAMP:20260424T084451
CREATED:20240112T072618Z
LAST-MODIFIED:20240502T050016Z
UID:19081-1698451200-1704067140@info.mesip.pl
SUMMARY:Rogalin - wystawa
DESCRIPTION:
URL:https://info.mesip.pl/event/rogalin-wystawa/
LOCATION:Plac Parkowy 1\, Plac Parkowy 1   \, Skrzynki\, gm. Stęszew\, Poland
CATEGORIES:Kultura i sztuka
END:VEVENT
BEGIN:VEVENT
DTSTART;TZID=Europe/Helsinki:20231106T080000
DTEND;TZID=Europe/Helsinki:20231130T080000
DTSTAMP:20260424T084451
CREATED:20240112T141516Z
LAST-MODIFIED:20240502T050054Z
UID:19670-1699257600-1701331200@info.mesip.pl
SUMMARY:Ludzie – pytania – prawda - wystawa
DESCRIPTION:Wystawa obrazów i wierszy „Ludzie – pytania – prawda”
URL:https://info.mesip.pl/event/ludzie-pytania-prawda-wystawa/
LOCATION:ul. Mściszewska 10\, ul. Mściszewska 10   \, Murowana Goślina\, Poland
CATEGORIES:Kultura i sztuka
END:VEVENT
BEGIN:VEVENT
DTSTART;TZID=Europe/Helsinki:20231107T101500
DTEND;TZID=Europe/Helsinki:20240430T101500
DTSTAMP:20260424T084451
CREATED:20240112T072618Z
LAST-MODIFIED:20251222T222304Z
UID:19084-1699352100-1714472100@info.mesip.pl
SUMMARY:Wystawa - Nigdy Wojny
DESCRIPTION:Muzeum Martyrologiczne w Żabikowie zaprasza na nową wystawę oraz wydarzenia towarzyszące
URL:https://info.mesip.pl/event/wystawa-nigdy-wojny/
LOCATION:ul. Niezłomnych 2\, ul. Niezłomnych 2   \, Luboń\, Poland
CATEGORIES:Społeczne
END:VEVENT
BEGIN:VEVENT
DTSTART;TZID=Europe/Helsinki:20231108T173000
DTEND;TZID=Europe/Helsinki:20231129T173000
DTSTAMP:20260424T084451
CREATED:20240112T141517Z
LAST-MODIFIED:20240502T050055Z
UID:19673-1699464600-1701279000@info.mesip.pl
SUMMARY:Jakub Malinowski - wystawa w Mosinie
DESCRIPTION:
URL:https://info.mesip.pl/event/jakub-malinowski-wystawa-w-mosinie/
LOCATION:ul. Niezłomnych 1\, ul. Niezłomnych 1   \, Mosina\, Poland
CATEGORIES:Kultura i sztuka
END:VEVENT
BEGIN:VEVENT
DTSTART;TZID=Europe/Helsinki:20231117T170000
DTEND;TZID=Europe/Helsinki:20231117T190000
DTSTAMP:20260424T084451
CREATED:20240112T072632Z
LAST-MODIFIED:20240502T050018Z
UID:19090-1700240400-1700247600@info.mesip.pl
SUMMARY:Warsztaty Andrzejkowe
DESCRIPTION:Warsztaty Andrzejkowe
URL:https://info.mesip.pl/event/warsztaty-andrzejkowe/
LOCATION:Ignacego Krasickiego 1\,  Ignacego Krasickiego 1   \, Kórnik\, Poland
CATEGORIES:Rozrywka
END:VEVENT
BEGIN:VEVENT
DTSTART;TZID=Europe/Helsinki:20231117T170000
DTEND;TZID=Europe/Helsinki:20231118T170000
DTSTAMP:20260424T084451
CREATED:20240112T072619Z
LAST-MODIFIED:20240502T050017Z
UID:19087-1700240400-1700326800@info.mesip.pl
SUMMARY:Teatr w Mosinie
DESCRIPTION:
URL:https://info.mesip.pl/event/teatr-w-mosinie/
LOCATION:Dworcowa 4\,  Dworcowa 4   \, Mosina\, Poland
CATEGORIES:Kultura i sztuka
END:VEVENT
BEGIN:VEVENT
DTSTART;TZID=Europe/Helsinki:20231117T183000
DTEND;TZID=Europe/Helsinki:20231117T183000
DTSTAMP:20260424T084451
CREATED:20240112T072632Z
LAST-MODIFIED:20240502T050018Z
UID:19096-1700245800-1700245800@info.mesip.pl
SUMMARY:Duch Arktycznego Nomady
DESCRIPTION:
URL:https://info.mesip.pl/event/duch-arktycznego-nomady/
LOCATION:ul. Poznańska 10\, ul. Poznańska 10   \, Kleszczewo\, Poland
CATEGORIES:Turystyka i rekreacja
END:VEVENT
BEGIN:VEVENT
DTSTART;TZID=Europe/Helsinki:20231117T190000
DTEND;TZID=Europe/Helsinki:20231117T190000
DTSTAMP:20260424T084451
CREATED:20240112T072633Z
LAST-MODIFIED:20240502T050019Z
UID:19099-1700247600-1700247600@info.mesip.pl
SUMMARY:Komedia „Nago w kisielu"
DESCRIPTION:Komedia „Nago w kisielu”
URL:https://info.mesip.pl/event/komedia-nago-w-kisielu/
LOCATION:ul. Poznańska 14\, ul. Poznańska 14   \, Swarzędz\, Poland
CATEGORIES:Kultura i sztuka
END:VEVENT
END:VCALENDAR